From mboxrd@z Thu Jan 1 00:00:00 1970 Return-Path: Received: from mails.dpdk.org (mails.dpdk.org [217.70.189.124]) by inbox.dpdk.org (Postfix) with ESMTP id 698AB462A0 for ; Mon, 24 Feb 2025 00:34:24 +0100 (CET) Received: from mails.dpdk.org (localhost [127.0.0.1]) by mails.dpdk.org (Postfix) with ESMTP id 4919F40299; Mon, 24 Feb 2025 00:34:24 +0100 (CET) Received: from mail-yb1-f225.google.com (mail-yb1-f225.google.com [209.85.219.225]) by mails.dpdk.org (Postfix) with ESMTP id 668AB4025D for ; Mon, 24 Feb 2025 00:34:23 +0100 (CET) Received: by mail-yb1-f225.google.com with SMTP id 3f1490d57ef6-e5dcc3b0c77so3012162276.0 for ; Sun, 23 Feb 2025 15:34:23 -0800 (PST) DKIM-Signature: v=1; a=rsa-sha256; c=relaxed/relaxed; d=iol.unh.edu; s=unh-iol; t=1740353662; x=1740958462; darn=dpdk.org; h=references:in-reply-to:cc:to:from:subject:message-id:date:from:to :cc:subject:date:message-id:reply-to; bh=hBlwJ1J//SRCUoxdgmX+ANSzt4028+IONFTt5E5ojJQ=; b=KetIEtyg+6xsZ7izLIlleDjxDiXQO/jzQcJXQDbP5MPqpXF08YmWQi4eYKgk/fV0j4 5VB/b4lVuMsgzAzeiUbXcYOCA3AvhEr8i1huVIoTag3x461z6RGRTFmpUlEfkRhEA/ZA TcWbguslZ43O6g3yTwe/AAYvGh1fFE4g6ab2E= X-Google-DKIM-Signature: v=1; a=rsa-sha256; c=relaxed/relaxed; d=1e100.net; s=20230601; t=1740353662; x=1740958462; h=references:in-reply-to:cc:to:from:subject:message-id:date :x-gm-message-state:from:to:cc:subject:date:message-id:reply-to; bh=hBlwJ1J//SRCUoxdgmX+ANSzt4028+IONFTt5E5ojJQ=; b=mpKAS5IM6vmbiObj5Vz7Cmx42dGZQ51G1EFxW9L1OuvK7LvvAG0O0yjzaaclrSAlgX SllPpH8CD+XM9JGAQQ1vXdy7tUGcSP1qIsTPRxsbq0N7doZQtG8Vx3oGDA/5i6OCyycP vdZOcUc4S503BK07/IiTcs9jgpWfe1/kx6/soNkWRGshXdjO/oO6bOtwk3lepNIki2Uu Hgvbv8vx38f5y4RB4XqNgh/38EO6kZoY9tgGn0HTL6/i2a/GPjV6nS7cFDmqcrQ1kTgJ 1ArGETYtCwYuCNQvL9vFmEiOobNtzv5i7PFedXyy9UQS9HCgJNBOvWcLwSvbSQx6LZ6o 7KvQ== X-Gm-Message-State: AOJu0YytGx/y8axzYNCwaNeZO5bc4MUzTkQLFhKrCLphyKQyJmzuvuNj gACgxnOgOu3/7HRaV8BZ9X1uzIU1qg9NnawOBHKmUs7iiQDIM8wsOqiPPpqS1rLgj9eEfbxYj6C 3q8KxhV0oXkECgno7GV2ZMYtoos2NSG3q6EwkD7i42n9U8ua3HJh6oaeH X-Gm-Gg: ASbGncvHQc0Vqtz8X+4a1+swadDDWpzPluGWs8NJIPAH2R5RuBGXMJmOeuYcrfkUOYx rMdGgQivrwsWVShu0893G4TtuIOj3cet7mZl9M6THFq7tLrqqG8RiBT8D7jbieq4F4CfEQ6pYO9 a9KbYjdisZAi3RAXGkbuAPoMySqS66orcPqxLB8T6ix/DmhqD92urr/yezDaFlYQDiLpIu719Bw glYVKsah2YsULxH7YPbng+VuvkbGuGBO9TdzB/4k5qgQ0MdUTcoQPnOqFcesqXCGd52J+7V0VGW ecShmpmCpW4TwKZCWtC0b6t+vuG3qGAB2U6I/d2Q2cMv4HlpOvs4 X-Google-Smtp-Source: AGHT+IEaBfUxlCb/LlNcQwFBhlndwOhaaMAAQVIUG0eKEjwTrMOfvFd7wd1BbhQ5Tp6ZGIJT4bFSSYPeuWnu X-Received: by 2002:a05:6902:2389:b0:e5b:43e1:2e84 with SMTP id 3f1490d57ef6-e5e245b9c46mr9198334276.5.1740353662687; Sun, 23 Feb 2025 15:34:22 -0800 (PST) Received: from postal.iol.unh.edu (postal.iol.unh.edu. [2606:4100:3880:1234::84]) by smtp-relay.gmail.com with ESMTPS id 3f1490d57ef6-e5dae10b8c7sm1183729276.20.2025.02.23.15.34.22 (version=TLS1_2 cipher=ECDHE-ECDSA-AES128-GCM-SHA256 bits=128/128); Sun, 23 Feb 2025 15:34:22 -0800 (PST) X-Relaying-Domain: iol.unh.edu Date: Sun, 23 Feb 2025 15:34:22 -0800 (PST) Message-ID: <67bbb07e.250a0220.e424d.c05bSMTPIN_ADDED_MISSING@mx.google.com> Received: from [172.17.0.3] (unknown [172.18.0.217]) by postal.iol.unh.edu (Postfix) with ESMTP id 2F26E6052471; Sun, 23 Feb 2025 18:34:22 -0500 (EST) Subject: |SUCCESS| pw151870 [PATCH] [v2,1/1] pcapng: warn if NULL is passed t From: dpdklab@iol.unh.edu To: Test Report Cc: dpdk-test-reports@iol.unh.edu In-Reply-To: <20250223214123.447579-2-ariel.otilibili@6wind.com> References: <20250223214123.447579-2-ariel.otilibili@6wind.com> Content-Type: text/plain X-BeenThere: test-report@dpdk.org X-Mailman-Version: 2.1.29 Precedence: list List-Id: automatic DPDK test reports List-Unsubscribe: , List-Archive: List-Post: List-Help: List-Subscribe: , Errors-To: test-report-bounces@dpdk.org Test-Label: iol-compile-amd64-testing Test-Status: SUCCESS http://dpdk.org/patch/151870 _Testing PASS_ Submitter: Ariel Otilibili Date: Sunday, February 23 2025 21:41:23 DPDK git baseline: Repo:dpdk Branch: master CommitID:fab31a03ba98e7457284df95dd9eef2223a4ccaa 151870 --> testing pass Upstream job id: Generic-DPDK-Compile-Meson#364455 Test environment and result as below: +---------------------+--------------------+-------------------+------------------+-------------------------+-------------------+----------------------+ | Environment | dpdk_meson_compile | dpdk_compile_spdk | dpdk_compile_ovs | dpdk_llvm_clang_compile | dpdk_msvc_compile | dpdk_mingw64_compile | +=====================+====================+===================+==================+=========================+===================+======================+ | CentOS Stream 9 | PASS | PASS | SKIPPED | SKIPPED | SKIPPED | SKIPPED | +---------------------+--------------------+-------------------+------------------+-------------------------+-------------------+----------------------+ | Debian Bullseye | PASS | PASS | SKIPPED | SKIPPED | SKIPPED | SKIPPED | +---------------------+--------------------+-------------------+------------------+-------------------------+-------------------+----------------------+ | Debian 12 | PASS | PASS | SKIPPED | SKIPPED | SKIPPED | SKIPPED | +---------------------+--------------------+-------------------+------------------+-------------------------+-------------------+----------------------+ | CentOS Stream 10 | PASS | SKIPPED | SKIPPED | SKIPPED | SKIPPED | SKIPPED | +---------------------+--------------------+-------------------+------------------+-------------------------+-------------------+----------------------+ | Fedora 40 (Clang) | PASS | PASS | SKIPPED | SKIPPED | SKIPPED | SKIPPED | +---------------------+--------------------+-------------------+------------------+-------------------------+-------------------+----------------------+ | Fedora 40 | PASS | PASS | SKIPPED | SKIPPED | SKIPPED | SKIPPED | +---------------------+--------------------+-------------------+------------------+-------------------------+-------------------+----------------------+ | Fedora 41 (Clang) | PASS | PASS | PASS | SKIPPED | SKIPPED | SKIPPED | +---------------------+--------------------+-------------------+------------------+-------------------------+-------------------+----------------------+ | Fedora 41 | PASS | PASS | PASS | SKIPPED | SKIPPED | SKIPPED | +---------------------+--------------------+-------------------+------------------+-------------------------+-------------------+----------------------+ | openSUSE Leap 15 | PASS | SKIPPED | SKIPPED | SKIPPED | SKIPPED | SKIPPED | +---------------------+--------------------+-------------------+------------------+-------------------------+-------------------+----------------------+ | RHEL8 | PASS | SKIPPED | SKIPPED | SKIPPED | SKIPPED | SKIPPED | +---------------------+--------------------+-------------------+------------------+-------------------------+-------------------+----------------------+ | RHEL9 | PASS | SKIPPED | SKIPPED | SKIPPED | SKIPPED | SKIPPED | +---------------------+--------------------+-------------------+------------------+-------------------------+-------------------+----------------------+ | Ubuntu 20.04 | PASS | SKIPPED | SKIPPED | SKIPPED | SKIPPED | SKIPPED | +---------------------+--------------------+-------------------+------------------+-------------------------+-------------------+----------------------+ | Ubuntu 22.04 | PASS | PASS | SKIPPED | SKIPPED | SKIPPED | SKIPPED | +---------------------+--------------------+-------------------+------------------+-------------------------+-------------------+----------------------+ | Ubuntu 24.04 | PASS | PASS | PASS | SKIPPED | SKIPPED | SKIPPED | +---------------------+--------------------+-------------------+------------------+-------------------------+-------------------+----------------------+ | Alpine | PASS | SKIPPED | SKIPPED | SKIPPED | SKIPPED | SKIPPED | +---------------------+--------------------+-------------------+------------------+-------------------------+-------------------+----------------------+ | FreeBSD 13.4 | PASS | SKIPPED | SKIPPED | SKIPPED | SKIPPED | SKIPPED | +---------------------+--------------------+-------------------+------------------+-------------------------+-------------------+----------------------+ | FreeBSD 14.2 | PASS | SKIPPED | SKIPPED | SKIPPED | SKIPPED | SKIPPED | +---------------------+--------------------+-------------------+------------------+-------------------------+-------------------+----------------------+ | Windows Server 2022 | SKIPPED | SKIPPED | SKIPPED | PASS | PASS | PASS | +---------------------+--------------------+-------------------+------------------+-------------------------+-------------------+----------------------+ CentOS Stream 9 Kernel: Depends on container host Compiler: gcc 11.5.0 20240719 (Red Hat 11.5.0-2) Debian Bullseye Kernel: Depends on container host Compiler: gcc (Debian 10.2.1-6) 10.2.1 20210110 Debian 12 Kernel: Depends on container host Compiler: gcc (Debian 12.2.0-14) 12.2.0 CentOS Stream 10 Kernel: Depends on container host Compiler: gcc 14.2.1 20241104 (Red Hat 14.2.1-6) Fedora 40 (Clang) Kernel: Depends on container host Compiler: clang 18.1.8 (Fedora 18.1.8-1.fc40) Fedora 40 Kernel: Depends on container host Compiler: gcc 14.2.1 20240912 (Red Hat 14.2.1-3) Fedora 41 (Clang) Kernel: Depends on container host Compiler: clang 19.1.5 (Fedora 19.1.5-1.fc41) Fedora 41 Kernel: Depends on container host Compiler: gcc 14.2.1 20240912 (Red Hat 14.2.1-3) openSUSE Leap 15 Kernel: Depends on container host Compiler: gcc (SUSE Linux) 7.5.0 RHEL8 Kernel: Depends on container host Compiler: gcc 8.5.0 20210514 (Red Hat 8.5.0-22) RHEL9 Kernel: Depends on container host Compiler: gcc 11.5.0 20240719 (Red Hat 11.5.0-2) Ubuntu 20.04 Kernel: Depends on container host Compiler: gcc (Ubuntu 9.4.0-1ubuntu1~20.04.2) 9.4.0 Ubuntu 22.04 Kernel: Depends on container host Compiler: gcc (Ubuntu 11.4.0-1ubuntu1~22.04) 11.4.0 Ubuntu 24.04 Kernel: Depends on container host Compiler: gcc (Ubuntu 13.3.0-6ubuntu2~24.04) 13.3.0 Alpine Kernel: Depends on container host Compiler: gcc (Alpine 14.2.0) 14.2.0 FreeBSD 13.4 Kernel: 13.4-RELEASE-p1 Compiler: clang 18.1.6 FreeBSD 14.2 Kernel: 14.2-RELEASE Compiler: clang 18.1.6 Windows Server 2022 Kernel: 10.0.20348.2031 Compiler: clang 15.0.7, gcc 14.1.0 (MinGW), and MSVC VS 19.39.33521 To view detailed results, visit: https://lab.dpdk.org/results/dashboard/patchsets/32657/ UNH-IOL DPDK Community Lab To manage your email subscriptions, visit: https://lab.dpdk.org/results/dashboard/preferences/subscriptions/