From mboxrd@z Thu Jan 1 00:00:00 1970 Return-Path: Received: from mails.dpdk.org (mails.dpdk.org [217.70.189.124]) by inbox.dpdk.org (Postfix) with ESMTP id E49C5462A0 for ; Mon, 24 Feb 2025 00:49:32 +0100 (CET) Received: from mails.dpdk.org (localhost [127.0.0.1]) by mails.dpdk.org (Postfix) with ESMTP id C2A66402BC; Mon, 24 Feb 2025 00:49:32 +0100 (CET) Received: from mail-pj1-f98.google.com (mail-pj1-f98.google.com [209.85.216.98]) by mails.dpdk.org (Postfix) with ESMTP id 4386A40299 for ; Mon, 24 Feb 2025 00:49:31 +0100 (CET) Received: by mail-pj1-f98.google.com with SMTP id 98e67ed59e1d1-2fcce9bb0ecso7558695a91.3 for ; Sun, 23 Feb 2025 15:49:31 -0800 (PST) DKIM-Signature: v=1; a=rsa-sha256; c=relaxed/relaxed; d=iol.unh.edu; s=unh-iol; t=1740354570; x=1740959370; darn=dpdk.org; h=references:in-reply-to:cc:to:from:subject:message-id:date:from:to :cc:subject:date:message-id:reply-to; bh=8BjLwQ+ZcfhFreXF5Z3iiJCal4uS/dv46VCFK5kBbH4=; b=f/j4bht30ABzV8NWGxqfxgTLGDWmXoCKytP1aZHyT3f4DzsB2NxHKdw2KayKbsY7hU rQfE+jbe/dkFzmbRFkYUTyVFQdS/aI5U8280Ouskv+HxGyEBwZ4Y/Ij0TAad45aUmFh0 Aoctc79S1mwo78y8z9OnLD6apfbG2JzI8wonU= X-Google-DKIM-Signature: v=1; a=rsa-sha256; c=relaxed/relaxed; d=1e100.net; s=20230601; t=1740354570; x=1740959370; h=references:in-reply-to:cc:to:from:subject:message-id:date :x-gm-message-state:from:to:cc:subject:date:message-id:reply-to; bh=8BjLwQ+ZcfhFreXF5Z3iiJCal4uS/dv46VCFK5kBbH4=; b=Ximcccfrnzbf6wO3OJ7WDLsbVU0LhuVU+CjCmtfux6ateqjq9fpuyQZLEWhGH33pvR FPnjDC10sE83ZqmP0kjkqMx6tbWzf2IvC0FQrgV5C6R59xda2SZdIkU6zjUz96Y0KQC9 7x2IlQABmBoRmACwwIrm+BteX6HaN0pV1d6BA3+71oSJhFvbKwsMVpDNVfT9M4SutZWH TnY2UUHHZ3ikQHMdOWdF20zPUcalpxdDnUSrIo+UjVn9u8ION+nSaMNAcOnRZF2LdsfV LeZoqvkc/0tlkzVrkwc4UQeZmaKlLMa6q17FspZ3RivukI67JXTiIO1l5PDHXK4M6Xlz QOhA== X-Gm-Message-State: AOJu0Yw6F9mJ6HL+OqbI1LNeXjZ1yioQ916rFWaQDSWTkzDaemZQlGMh Nk4WQMeQNbM8qGfvW0aw4DL9eO4TjvCYctpYPW/yf1frtMvpiO7Dolzi4o2BZxhpdMfQ7Jrj4z9 CGjBeLmMbXZQshV36k6hJCvdMmZgpSrIgbsf9w/zB X-Gm-Gg: ASbGncukmCQnKYanhZ8oHWXENilevzD2xmZy2e1QD+88dmIyIVCht1KqxS3QvnSPc+6 uYGnwpwcn6V/8wV033zU7X8/oxOOSxiLlwNzundpBeGjj+CO7OFuTyFh3STbSjHub2IQtPSo6Hm 4Tx33Cg3emRe8NfgqmiuE5OJuGasSCNlvrA/uS8A6bYLgokcX6d2IkOAJMhUW/kcCu82TfLBj5V De0xe4W1bncvrA112BGNU7vZLClWThmVyMQ3hhIKtmjPwwKEVRRTZYUVb3N0TIs1LCxdx+DyFR8 tWmKzwZVbi2y8THExbOgmKHdOqOunvZ59+tUieIs X-Google-Smtp-Source: AGHT+IHKVvDmIpLDqAf9RfctrhWQpCtuteD/ga1i+K6QHW6REKB5sjyBMqypJWCdS8jaec9CnNB5fszeekRe X-Received: by 2002:a17:90b:1344:b0:2fc:a3b7:10a3 with SMTP id 98e67ed59e1d1-2fce7b083bbmr20564448a91.24.1740354570349; Sun, 23 Feb 2025 15:49:30 -0800 (PST) Received: from postal.iol.unh.edu (postal.iol.unh.edu. [132.177.123.84]) by smtp-relay.gmail.com with ESMTPS id 98e67ed59e1d1-2fceb02d39fsm494172a91.3.2025.02.23.15.49.30 (version=TLS1_2 cipher=ECDHE-ECDSA-AES128-GCM-SHA256 bits=128/128); Sun, 23 Feb 2025 15:49:30 -0800 (PST) X-Relaying-Domain: iol.unh.edu Date: Sun, 23 Feb 2025 15:49:30 -0800 (PST) Message-ID: <67bbb40a.170a0220.185df0.84d5SMTPIN_ADDED_MISSING@mx.google.com> Received: from [172.17.0.3] (unknown [172.18.0.217]) by postal.iol.unh.edu (Postfix) with ESMTP id 516526052471; Sun, 23 Feb 2025 18:49:29 -0500 (EST) Subject: |SUCCESS| pw151870 [PATCH] [v2,1/1] pcapng: warn if NULL is passed t From: dpdklab@iol.unh.edu To: Test Report Cc: dpdk-test-reports@iol.unh.edu In-Reply-To: <20250223214123.447579-2-ariel.otilibili@6wind.com> References: <20250223214123.447579-2-ariel.otilibili@6wind.com> Content-Type: text/plain X-BeenThere: test-report@dpdk.org X-Mailman-Version: 2.1.29 Precedence: list List-Id: automatic DPDK test reports List-Unsubscribe: , List-Archive: List-Post: List-Help: List-Subscribe: , Errors-To: test-report-bounces@dpdk.org Test-Label: iol-compile-arm64-testing Test-Status: SUCCESS http://dpdk.org/patch/151870 _Testing PASS_ Submitter: Ariel Otilibili Date: Sunday, February 23 2025 21:41:23 DPDK git baseline: Repo:dpdk Branch: master CommitID:fab31a03ba98e7457284df95dd9eef2223a4ccaa 151870 --> testing pass Upstream job id: Generic-DPDK-Compile-Meson#364431 Test environment and result as below: +----------------------------------------+--------------------+ | Environment | dpdk_meson_compile | +========================================+====================+ | Ubuntu 20.04 ARM SVE | PASS | +----------------------------------------+--------------------+ | Ubuntu 20.04 ARM GCC Cross Compile | PASS | +----------------------------------------+--------------------+ | RHEL9 (ARM) | PASS | +----------------------------------------+--------------------+ | Debian 12 with MUSDK | PASS | +----------------------------------------+--------------------+ | Fedora 40 (ARM) | PASS | +----------------------------------------+--------------------+ | Fedora 40 (ARM Clang) | PASS | +----------------------------------------+--------------------+ | Fedora 41 (ARM) | PASS | +----------------------------------------+--------------------+ | Ubuntu 20.04 (ARM) | PASS | +----------------------------------------+--------------------+ | Fedora 41 (ARM Clang) | PASS | +----------------------------------------+--------------------+ | Ubuntu 22.04 (ARM) | PASS | +----------------------------------------+--------------------+ | Ubuntu 24.04 (ARM) | PASS | +----------------------------------------+--------------------+ | CentOS Stream 9 (ARM) | PASS | +----------------------------------------+--------------------+ | CentOS Stream 10 (ARM) | PASS | +----------------------------------------+--------------------+ | Ubuntu 20.04 ARM Clang Cross Compile | PASS | +----------------------------------------+--------------------+ | Ubuntu 20.04 aarch32 GCC Cross Compile | PASS | +----------------------------------------+--------------------+ | Debian 12 (arm) | PASS | +----------------------------------------+--------------------+ | Debian 11 (Buster) (ARM) | PASS | +----------------------------------------+--------------------+ Ubuntu 20.04 ARM SVE Kernel: Depends on container host Compiler: gcc (Ubuntu 10.5.0-1ubuntu1~20.04) 10.5.0 Ubuntu 20.04 ARM GCC Cross Compile Kernel: Depends on container host Compiler: aarch64-linux-gnu-gcc (Ubuntu 9.4.0-1ubuntu1~20.04.2) 9.4.0 RHEL9 (ARM) Kernel: Depends on container host Compiler: gcc 11.5.0 20240719 (Red Hat 11.5.0-2) Debian 12 with MUSDK Kernel: Depends on container host Compiler: gcc (Debian 12.2.0-14) 12.2.0 Fedora 40 (ARM) Kernel: Depends on container host Compiler: gcc 14.2.1 20240912 (Red Hat 14.2.1-3) Fedora 40 (ARM Clang) Kernel: Depends on container host Compiler: clang 18.1.8 (Fedora 18.1.8-1.fc40) Fedora 41 (ARM) Kernel: Depends on container host Compiler: gcc 14.2.1 20240912 (Red Hat 14.2.1-3) Ubuntu 20.04 (ARM) Kernel: Depends on container host Compiler: gcc (Ubuntu 9.4.0-1ubuntu1~20.04.2) 9.4.0 Fedora 41 (ARM Clang) Kernel: Depends on container host Compiler: clang 19.1.5 (Fedora 19.1.5-1.fc41) Ubuntu 22.04 (ARM) Kernel: Depends on container host Compiler: gcc (Ubuntu 11.4.0-1ubuntu1~22.04) 11.4.0 Ubuntu 24.04 (ARM) Kernel: Depends on container host Compiler: gcc (Ubuntu 13.3.0-6ubuntu2~24.04) 13.3.0 CentOS Stream 9 (ARM) Kernel: Depends on container host Compiler: gcc 11.5.0 20240719 (Red Hat 11.5.0-2) CentOS Stream 10 (ARM) Kernel: Depends on container host Compiler: gcc 14.2.1 20241104 (Red Hat 14.2.1-6) Ubuntu 20.04 ARM Clang Cross Compile Kernel: Depends on container host Compiler: clang 10.0.0-4ubuntu1 Ubuntu 20.04 aarch32 GCC Cross Compile Kernel: Depends on container host Compiler: gcc 9.4.0 Debian 12 (arm) Kernel: Depends on container host Compiler: gcc (Debian 12.2.0-14) 12.2.0 Debian 11 (Buster) (ARM) Kernel: Depends on container host Compiler: gcc (Debian 10.2.1-6) 10.2.1 20210110 To view detailed results, visit: https://lab.dpdk.org/results/dashboard/patchsets/32657/ UNH-IOL DPDK Community Lab To manage your email subscriptions, visit: https://lab.dpdk.org/results/dashboard/preferences/subscriptions/