automatic DPDK test reports
 help / color / mirror / Atom feed
* |PENDING| [GIT MASTER] fab31a03ba98e7457284df95dd9eef2223a4ccaa
@ 2025-02-24  1:26 dpdklab
  0 siblings, 0 replies; 5+ messages in thread
From: dpdklab @ 2025-02-24  1:26 UTC (permalink / raw)
  To: Test Report; +Cc: dpdk-test-reports

_Testing pending_

Branch: dpdk

fab31a03ba98e7457284df95dd9eef2223a4ccaa --> testing pending

Upstream job id: Generic-DPDK-Compile-Meson#364457

Test environment and result as below:

+-------------------+--------------------+-------------------+------------------+
|    Environment    | dpdk_meson_compile | dpdk_compile_spdk | dpdk_compile_ovs |
+===================+====================+===================+==================+
| CentOS Stream 10  | PASS               | SKIPPED           | SKIPPED          |
+-------------------+--------------------+-------------------+------------------+
| CentOS Stream 9   | PEND               | PEND              | SKIPPED          |
+-------------------+--------------------+-------------------+------------------+
| Fedora 40 (Clang) | PEND               | PEND              | SKIPPED          |
+-------------------+--------------------+-------------------+------------------+
| Debian 12         | PEND               | PEND              | SKIPPED          |
+-------------------+--------------------+-------------------+------------------+
| Fedora 40         | PEND               | PEND              | SKIPPED          |
+-------------------+--------------------+-------------------+------------------+
| Debian Bullseye   | PEND               | PEND              | SKIPPED          |
+-------------------+--------------------+-------------------+------------------+
| RHEL8             | PEND               | SKIPPED           | SKIPPED          |
+-------------------+--------------------+-------------------+------------------+
| openSUSE Leap 15  | PEND               | SKIPPED           | SKIPPED          |
+-------------------+--------------------+-------------------+------------------+
| Fedora 41 (Clang) | PEND               | PEND              | PEND             |
+-------------------+--------------------+-------------------+------------------+
| Fedora 41         | PEND               | PEND              | PEND             |
+-------------------+--------------------+-------------------+------------------+


CentOS Stream 10
	Kernel: Depends on container host
	Compiler: gcc 14.2.1 20241104 (Red Hat 14.2.1-6)

CentOS Stream 9
	Kernel: Depends on container host
	Compiler: gcc 11.5.0 20240719 (Red Hat 11.5.0-2)

Fedora 40 (Clang)
	Kernel: Depends on container host
	Compiler: clang 18.1.8 (Fedora 18.1.8-1.fc40)

Debian 12
	Kernel: Depends on container host
	Compiler: gcc (Debian 12.2.0-14) 12.2.0

Fedora 40
	Kernel: Depends on container host
	Compiler: gcc 14.2.1 20240912 (Red Hat 14.2.1-3)

Debian Bullseye
	Kernel: Depends on container host
	Compiler: gcc (Debian 10.2.1-6) 10.2.1 20210110

RHEL8
	Kernel: Depends on container host
	Compiler: gcc 8.5.0 20210514 (Red Hat 8.5.0-22)

openSUSE Leap 15
	Kernel: Depends on container host
	Compiler: gcc (SUSE Linux) 7.5.0

Fedora 41 (Clang)
	Kernel: Depends on container host
	Compiler: clang 19.1.5 (Fedora 19.1.5-1.fc41)

Fedora 41
	Kernel: Depends on container host
	Compiler: gcc 14.2.1 20240912 (Red Hat 14.2.1-3)

To view detailed results, visit:
https://lab.dpdk.org/results/dashboard/tarballs/32690/

UNH-IOL DPDK Community Lab

To manage your email subscriptions, visit: 
https://lab.dpdk.org/results/dashboard/preferences/subscriptions/

^ permalink raw reply	[flat|nested] 5+ messages in thread

* |PENDING| [GIT MASTER] fab31a03ba98e7457284df95dd9eef2223a4ccaa
@ 2025-02-24  1:45 dpdklab
  0 siblings, 0 replies; 5+ messages in thread
From: dpdklab @ 2025-02-24  1:45 UTC (permalink / raw)
  To: Test Report; +Cc: dpdk-test-reports

_Testing pending_

Branch: dpdk

fab31a03ba98e7457284df95dd9eef2223a4ccaa --> testing pending

Upstream job id: Generic-DPDK-Compile-Meson#364475

Test environment and result as below:

+----------------------------------------+--------------------+
|              Environment               | dpdk_meson_compile |
+========================================+====================+
| Debian 12 with MUSDK                   | PASS               |
+----------------------------------------+--------------------+
| Ubuntu 20.04 ARM SVE                   | PEND               |
+----------------------------------------+--------------------+
| Fedora 40 (ARM Clang)                  | PEND               |
+----------------------------------------+--------------------+
| Fedora 40 (ARM)                        | PEND               |
+----------------------------------------+--------------------+
| Ubuntu 20.04 (ARM)                     | PEND               |
+----------------------------------------+--------------------+
| Fedora 41 (ARM)                        | PEND               |
+----------------------------------------+--------------------+
| Fedora 41 (ARM Clang)                  | PEND               |
+----------------------------------------+--------------------+
| Ubuntu 20.04 aarch32 GCC Cross Compile | PEND               |
+----------------------------------------+--------------------+
| Ubuntu 24.04 (ARM)                     | PEND               |
+----------------------------------------+--------------------+


Debian 12 with MUSDK
	Kernel: Depends on container host
	Compiler: gcc (Debian 12.2.0-14) 12.2.0

Ubuntu 20.04 ARM SVE
	Kernel: Depends on container host
	Compiler: gcc (Ubuntu 10.5.0-1ubuntu1~20.04) 10.5.0

Fedora 40 (ARM Clang)
	Kernel: Depends on container host
	Compiler: clang 18.1.8 (Fedora 18.1.8-1.fc40)

Fedora 40 (ARM)
	Kernel: Depends on container host
	Compiler: gcc 14.2.1 20240912 (Red Hat 14.2.1-3)

Ubuntu 20.04 (ARM)
	Kernel: Depends on container host
	Compiler: gcc (Ubuntu 9.4.0-1ubuntu1~20.04.2) 9.4.0

Fedora 41 (ARM)
	Kernel: Depends on container host
	Compiler: gcc 14.2.1 20240912 (Red Hat 14.2.1-3)

Fedora 41 (ARM Clang)
	Kernel: Depends on container host
	Compiler: clang 19.1.5 (Fedora 19.1.5-1.fc41)

Ubuntu 20.04 aarch32 GCC Cross Compile
	Kernel: Depends on container host
	Compiler: gcc 9.4.0

Ubuntu 24.04 (ARM)
	Kernel: Depends on container host
	Compiler: gcc (Ubuntu 13.3.0-6ubuntu2~24.04) 13.3.0

To view detailed results, visit:
https://lab.dpdk.org/results/dashboard/tarballs/32690/

UNH-IOL DPDK Community Lab

To manage your email subscriptions, visit: 
https://lab.dpdk.org/results/dashboard/preferences/subscriptions/

^ permalink raw reply	[flat|nested] 5+ messages in thread

* |PENDING| [GIT MASTER] fab31a03ba98e7457284df95dd9eef2223a4ccaa
@ 2025-02-24  1:22 dpdklab
  0 siblings, 0 replies; 5+ messages in thread
From: dpdklab @ 2025-02-24  1:22 UTC (permalink / raw)
  To: Test Report; +Cc: dpdk-test-reports

_Testing pending_

Branch: dpdk

fab31a03ba98e7457284df95dd9eef2223a4ccaa --> testing pending

Upstream job id: Generic-Unit-Test-DPDK#317699

Test environment and result as below:

+-----------------------------+----------------+---------------------------+------------------------------+--------------+
|         Environment         | dpdk_unit_test | cryptodev_sw_zuc_autotest | cryptodev_sw_snow3g_autotest | lpm_autotest |
+=============================+================+===========================+==============================+==============+
| 32-bit Ubuntu 22.04.4 (ARM) | PEND           | SKIPPED                   | SKIPPED                      | SKIPPED      |
+-----------------------------+----------------+---------------------------+------------------------------+--------------+
| CentOS Stream 10 (ARM)      | PEND           | SKIPPED                   | SKIPPED                      | SKIPPED      |
+-----------------------------+----------------+---------------------------+------------------------------+--------------+
| Debian 11 (Buster) (ARM)    | PEND           | SKIPPED                   | SKIPPED                      | SKIPPED      |
+-----------------------------+----------------+---------------------------+------------------------------+--------------+
| Debian 12 (arm)             | PEND           | PASS                      | PEND                         | SKIPPED      |
+-----------------------------+----------------+---------------------------+------------------------------+--------------+
| CentOS Stream 9 (ARM)       | PEND           | SKIPPED                   | SKIPPED                      | SKIPPED      |
+-----------------------------+----------------+---------------------------+------------------------------+--------------+
| Fedora 40 (ARM)             | PEND           | SKIPPED                   | SKIPPED                      | SKIPPED      |
+-----------------------------+----------------+---------------------------+------------------------------+--------------+
| Fedora 41 (ARM)             | PEND           | SKIPPED                   | SKIPPED                      | SKIPPED      |
+-----------------------------+----------------+---------------------------+------------------------------+--------------+
| Fedora 40 (ARM Clang)       | PEND           | SKIPPED                   | SKIPPED                      | SKIPPED      |
+-----------------------------+----------------+---------------------------+------------------------------+--------------+
| Ubuntu 22.04 (ARM)          | PEND           | SKIPPED                   | SKIPPED                      | SKIPPED      |
+-----------------------------+----------------+---------------------------+------------------------------+--------------+
| Fedora 41 (ARM Clang)       | PEND           | SKIPPED                   | SKIPPED                      | SKIPPED      |
+-----------------------------+----------------+---------------------------+------------------------------+--------------+
| Ubuntu 20.04 (ARM)          | PEND           | SKIPPED                   | SKIPPED                      | SKIPPED      |
+-----------------------------+----------------+---------------------------+------------------------------+--------------+
| RHEL9 (ARM)                 | PEND           | SKIPPED                   | SKIPPED                      | SKIPPED      |
+-----------------------------+----------------+---------------------------+------------------------------+--------------+
| Ubuntu 24.04 (ARM)          | PEND           | SKIPPED                   | SKIPPED                      | SKIPPED      |
+-----------------------------+----------------+---------------------------+------------------------------+--------------+
| Ubuntu 20.04 ARM SVE        | SKIPPED        | SKIPPED                   | SKIPPED                      | PEND         |
+-----------------------------+----------------+---------------------------+------------------------------+--------------+


32-bit Ubuntu 22.04.4 (ARM)
	Kernel: 5.15.83+ aarch64
	Compiler: gcc (Ubuntu 11.4.0-1ubuntu1~22.04) 11.4.0

CentOS Stream 10 (ARM)
	Kernel: Depends on container host
	Compiler: gcc 14.2.1 20241104 (Red Hat 14.2.1-6)

Debian 11 (Buster) (ARM)
	Kernel: Depends on container host
	Compiler: gcc (Debian 10.2.1-6) 10.2.1 20210110

Debian 12 (arm)
	Kernel: Depends on container host
	Compiler: gcc (Debian 12.2.0-14) 12.2.0

CentOS Stream 9 (ARM)
	Kernel: Depends on container host
	Compiler: gcc 11.5.0 20240719 (Red Hat 11.5.0-2)

Fedora 40 (ARM)
	Kernel: Depends on container host
	Compiler: gcc 14.2.1 20240912 (Red Hat 14.2.1-3)

Fedora 41 (ARM)
	Kernel: Depends on container host
	Compiler: gcc 14.2.1 20240912 (Red Hat 14.2.1-3)

Fedora 40 (ARM Clang)
	Kernel: Depends on container host
	Compiler: clang 18.1.8 (Fedora 18.1.8-1.fc40)

Ubuntu 22.04 (ARM)
	Kernel: Depends on container host
	Compiler: gcc (Ubuntu 11.4.0-1ubuntu1~22.04) 11.4.0

Fedora 41 (ARM Clang)
	Kernel: Depends on container host
	Compiler: clang 19.1.5 (Fedora 19.1.5-1.fc41)

Ubuntu 20.04 (ARM)
	Kernel: Depends on container host
	Compiler: gcc (Ubuntu 9.4.0-1ubuntu1~20.04.2) 9.4.0

RHEL9 (ARM)
	Kernel: Depends on container host
	Compiler: gcc 11.5.0 20240719 (Red Hat 11.5.0-2)

Ubuntu 24.04 (ARM)
	Kernel: Depends on container host
	Compiler: gcc (Ubuntu 13.3.0-6ubuntu2~24.04) 13.3.0

Ubuntu 20.04 ARM SVE
	Kernel: Depends on container host
	Compiler: gcc (Ubuntu 10.5.0-1ubuntu1~20.04) 10.5.0

To view detailed results, visit:
https://lab.dpdk.org/results/dashboard/tarballs/32690/

UNH-IOL DPDK Community Lab

To manage your email subscriptions, visit: 
https://lab.dpdk.org/results/dashboard/preferences/subscriptions/

^ permalink raw reply	[flat|nested] 5+ messages in thread

* |PENDING| [GIT MASTER] fab31a03ba98e7457284df95dd9eef2223a4ccaa
@ 2025-02-20  1:24 dpdklab
  0 siblings, 0 replies; 5+ messages in thread
From: dpdklab @ 2025-02-20  1:24 UTC (permalink / raw)
  To: Test Report; +Cc: dpdk-test-reports

_Testing pending_

Branch: dpdk

fab31a03ba98e7457284df95dd9eef2223a4ccaa --> testing pending

Upstream job id: Generic-Unit-Test-DPDK#316280

Test environment and result as below:

+-------------------+----------------+
|    Environment    | dpdk_unit_test |
+===================+================+
| CentOS Stream 10  | PEND           |
+-------------------+----------------+
| Debian Bullseye   | PASS           |
+-------------------+----------------+
| CentOS Stream 9   | PEND           |
+-------------------+----------------+
| Arch Linux        | PEND           |
+-------------------+----------------+
| Fedora 41         | PEND           |
+-------------------+----------------+
| Fedora 40 (Clang) | PEND           |
+-------------------+----------------+
| Debian 12         | PEND           |
+-------------------+----------------+
| RHEL8             | PEND           |
+-------------------+----------------+
| Fedora 40         | PEND           |
+-------------------+----------------+
| Fedora 41 (Clang) | PEND           |
+-------------------+----------------+
| RHEL9             | PEND           |
+-------------------+----------------+
| Ubuntu 20.04      | PEND           |
+-------------------+----------------+
| Ubuntu 24.04      | PEND           |
+-------------------+----------------+
| Ubuntu 22.04      | PEND           |
+-------------------+----------------+


CentOS Stream 10
	Kernel: Depends on container host
	Compiler: gcc 14.2.1 20241104 (Red Hat 14.2.1-6)

Debian Bullseye
	Kernel: Depends on container host
	Compiler: gcc (Debian 10.2.1-6) 10.2.1 20210110

CentOS Stream 9
	Kernel: Depends on container host
	Compiler: gcc 11.5.0 20240719 (Red Hat 11.5.0-2)

Arch Linux
	Kernel: Depends on container host
	Compiler: gcc 14.2.1 20240910

Fedora 41
	Kernel: Depends on container host
	Compiler: gcc 14.2.1 20240912 (Red Hat 14.2.1-3)

Fedora 40 (Clang)
	Kernel: Depends on container host
	Compiler: clang 18.1.8 (Fedora 18.1.8-1.fc40)

Debian 12
	Kernel: Depends on container host
	Compiler: gcc (Debian 12.2.0-14) 12.2.0

RHEL8
	Kernel: Depends on container host
	Compiler: gcc 8.5.0 20210514 (Red Hat 8.5.0-22)

Fedora 40
	Kernel: Depends on container host
	Compiler: gcc 14.2.1 20240912 (Red Hat 14.2.1-3)

Fedora 41 (Clang)
	Kernel: Depends on container host
	Compiler: clang 19.1.5 (Fedora 19.1.5-1.fc41)

RHEL9
	Kernel: Depends on container host
	Compiler: gcc 11.5.0 20240719 (Red Hat 11.5.0-2)

Ubuntu 20.04
	Kernel: Depends on container host
	Compiler: gcc (Ubuntu 9.4.0-1ubuntu1~20.04.2) 9.4.0

Ubuntu 24.04
	Kernel: Depends on container host
	Compiler: gcc (Ubuntu 13.3.0-6ubuntu2~24.04) 13.3.0

Ubuntu 22.04
	Kernel: Depends on container host
	Compiler: gcc (Ubuntu 11.4.0-1ubuntu1~22.04) 11.4.0

To view detailed results, visit:
https://lab.dpdk.org/results/dashboard/tarballs/32626/

UNH-IOL DPDK Community Lab

To manage your email subscriptions, visit: 
https://lab.dpdk.org/results/dashboard/preferences/subscriptions/

^ permalink raw reply	[flat|nested] 5+ messages in thread

* |PENDING| [GIT MASTER] fab31a03ba98e7457284df95dd9eef2223a4ccaa
@ 2025-02-20  1:24 dpdklab
  0 siblings, 0 replies; 5+ messages in thread
From: dpdklab @ 2025-02-20  1:24 UTC (permalink / raw)
  To: Test Report; +Cc: dpdk-test-reports

_Testing pending_

Branch: dpdk

fab31a03ba98e7457284df95dd9eef2223a4ccaa --> testing pending

Upstream job id: Generic-Unit-Test-DPDK#316273

Test environment and result as below:

+-----------------------------+----------------+---------------------------+------------------------------+--------------+
|         Environment         | dpdk_unit_test | cryptodev_sw_zuc_autotest | cryptodev_sw_snow3g_autotest | lpm_autotest |
+=============================+================+===========================+==============================+==============+
| 32-bit Ubuntu 22.04.4 (ARM) | PEND           | SKIPPED                   | SKIPPED                      | SKIPPED      |
+-----------------------------+----------------+---------------------------+------------------------------+--------------+
| Debian 11 (Buster) (ARM)    | PEND           | SKIPPED                   | SKIPPED                      | SKIPPED      |
+-----------------------------+----------------+---------------------------+------------------------------+--------------+
| CentOS Stream 9 (ARM)       | PEND           | SKIPPED                   | SKIPPED                      | SKIPPED      |
+-----------------------------+----------------+---------------------------+------------------------------+--------------+
| CentOS Stream 10 (ARM)      | PEND           | SKIPPED                   | SKIPPED                      | SKIPPED      |
+-----------------------------+----------------+---------------------------+------------------------------+--------------+
| Fedora 40 (ARM)             | PEND           | SKIPPED                   | SKIPPED                      | SKIPPED      |
+-----------------------------+----------------+---------------------------+------------------------------+--------------+
| Debian 12 (arm)             | PEND           | PASS                      | PEND                         | SKIPPED      |
+-----------------------------+----------------+---------------------------+------------------------------+--------------+
| Fedora 40 (ARM Clang)       | PEND           | SKIPPED                   | SKIPPED                      | SKIPPED      |
+-----------------------------+----------------+---------------------------+------------------------------+--------------+
| Fedora 41 (ARM)             | PEND           | SKIPPED                   | SKIPPED                      | SKIPPED      |
+-----------------------------+----------------+---------------------------+------------------------------+--------------+
| RHEL9 (ARM)                 | PEND           | SKIPPED                   | SKIPPED                      | SKIPPED      |
+-----------------------------+----------------+---------------------------+------------------------------+--------------+
| Fedora 41 (ARM Clang)       | PEND           | SKIPPED                   | SKIPPED                      | SKIPPED      |
+-----------------------------+----------------+---------------------------+------------------------------+--------------+
| Ubuntu 20.04 (ARM)          | PEND           | SKIPPED                   | SKIPPED                      | SKIPPED      |
+-----------------------------+----------------+---------------------------+------------------------------+--------------+
| Ubuntu 24.04 (ARM)          | PEND           | SKIPPED                   | SKIPPED                      | SKIPPED      |
+-----------------------------+----------------+---------------------------+------------------------------+--------------+
| Ubuntu 22.04 (ARM)          | PEND           | SKIPPED                   | SKIPPED                      | SKIPPED      |
+-----------------------------+----------------+---------------------------+------------------------------+--------------+
| Ubuntu 20.04 ARM SVE        | SKIPPED        | SKIPPED                   | SKIPPED                      | PEND         |
+-----------------------------+----------------+---------------------------+------------------------------+--------------+


32-bit Ubuntu 22.04.4 (ARM)
	Kernel: 5.15.83+ aarch64
	Compiler: gcc (Ubuntu 11.4.0-1ubuntu1~22.04) 11.4.0

Debian 11 (Buster) (ARM)
	Kernel: Depends on container host
	Compiler: gcc (Debian 10.2.1-6) 10.2.1 20210110

CentOS Stream 9 (ARM)
	Kernel: Depends on container host
	Compiler: gcc 11.5.0 20240719 (Red Hat 11.5.0-2)

CentOS Stream 10 (ARM)
	Kernel: Depends on container host
	Compiler: gcc 14.2.1 20241104 (Red Hat 14.2.1-6)

Fedora 40 (ARM)
	Kernel: Depends on container host
	Compiler: gcc 14.2.1 20240912 (Red Hat 14.2.1-3)

Debian 12 (arm)
	Kernel: Depends on container host
	Compiler: gcc (Debian 12.2.0-14) 12.2.0

Fedora 40 (ARM Clang)
	Kernel: Depends on container host
	Compiler: clang 18.1.8 (Fedora 18.1.8-1.fc40)

Fedora 41 (ARM)
	Kernel: Depends on container host
	Compiler: gcc 14.2.1 20240912 (Red Hat 14.2.1-3)

RHEL9 (ARM)
	Kernel: Depends on container host
	Compiler: gcc 11.5.0 20240719 (Red Hat 11.5.0-2)

Fedora 41 (ARM Clang)
	Kernel: Depends on container host
	Compiler: clang 19.1.5 (Fedora 19.1.5-1.fc41)

Ubuntu 20.04 (ARM)
	Kernel: Depends on container host
	Compiler: gcc (Ubuntu 9.4.0-1ubuntu1~20.04.2) 9.4.0

Ubuntu 24.04 (ARM)
	Kernel: Depends on container host
	Compiler: gcc (Ubuntu 13.3.0-6ubuntu2~24.04) 13.3.0

Ubuntu 22.04 (ARM)
	Kernel: Depends on container host
	Compiler: gcc (Ubuntu 11.4.0-1ubuntu1~22.04) 11.4.0

Ubuntu 20.04 ARM SVE
	Kernel: Depends on container host
	Compiler: gcc (Ubuntu 10.5.0-1ubuntu1~20.04) 10.5.0

To view detailed results, visit:
https://lab.dpdk.org/results/dashboard/tarballs/32626/

UNH-IOL DPDK Community Lab

To manage your email subscriptions, visit: 
https://lab.dpdk.org/results/dashboard/preferences/subscriptions/

^ permalink raw reply	[flat|nested] 5+ messages in thread

end of thread, other threads:[~2025-02-24  1:45 UTC | newest]

Thread overview: 5+ messages (download: mbox.gz / follow: Atom feed)
-- links below jump to the message on this page --
2025-02-24  1:26 |PENDING| [GIT MASTER] fab31a03ba98e7457284df95dd9eef2223a4ccaa dpdklab
  -- strict thread matches above, loose matches on Subject: below --
2025-02-24  1:45 dpdklab
2025-02-24  1:22 dpdklab
2025-02-20  1:24 dpdklab
2025-02-20  1:24 dpdklab

This is a public inbox, see mirroring instructions
for how to clone and mirror all data and code used for this inbox;
as well as URLs for NNTP newsgroup(s).