From mboxrd@z Thu Jan 1 00:00:00 1970 Return-Path: Received: from mails.dpdk.org (mails.dpdk.org [217.70.189.124]) by inbox.dpdk.org (Postfix) with ESMTP id BD10E462A2 for ; Mon, 24 Feb 2025 03:15:14 +0100 (CET) Received: from mails.dpdk.org (localhost [127.0.0.1]) by mails.dpdk.org (Postfix) with ESMTP id 94EDF402BC; Mon, 24 Feb 2025 03:15:14 +0100 (CET) Received: from mail-pl1-f227.google.com (mail-pl1-f227.google.com [209.85.214.227]) by mails.dpdk.org (Postfix) with ESMTP id 8475C40299 for ; Mon, 24 Feb 2025 03:15:13 +0100 (CET) Received: by mail-pl1-f227.google.com with SMTP id d9443c01a7336-221057b6ac4so70833535ad.2 for ; Sun, 23 Feb 2025 18:15:13 -0800 (PST) DKIM-Signature: v=1; a=rsa-sha256; c=relaxed/relaxed; d=iol.unh.edu; s=unh-iol; t=1740363312; x=1740968112; darn=dpdk.org; h=cc:to:from:subject:message-id:date:from:to:cc:subject:date :message-id:reply-to; bh=2ik3YybFsiecNln23LHXiXaEH7N8+7kAoQX0KIyUc7Y=; b=WDXJzH/pcMkavELVbS1yUlbEhlOs/Z6Otnw+Y79MTLRFnSQSZRPdqiq8jSYYcjVpei wRWMJKztE97GgiHg+L7PfSUnsg9O1AkKZpdjygJhV7SGdG6v9JTCs0YTdQrPfjWchPg9 xNZ4Fv6wooTS3Kn4zRj4J9gPxDg5OVg56XaaM= X-Google-DKIM-Signature: v=1; a=rsa-sha256; c=relaxed/relaxed; d=1e100.net; s=20230601; t=1740363312; x=1740968112; h=cc:to:from:subject:message-id:date:x-gm-message-state:from:to:cc :subject:date:message-id:reply-to; bh=2ik3YybFsiecNln23LHXiXaEH7N8+7kAoQX0KIyUc7Y=; b=HhzigVvNXvR12I7c5Q/aE+V1uusBmPY/O5aiMlrYYApYA9Vhlb4hqU/eadwHkSUF3O E/XUsX6W75gE6g1FqSMzxZCuYqAUWuW10T9rcRbZPj+KgFPwzEgmXBg7QSXO4Fgv9s7Q a3aYi4gWQAHOdAMZoQCALNWZgVvZqfd+wg6Fpgur2TY/Y87DqbKKKBXJ1Oo+lu4/uPBS Sd2EAqoz17CwBC4naSLNQHwO0YI2J/BrpPPNWTIUeMhy77EPjStOtRrrTWONbHxKuBbf wJLuDfPX8SHp7rFkXNt1mH9K8hvM7iLrmNZF5Ji9zcc9KEUUVdqj+xkZNJ6EgC9e8/Q8 of5Q== X-Gm-Message-State: AOJu0YzeYJL/Ndy6m+xuJyTcK3Z2izF9UE3dcWowCnk3Excg5WOS072B geB2SNq7emsbaWCbdL6lDTvcnPByvKA0YQQL+aaAk7lUptahThIikM+pOtNRRTGXKMTsRs1QsVP jdljzb7PX4jYlom40LyCNSRR31l0afHOLYp1e0It8 X-Gm-Gg: ASbGncu9EDYtstM90v1abIt5kYvCS1YVdYidyqvA2TBfKnyePYdMQWnfEdo6jhIe7zP th/ox3iheKEEYSlHPszEvl6KFkov9w1KQYg6isnYQ0KDsVOL4R+dn+WsZ/uplNkkuJqUvFaFd1/ 033r13SY5lZRQxDCU6xSH/36JSUMBedKHk4MVzSJMVCxxDPXyTUshwrnrhTevj/k3iRMUs4UgGg IMqStBXMr1svWwY5EcwvMvzMrSxXM36ur0g54M0oEPwvzMJwxdLlGYjDxIbnLTa9NUA0WH+LEYA Ppk+7N0TCMRtdKpnjpeEEBF72AHZm0e4bRsjIJqc X-Google-Smtp-Source: AGHT+IFzNy3N0aFfRSXd4cSKgHHDhbOhNd7tVhBHQ2ICh6Mx3QSiuIGWgPzzbMC7loRyJB5PoaQrxgC8tMKj X-Received: by 2002:a17:902:ccc7:b0:220:e8a1:c819 with SMTP id d9443c01a7336-221a1191665mr211022295ad.34.1740363311703; Sun, 23 Feb 2025 18:15:11 -0800 (PST) Received: from postal.iol.unh.edu (postal.iol.unh.edu. [132.177.123.84]) by smtp-relay.gmail.com with ESMTPS id d9443c01a7336-220d541c3e6sm11238075ad.106.2025.02.23.18.15.11 (version=TLS1_2 cipher=ECDHE-ECDSA-AES128-GCM-SHA256 bits=128/128); Sun, 23 Feb 2025 18:15:11 -0800 (PST) X-Relaying-Domain: iol.unh.edu Date: Sun, 23 Feb 2025 18:15:11 -0800 (PST) Message-ID: <67bbd62f.170a0220.341468.9b30SMTPIN_ADDED_MISSING@mx.google.com> Received: from [172.17.0.5] (unknown [172.18.0.217]) by postal.iol.unh.edu (Postfix) with ESMTP id 0DE756052471; Sun, 23 Feb 2025 21:15:11 -0500 (EST) Subject: |SUCCESS| [GIT MASTER] fab31a03ba98e7457284df95dd9eef2223a4ccaa From: dpdklab@iol.unh.edu To: Test Report Cc: dpdk-test-reports@iol.unh.edu Content-Type: text/plain X-BeenThere: test-report@dpdk.org X-Mailman-Version: 2.1.29 Precedence: list List-Id: automatic DPDK test reports List-Unsubscribe: , List-Archive: List-Post: List-Help: List-Subscribe: , Errors-To: test-report-bounces@dpdk.org _Testing PASS_ Branch: dpdk fab31a03ba98e7457284df95dd9eef2223a4ccaa --> testing pass Upstream job id: Generic-Unit-Test-DPDK#317716 Test environment and result as below: +---------------------+----------------+ | Environment | dpdk_unit_test | +=====================+================+ | Arch Linux | PASS | +---------------------+----------------+ | CentOS Stream 9 | PASS | +---------------------+----------------+ | Debian Bullseye | PASS | +---------------------+----------------+ | CentOS Stream 10 | PASS | +---------------------+----------------+ | Debian 12 | PASS | +---------------------+----------------+ | Fedora 40 | PASS | +---------------------+----------------+ | Fedora 41 | PASS | +---------------------+----------------+ | RHEL8 | PASS | +---------------------+----------------+ | Fedora 40 (Clang) | PASS | +---------------------+----------------+ | Ubuntu 24.04 | PASS | +---------------------+----------------+ | Ubuntu 20.04 | PASS | +---------------------+----------------+ | Ubuntu 22.04 | PASS | +---------------------+----------------+ | Fedora 41 (Clang) | PASS | +---------------------+----------------+ | RHEL9 | PASS | +---------------------+----------------+ | Windows Server 2022 | PASS | +---------------------+----------------+ Arch Linux Kernel: Depends on container host Compiler: gcc 14.2.1 20240910 CentOS Stream 9 Kernel: Depends on container host Compiler: gcc 11.5.0 20240719 (Red Hat 11.5.0-2) Debian Bullseye Kernel: Depends on container host Compiler: gcc (Debian 10.2.1-6) 10.2.1 20210110 CentOS Stream 10 Kernel: Depends on container host Compiler: gcc 14.2.1 20241104 (Red Hat 14.2.1-6) Debian 12 Kernel: Depends on container host Compiler: gcc (Debian 12.2.0-14) 12.2.0 Fedora 40 Kernel: Depends on container host Compiler: gcc 14.2.1 20240912 (Red Hat 14.2.1-3) Fedora 41 Kernel: Depends on container host Compiler: gcc 14.2.1 20240912 (Red Hat 14.2.1-3) RHEL8 Kernel: Depends on container host Compiler: gcc 8.5.0 20210514 (Red Hat 8.5.0-22) Fedora 40 (Clang) Kernel: Depends on container host Compiler: clang 18.1.8 (Fedora 18.1.8-1.fc40) Ubuntu 24.04 Kernel: Depends on container host Compiler: gcc (Ubuntu 13.3.0-6ubuntu2~24.04) 13.3.0 Ubuntu 20.04 Kernel: Depends on container host Compiler: gcc (Ubuntu 9.4.0-1ubuntu1~20.04.2) 9.4.0 Ubuntu 22.04 Kernel: Depends on container host Compiler: gcc (Ubuntu 11.4.0-1ubuntu1~22.04) 11.4.0 Fedora 41 (Clang) Kernel: Depends on container host Compiler: clang 19.1.5 (Fedora 19.1.5-1.fc41) RHEL9 Kernel: Depends on container host Compiler: gcc 11.5.0 20240719 (Red Hat 11.5.0-2) Windows Server 2022 Kernel: 10.0.20348.2031 Compiler: clang 15.0.7, gcc 14.1.0 (MinGW), and MSVC VS 19.39.33521 To view detailed results, visit: https://lab.dpdk.org/results/dashboard/tarballs/32690/ UNH-IOL DPDK Community Lab To manage your email subscriptions, visit: https://lab.dpdk.org/results/dashboard/preferences/subscriptions/