From mboxrd@z Thu Jan 1 00:00:00 1970 Return-Path: Received: from mails.dpdk.org (mails.dpdk.org [217.70.189.124]) by inbox.dpdk.org (Postfix) with ESMTP id 398FA462A2 for ; Mon, 24 Feb 2025 03:19:50 +0100 (CET) Received: from mails.dpdk.org (localhost [127.0.0.1]) by mails.dpdk.org (Postfix) with ESMTP id 1B2BC402BC; Mon, 24 Feb 2025 03:19:50 +0100 (CET) Received: from mail-io1-f100.google.com (mail-io1-f100.google.com [209.85.166.100]) by mails.dpdk.org (Postfix) with ESMTP id E23AC40299 for ; Mon, 24 Feb 2025 03:19:48 +0100 (CET) Received: by mail-io1-f100.google.com with SMTP id ca18e2360f4ac-855a7e3be0eso92519939f.1 for ; Sun, 23 Feb 2025 18:19:48 -0800 (PST) DKIM-Signature: v=1; a=rsa-sha256; c=relaxed/relaxed; d=iol.unh.edu; s=unh-iol; t=1740363588; x=1740968388; darn=dpdk.org; h=cc:to:from:subject:message-id:date:from:to:cc:subject:date :message-id:reply-to; bh=JaudalpVyVlp7x0XFY4jKRnThM2XmnEsM99ocVVgKMg=; b=BDcDn2DnOc1bU3fokA1rlWAhFcXm07wHOn8Z6fN2B/HkOBkGD8oF8G5Z5UIuaXCpur J9lNKI6ArGLB3EoP17zAoIIdWipBchd1eGP0qCBYbCNb05jqcGGoX7nP/uHMnf0ax5IX zTqz0q9c7MDUslmBkrLePx5xbHQEJKKPZb+rY= X-Google-DKIM-Signature: v=1; a=rsa-sha256; c=relaxed/relaxed; d=1e100.net; s=20230601; t=1740363588; x=1740968388; h=cc:to:from:subject:message-id:date:x-gm-message-state:from:to:cc :subject:date:message-id:reply-to; bh=JaudalpVyVlp7x0XFY4jKRnThM2XmnEsM99ocVVgKMg=; b=rkV6Qz7BDg0DxuXEvMLSKgRZ6ByeROxB2KFjn7vNNbvT6sCt3l8c13vqnKbx35+yz4 M4Kh2NQfluZFwxNUHxlvTLh5Znz00AtGjv5zCOPODIPlLQVZ+WGonpqBeJjgDOvvX3TT hVvqt4lETl43q9AJpTuelT5mI7/5L7ptyAJEGtEw7i7mg0Zt12skCUFR2iJv4ZBsqlMa tRqv/mdvsXDYvrB3r0T4Njq23KuU917VSqLKyWkALoPIIKw2mWSzXiZbLlqZWxzmB743 X+TCYUX2JbzCWdUg2cr1h1QmUdI4VvJOqK9eqWQYbyqmW3xyCSvl00WFxrlQUCl1ezCo CNdA== X-Gm-Message-State: AOJu0Yyt31RpZiCGniYiVJvzVJfxfqw4OZRGfBBZXIqossqBaRsyfkAE I1bRdfQE+/LG9pq5QjUgjOLv4fVVB4iwoy/OyJ2YRHFBxT3pZC4g+HcL7tz2ONKRwqeubLvFSJg bc7M+8GLPOBfGN5FZ38XVl61Vz7gGPVWiMPCtKjsb2fszFjKc4Cuc4oEc X-Gm-Gg: ASbGnctt/II/gVAl72Q5sdYDMF324CjA56OKA5esgsz/dDBB65XhUpuChUCIiOPrZeo ZE4fzclvNWcOEOilXXG2aVd5zr/ECbRjgbVlpysDpitN0muCgR8Uuzz7Ugb+6jKfVhfG9mtOrZp 6R3OgIbrCBE/rTHVTYYShtkwPD3oEALnI+rmls62+Ang/XgPs1TaF36pgQ0z81OoWGmgbVxrV9U oT6R64meoqaas8VB+VIUJzGLQLk+zu9Y3GzZqCO9Bbbxb+rdwW3+B6FiC/57rl4JTu5ojQixeOS OpD1wmgyUbh9+UtOsxOboPF9/6kCjBdGO0mCGTOqGhWstnTmLcwL X-Google-Smtp-Source: AGHT+IGYo09e2Tx48C04oIOLplp7LoVKsJQ9L3go6EWfC5CbUvLhFd+5weQjVIfvchQtka6ARwc5sAL7xaEk X-Received: by 2002:a05:6602:13c2:b0:855:b5fe:3fb7 with SMTP id ca18e2360f4ac-855da9f28b1mr1140780439f.7.1740363588180; Sun, 23 Feb 2025 18:19:48 -0800 (PST) Received: from postal.iol.unh.edu (postal.iol.unh.edu. [2606:4100:3880:1234::84]) by smtp-relay.gmail.com with ESMTPS id ca18e2360f4ac-855aacefad6sm58802139f.14.2025.02.23.18.19.48 (version=TLS1_2 cipher=ECDHE-ECDSA-AES128-GCM-SHA256 bits=128/128); Sun, 23 Feb 2025 18:19:48 -0800 (PST) X-Relaying-Domain: iol.unh.edu Date: Sun, 23 Feb 2025 18:19:48 -0800 (PST) Message-ID: <67bbd744.050a0220.1679bd.d6d4SMTPIN_ADDED_MISSING@mx.google.com> Received: from [172.17.0.5] (unknown [172.18.0.217]) by postal.iol.unh.edu (Postfix) with ESMTP id 9277F6052471; Sun, 23 Feb 2025 21:19:47 -0500 (EST) Subject: |SUCCESS| [GIT MASTER] fab31a03ba98e7457284df95dd9eef2223a4ccaa From: dpdklab@iol.unh.edu To: Test Report Cc: dpdk-test-reports@iol.unh.edu Content-Type: text/plain X-BeenThere: test-report@dpdk.org X-Mailman-Version: 2.1.29 Precedence: list List-Id: automatic DPDK test reports List-Unsubscribe: , List-Archive: List-Post: List-Help: List-Subscribe: , Errors-To: test-report-bounces@dpdk.org _Testing PASS_ Branch: dpdk fab31a03ba98e7457284df95dd9eef2223a4ccaa --> testing pass Upstream job id: ACVP-FIPS-testing#9019 Test environment and result as below: +--------------------+----------------------+----------------------+ | Environment | compressdev_zlib_pmd | dpdk_fips_validation | +====================+======================+======================+ | Ubuntu 22.04 (ARM) | PASS | SKIPPED | +--------------------+----------------------+----------------------+ | Ubuntu 22.04 | PASS | SKIPPED | +--------------------+----------------------+----------------------+ | Ubuntu 20.04 | SKIPPED | PASS | +--------------------+----------------------+----------------------+ Ubuntu 22.04 (ARM) Kernel: 5.15.0-97-generic Compiler: gcc gcc (Ubuntu 11.4.0-1ubuntu1~22.04) 11.4.0 Ubuntu 22.04 Kernel: 5.15.0-100-generic Compiler: gcc gcc (Ubuntu 11.4.0-1ubuntu1~22.04) 11.4.0 Ubuntu 20.04 Kernel: Depends on container host Compiler: gcc (Ubuntu 9.4.0-1ubuntu1~20.04.2) 9.4.0 To view detailed results, visit: https://lab.dpdk.org/results/dashboard/tarballs/32690/ UNH-IOL DPDK Community Lab To manage your email subscriptions, visit: https://lab.dpdk.org/results/dashboard/preferences/subscriptions/