From mboxrd@z Thu Jan 1 00:00:00 1970 Return-Path: Received: from mails.dpdk.org (mails.dpdk.org [217.70.189.124]) by inbox.dpdk.org (Postfix) with ESMTP id 0D58B462A2 for ; Mon, 24 Feb 2025 03:28:56 +0100 (CET) Received: from mails.dpdk.org (localhost [127.0.0.1]) by mails.dpdk.org (Postfix) with ESMTP id D4D70402BC; Mon, 24 Feb 2025 03:28:55 +0100 (CET) Received: from mail-pl1-f227.google.com (mail-pl1-f227.google.com [209.85.214.227]) by mails.dpdk.org (Postfix) with ESMTP id 7DEE140299 for ; Mon, 24 Feb 2025 03:28:54 +0100 (CET) Received: by mail-pl1-f227.google.com with SMTP id d9443c01a7336-22128b7d587so72574165ad.3 for ; Sun, 23 Feb 2025 18:28:54 -0800 (PST) DKIM-Signature: v=1; a=rsa-sha256; c=relaxed/relaxed; d=iol.unh.edu; s=unh-iol; t=1740364133; x=1740968933; darn=dpdk.org; h=cc:to:from:subject:message-id:date:from:to:cc:subject:date :message-id:reply-to; bh=70ChPKijHvhEYPUfx8Ws05z0yOhRruEKB6q2HMh51z0=; b=XVEkU7xVzmvucMYfQwXmI/VkAlKq7cqu0x8ewj+Iwy/t9ik1wkr0p0rVjeM4wgDCoO OwCDXpeEjMa1cVSxs69V7o4yyUNb7OMa8CSNHCKxGfdFJvMd2/rXEKFy2CzfDTRA/O3i 0WeLMAZ8oTOl2ODN8I1cf+KS3yQ7RCD4qQwxc= X-Google-DKIM-Signature: v=1; a=rsa-sha256; c=relaxed/relaxed; d=1e100.net; s=20230601; t=1740364133; x=1740968933; h=cc:to:from:subject:message-id:date:x-gm-message-state:from:to:cc :subject:date:message-id:reply-to; bh=70ChPKijHvhEYPUfx8Ws05z0yOhRruEKB6q2HMh51z0=; b=vTycBbYdku2TSxlwr3jfb3mpHp2zfXnHSR1IXuJESfM5laXMLtduSDrO02gMhUmfK6 cCHoYGPvQKax/zTdrRNiCGldtdOTctQJJ6j7AY6ml5FPYRJTC4YGy/6sRenUDC4NRBIj S55e/xFBsPVLnyTbzLco9JalVlyUgcXaMJP/Co0z13gocy98sh014c0wi5wtvh6MGZ6Y UCBMlIFs+jX8xByzWmXJP5/xYWDB4uzHpF3VqLbqcVxERJkoUtX4KWDwf2Y3ZdBcrZTg p9lYyhaASGOeWhI5WggkzlfwNuuudWV9z4O9goInqlqurRtkO5mbvvI3kSlUIwggpucZ CVKQ== X-Gm-Message-State: AOJu0Yy8s1oZDBaLwM2KfvV0egjiWxrrUCzDYnRc2UvkKT0kS1Psdsm7 QeQpUZPRSF/yy5G2RG+87iVvnwbXjJQLHk9BG3F6DiBnqEE10Ayq69LrRNY+kYYi3uvVwrLQYil 3iDhN/Rang9ysMZUcBJw5isrGSfE1/f+WS5YwC8L1 X-Gm-Gg: ASbGncvHCaSsrBP8FuQzfl2TRVwEMIjRjuQfBUdTV8fy0xEgg659t5ZAydl84PdBNev QL5/DqPzrdSbHawS2Z4dCMJ3CPD62d5mdvRWfeBigOWJmrh+hwp7lngT92pIvVPZpasTBYKdt4p GIJnkgt7TK54yyEfuWfnoFGPTJ/ISQMDSeXP2qCdNdabAJSV9d4URbh1COf6oLo0PXk5ToBR9D6 i/jMXwJaTItE2AV9+t23uhTZnpd9eSB0hX2xmX2VQmA8a2bryMaPMpyuVINiq5h9EvE0QNBpits DXWKqSqacR0T5T+Ur+1vQPLK0APpGdJ0QYc7uQ4x X-Google-Smtp-Source: AGHT+IFhNqNp0Rb3gJAnWnoN/oz7W1Bfu6wLl8faFoK1I+Ii2tRMSQy8V+S1dC9UazAidDzb14k1o7uBWiie X-Received: by 2002:a05:6a00:22c5:b0:732:2170:b6a3 with SMTP id d2e1a72fcca58-73426d963b2mr20964316b3a.21.1740364133620; Sun, 23 Feb 2025 18:28:53 -0800 (PST) Received: from postal.iol.unh.edu (postal.iol.unh.edu. [132.177.123.84]) by smtp-relay.gmail.com with ESMTPS id d2e1a72fcca58-732773f58f3sm1177971b3a.23.2025.02.23.18.28.53 (version=TLS1_2 cipher=ECDHE-ECDSA-AES128-GCM-SHA256 bits=128/128); Sun, 23 Feb 2025 18:28:53 -0800 (PST) X-Relaying-Domain: iol.unh.edu Date: Sun, 23 Feb 2025 18:28:53 -0800 (PST) Message-ID: <67bbd965.050a0220.207ea1.9cedSMTPIN_ADDED_MISSING@mx.google.com> Received: from [172.17.0.3] (unknown [172.18.0.217]) by postal.iol.unh.edu (Postfix) with ESMTP id 9EB576052471; Sun, 23 Feb 2025 21:28:52 -0500 (EST) Subject: |SUCCESS| [GIT MASTER] fab31a03ba98e7457284df95dd9eef2223a4ccaa From: dpdklab@iol.unh.edu To: Test Report Cc: dpdk-test-reports@iol.unh.edu Content-Type: text/plain X-BeenThere: test-report@dpdk.org X-Mailman-Version: 2.1.29 Precedence: list List-Id: automatic DPDK test reports List-Unsubscribe: , List-Archive: List-Post: List-Help: List-Subscribe: , Errors-To: test-report-bounces@dpdk.org _Testing PASS_ Branch: dpdk fab31a03ba98e7457284df95dd9eef2223a4ccaa --> testing pass Upstream job id: Generic-DPDK-Compile-ABI#117386 Test environment and result as below: +-------------------+----------+ | Environment | abi_test | +===================+==========+ | CentOS Stream 9 | PASS | +-------------------+----------+ | CentOS Stream 10 | PASS | +-------------------+----------+ | Debian Bullseye | PASS | +-------------------+----------+ | Fedora 40 (Clang) | PASS | +-------------------+----------+ | Debian 12 | PASS | +-------------------+----------+ | Fedora 40 | PASS | +-------------------+----------+ | Fedora 41 (Clang) | PASS | +-------------------+----------+ | RHEL9 | PASS | +-------------------+----------+ | Arch Linux | PASS | +-------------------+----------+ | Fedora 41 | PASS | +-------------------+----------+ | RHEL8 | PASS | +-------------------+----------+ | openSUSE Leap 15 | PASS | +-------------------+----------+ | Ubuntu 24.04 | PASS | +-------------------+----------+ | Ubuntu 22.04 | PASS | +-------------------+----------+ CentOS Stream 9 Kernel: Depends on container host Compiler: gcc 11.5.0 20240719 (Red Hat 11.5.0-2) CentOS Stream 10 Kernel: Depends on container host Compiler: gcc 14.2.1 20241104 (Red Hat 14.2.1-6) Debian Bullseye Kernel: Depends on container host Compiler: gcc (Debian 10.2.1-6) 10.2.1 20210110 Fedora 40 (Clang) Kernel: Depends on container host Compiler: clang 18.1.8 (Fedora 18.1.8-1.fc40) Debian 12 Kernel: Depends on container host Compiler: gcc (Debian 12.2.0-14) 12.2.0 Fedora 40 Kernel: Depends on container host Compiler: gcc 14.2.1 20240912 (Red Hat 14.2.1-3) Fedora 41 (Clang) Kernel: Depends on container host Compiler: clang 19.1.5 (Fedora 19.1.5-1.fc41) RHEL9 Kernel: Depends on container host Compiler: gcc 11.5.0 20240719 (Red Hat 11.5.0-2) Arch Linux Kernel: Depends on container host Compiler: gcc 14.2.1 20240910 Fedora 41 Kernel: Depends on container host Compiler: gcc 14.2.1 20240912 (Red Hat 14.2.1-3) RHEL8 Kernel: Depends on container host Compiler: gcc 8.5.0 20210514 (Red Hat 8.5.0-22) openSUSE Leap 15 Kernel: Depends on container host Compiler: gcc (SUSE Linux) 7.5.0 Ubuntu 24.04 Kernel: Depends on container host Compiler: gcc (Ubuntu 13.3.0-6ubuntu2~24.04) 13.3.0 Ubuntu 22.04 Kernel: Depends on container host Compiler: gcc (Ubuntu 11.4.0-1ubuntu1~22.04) 11.4.0 To view detailed results, visit: https://lab.dpdk.org/results/dashboard/tarballs/32690/ UNH-IOL DPDK Community Lab To manage your email subscriptions, visit: https://lab.dpdk.org/results/dashboard/preferences/subscriptions/