From: dpdklab@iol.unh.edu
To: Test Report <test-report@dpdk.org>
Cc: dpdk-test-reports@iol.unh.edu, Xueming Li <xuemingl@nvidia.com>,
Christian Ehrhardt <christian.ehrhardt@canonical.com>,
Kevin Traynor <ktraynor@redhat.com>,
Luca Boccassi <bluca@debian.org>
Subject: |SUCCESS| [GIT MASTER] 6007ad519cfb8d6a81356a171c4a2b5f9a33d4fd
Date: Sun, 23 Feb 2025 23:36:39 -0800 (PST) [thread overview]
Message-ID: <67bc2187.050a0220.617a.1dfcSMTPIN_ADDED_MISSING@mx.google.com> (raw)
_Testing PASS_
Branch: tags/v22.11
6007ad519cfb8d6a81356a171c4a2b5f9a33d4fd --> testing pass
Upstream job id: Generic-Unit-Test-DPDK#317740
Test environment and result as below:
+-----------------------------+----------------+---------------------------+--------------+------------------------------+
| Environment | dpdk_unit_test | cryptodev_sw_zuc_autotest | lpm_autotest | cryptodev_sw_snow3g_autotest |
+=============================+================+===========================+==============+==============================+
| 32-bit Ubuntu 22.04.4 (ARM) | PASS | SKIPPED | SKIPPED | SKIPPED |
+-----------------------------+----------------+---------------------------+--------------+------------------------------+
| Debian 12 (arm) | SKIPPED | PASS | SKIPPED | PASS |
+-----------------------------+----------------+---------------------------+--------------+------------------------------+
| Ubuntu 20.04 ARM SVE | SKIPPED | SKIPPED | PASS | SKIPPED |
+-----------------------------+----------------+---------------------------+--------------+------------------------------+
32-bit Ubuntu 22.04.4 (ARM)
Kernel: 5.15.83+ aarch64
Compiler: gcc (Ubuntu 11.4.0-1ubuntu1~22.04) 11.4.0
Debian 12 (arm)
Kernel: Depends on container host
Compiler: gcc (Debian 12.2.0-14) 12.2.0
Ubuntu 20.04 ARM SVE
Kernel: Depends on container host
Compiler: gcc (Ubuntu 10.5.0-1ubuntu1~20.04) 10.5.0
To view detailed results, visit:
https://lab.dpdk.org/results/dashboard/tarballs/32693/
UNH-IOL DPDK Community Lab
To manage your email subscriptions, visit:
https://lab.dpdk.org/results/dashboard/preferences/subscriptions/
next reply other threads:[~2025-02-24 7:36 UTC|newest]
Thread overview: 4+ messages / expand[flat|nested] mbox.gz Atom feed top
2025-02-24 7:36 dpdklab [this message]
-- strict thread matches above, loose matches on Subject: below --
2025-02-24 5:34 dpdklab
2025-02-24 5:33 dpdklab
2025-02-24 5:32 dpdklab
Reply instructions:
You may reply publicly to this message via plain-text email
using any one of the following methods:
* Save the following mbox file, import it into your mail client,
and reply-to-all from there: mbox
Avoid top-posting and favor interleaved quoting:
https://en.wikipedia.org/wiki/Posting_style#Interleaved_style
* Reply using the --to, --cc, and --in-reply-to
switches of git-send-email(1):
git send-email \
--in-reply-to=67bc2187.050a0220.617a.1dfcSMTPIN_ADDED_MISSING@mx.google.com \
--to=dpdklab@iol.unh.edu \
--cc=bluca@debian.org \
--cc=christian.ehrhardt@canonical.com \
--cc=dpdk-test-reports@iol.unh.edu \
--cc=ktraynor@redhat.com \
--cc=test-report@dpdk.org \
--cc=xuemingl@nvidia.com \
/path/to/YOUR_REPLY
https://kernel.org/pub/software/scm/git/docs/git-send-email.html
* If your mail client supports setting the In-Reply-To header
via mailto: links, try the mailto: link
Be sure your reply has a Subject: header at the top and a blank line
before the message body.
This is a public inbox, see mirroring instructions
for how to clone and mirror all data and code used for this inbox;
as well as URLs for NNTP newsgroup(s).