From mboxrd@z Thu Jan 1 00:00:00 1970 Return-Path: Received: from mails.dpdk.org (mails.dpdk.org [217.70.189.124]) by inbox.dpdk.org (Postfix) with ESMTP id A8AB1462A7 for ; Mon, 24 Feb 2025 08:36:41 +0100 (CET) Received: from mails.dpdk.org (localhost [127.0.0.1]) by mails.dpdk.org (Postfix) with ESMTP id 81DCF40652; Mon, 24 Feb 2025 08:36:41 +0100 (CET) Received: from mail-yw1-f227.google.com (mail-yw1-f227.google.com [209.85.128.227]) by mails.dpdk.org (Postfix) with ESMTP id 428A440299 for ; Mon, 24 Feb 2025 08:36:40 +0100 (CET) Received: by mail-yw1-f227.google.com with SMTP id 00721157ae682-6fb8de54da9so24253487b3.3 for ; Sun, 23 Feb 2025 23:36:40 -0800 (PST) DKIM-Signature: v=1; a=rsa-sha256; c=relaxed/relaxed; d=iol.unh.edu; s=unh-iol; t=1740382599; x=1740987399; darn=dpdk.org; h=cc:to:from:subject:message-id:date:from:to:cc:subject:date :message-id:reply-to; bh=h2bynC3dStnXnoZZ0OU1ouzRmcrSdHx93NilUWnABko=; b=aPKwiX146guCUIyb8rhNWJ+ZJq3maqip2jLcUfhgjlF75gpwElCTWulziaVB6ZGctr MKi/PlvjRsCxjbzcsZI7go3iCR6HWWLs+D7Etc1CIcJzRXsFzz6vvoGJ77Zd/3fUtvLW mCpYHYvXUTR/iHQ/xhYHXLNLyLHQj9K96EUgE= X-Google-DKIM-Signature: v=1; a=rsa-sha256; c=relaxed/relaxed; d=1e100.net; s=20230601; t=1740382599; x=1740987399; h=cc:to:from:subject:message-id:date:x-gm-message-state:from:to:cc :subject:date:message-id:reply-to; bh=h2bynC3dStnXnoZZ0OU1ouzRmcrSdHx93NilUWnABko=; b=lBkLBhhWE9v+R2pTeNLvwUhMZQ1OhllZlQlKLPeGkUDlcG2v46D2Ndp4dFa4kNkZfH /UqJAiekZiqrjuqOzgFY1CfSHVEzwW9ySlPDknOxB9a4/PdkPrFBdfeupVjoYgQYoVM4 jS11cSvQsJWH1PXt8T+cG6tzPRU+X/5YhzZfmbbreZOp8/OffETSobTUx/vfah5DkbvN euvb5IV5/j92ZH9DawxIXI5zJboWwEepQIAYbMLZuLV6WR8JOQOdPT7OkbRAsraT6S6O mopJGEocQO13Aed8R/uVvn3I11l3Cc0SexlY5jlDuw4uquGnsrn0CMvvimkms/YHCRdb ggmA== X-Gm-Message-State: AOJu0Yzhq+10wPf3DRoxyOdRRgx9qm4singpUbTHjf8gS05MFj8ShvwO /vMOkshi/Fp45cBm4pTrUrVp8noDLgE04NK7SfVhAYtjhRyYPosgdmpwpQLJLS41rluK7R5QBTB BajD+SMqpA28yvaCmpubtE3RvtCLABytFhpNB53gI+2fdsHsw X-Gm-Gg: ASbGncuNxeCKMH6HaWmxvtHMWL5MnIxWZvBq6OMrwFf7YiErEC3U5olG/yGAH30DbK9 c4E5b+Ylc2Vj+zS1hMTxQ0WrqQiawdgrZKdaZg3NQLf0a7orUdTyThzgtxA7yuRTxSP75FrOxac Yy3iaDsxY1MumnXpIeO1cbSIIWJo4Lx5a/zECNE0thVWtGH/SyQkZCOQJAGpqI3erbG0B+i1FFM YO6xX6pfp9ivHgRGzo5Y+ZZY9z4fi8XQ3qKkGVxTd1kezAl8YBMRwaeSBkFKK1oLvJGXxYYKpHL c+I/fdUILyzuQZP6kzzdPEnvMyfT5tpccit9DVJrQI+t66RNSWyg X-Google-Smtp-Source: AGHT+IExPv8TamG/2dOVeu50cn4GovwlUVJyOAHHqdt0jMwJVwW4K9sGDyHbmrC3BmBTyoaz6J9/VXf2Np5h X-Received: by 2002:a05:690c:6084:b0:6ef:761e:cfc with SMTP id 00721157ae682-6fbcc3721bdmr102693817b3.25.1740382599612; Sun, 23 Feb 2025 23:36:39 -0800 (PST) Received: from postal.iol.unh.edu (postal.iol.unh.edu. [2606:4100:3880:1234::84]) by smtp-relay.gmail.com with ESMTPS id 00721157ae682-6fb58699c19sm7146647b3.40.2025.02.23.23.36.39 (version=TLS1_2 cipher=ECDHE-ECDSA-AES128-GCM-SHA256 bits=128/128); Sun, 23 Feb 2025 23:36:39 -0800 (PST) X-Relaying-Domain: iol.unh.edu Date: Sun, 23 Feb 2025 23:36:39 -0800 (PST) Message-ID: <67bc2187.050a0220.617a.1dfcSMTPIN_ADDED_MISSING@mx.google.com> Received: from [172.21.0.7] (unknown [172.18.0.240]) by postal.iol.unh.edu (Postfix) with ESMTP id 0525F6052471; Mon, 24 Feb 2025 02:36:39 -0500 (EST) Subject: |SUCCESS| [GIT MASTER] 6007ad519cfb8d6a81356a171c4a2b5f9a33d4fd From: dpdklab@iol.unh.edu To: Test Report Cc: dpdk-test-reports@iol.unh.edu, Xueming Li , Christian Ehrhardt , Kevin Traynor , Luca Boccassi Content-Type: text/plain X-BeenThere: test-report@dpdk.org X-Mailman-Version: 2.1.29 Precedence: list List-Id: automatic DPDK test reports List-Unsubscribe: , List-Archive: List-Post: List-Help: List-Subscribe: , Errors-To: test-report-bounces@dpdk.org _Testing PASS_ Branch: tags/v22.11 6007ad519cfb8d6a81356a171c4a2b5f9a33d4fd --> testing pass Upstream job id: Generic-Unit-Test-DPDK#317740 Test environment and result as below: +-----------------------------+----------------+---------------------------+--------------+------------------------------+ | Environment | dpdk_unit_test | cryptodev_sw_zuc_autotest | lpm_autotest | cryptodev_sw_snow3g_autotest | +=============================+================+===========================+==============+==============================+ | 32-bit Ubuntu 22.04.4 (ARM) | PASS | SKIPPED | SKIPPED | SKIPPED | +-----------------------------+----------------+---------------------------+--------------+------------------------------+ | Debian 12 (arm) | SKIPPED | PASS | SKIPPED | PASS | +-----------------------------+----------------+---------------------------+--------------+------------------------------+ | Ubuntu 20.04 ARM SVE | SKIPPED | SKIPPED | PASS | SKIPPED | +-----------------------------+----------------+---------------------------+--------------+------------------------------+ 32-bit Ubuntu 22.04.4 (ARM) Kernel: 5.15.83+ aarch64 Compiler: gcc (Ubuntu 11.4.0-1ubuntu1~22.04) 11.4.0 Debian 12 (arm) Kernel: Depends on container host Compiler: gcc (Debian 12.2.0-14) 12.2.0 Ubuntu 20.04 ARM SVE Kernel: Depends on container host Compiler: gcc (Ubuntu 10.5.0-1ubuntu1~20.04) 10.5.0 To view detailed results, visit: https://lab.dpdk.org/results/dashboard/tarballs/32693/ UNH-IOL DPDK Community Lab To manage your email subscriptions, visit: https://lab.dpdk.org/results/dashboard/preferences/subscriptions/