From mboxrd@z Thu Jan 1 00:00:00 1970 Return-Path: Received: from mails.dpdk.org (mails.dpdk.org [217.70.189.124]) by inbox.dpdk.org (Postfix) with ESMTP id C6561462AA for ; Mon, 24 Feb 2025 12:19:45 +0100 (CET) Received: from mails.dpdk.org (localhost [127.0.0.1]) by mails.dpdk.org (Postfix) with ESMTP id AA4864042E; Mon, 24 Feb 2025 12:19:45 +0100 (CET) Received: from mail-oa1-f98.google.com (mail-oa1-f98.google.com [209.85.160.98]) by mails.dpdk.org (Postfix) with ESMTP id 26F20402A4 for ; Mon, 24 Feb 2025 12:19:44 +0100 (CET) Received: by mail-oa1-f98.google.com with SMTP id 586e51a60fabf-2bca6017608so3180384fac.0 for ; Mon, 24 Feb 2025 03:19:44 -0800 (PST) DKIM-Signature: v=1; a=rsa-sha256; c=relaxed/relaxed; d=iol.unh.edu; s=unh-iol; t=1740395983; x=1741000783; darn=dpdk.org; h=references:in-reply-to:cc:to:from:subject:message-id:date:from:to :cc:subject:date:message-id:reply-to; bh=XI6KvvELj6w/FSGghGqB2ylGNkAXbYDIFPffhzMMTKc=; b=Wjb5ZUvwQLws+qWWX7bMg37sWN6QGTtmM+rlq9Ss61Cr+HvHvElcmr+gvcdNoipa5E foDYONsblU9JNu/8T75xuV015wcNVzHIzSLbNWtfSYJ63gagtbvv1uODZShBxMPnpZtP bA1HWOMqhqUvlK4rbxmyP1ptXIv40O5KGsqr4= X-Google-DKIM-Signature: v=1; a=rsa-sha256; c=relaxed/relaxed; d=1e100.net; s=20230601; t=1740395983; x=1741000783; h=references:in-reply-to:cc:to:from:subject:message-id:date :x-gm-message-state:from:to:cc:subject:date:message-id:reply-to; bh=XI6KvvELj6w/FSGghGqB2ylGNkAXbYDIFPffhzMMTKc=; b=u63+ylg2+VMOHAz65XmchE1eo39Yqqs6BrLRZ0eUSDkYyp6wpRPb6O2E54T4Uk9CqO SF4VzcToSY6Olu72uBH6yeHBYmJDQOzw1c7eSnxTJtlTfsQ5XJyho3BokPEloDuAMv1p M7AUMO2tgAxAxJkNRZLLHYXlc7REQyble4wiLIFwH7NqNTdpzfDArJDkQJP9gsnhnQP+ DOxDMgPbC3wG2rYTwtxnBTvkvdjYe0a/VfjedtFplKls2N4jYTcgA1nnujt9eKGXygvB 252bUHd+jQvP9LYN6fMBpTEoCvYK9vz2bfRsI+/vwyHUHItdxeemlv9yDcVYRykuV6Sm HPHQ== X-Gm-Message-State: AOJu0YwSWqKgnD0N8rPVQwDtA08hrs6iRKZMSY11dZ9OMhEGOgnTTrc+ CjG9Md+0RZHMVJP0afG/Oguo7T2FXST9Sc6Ja0nUKdRQbncQJooElDtgKZnZDWQZvqFeHPHEFBo cTrBLy/3Y3DbrW/02ID/+/k9DkWoKbOMaLjIFDYBB X-Gm-Gg: ASbGnctxsp4r7kySCBE6sjCzMk4BvKhZYRBwOAK1Sq/+34xEIYJ5l6IsZqIxhY3rRSH Tk/8tPWJ+ZmzSqVT23HPqp8cdsl1NfayTm6lslRDFBxr0BqMEdewcOLSO/5FdBU0a2BrveTFxbx Xv2RMSfDg39nHKFd7JIKZkOdMnKWrcvTlZyDbRUJ6sll0BjsuS/MvImJXgav9hCjrFlKBWdmJlT Hd8JFiAuZOaIEscOSm65+0GmUG5646g7mFUaBgHgiVPX9rg/+gbSb/ri4UHi7/t/fxJH3RAl4MG W8iDl9jAUEhTbXP32OJ7Hgt7IvNmTUAPd6xElSZm X-Google-Smtp-Source: AGHT+IE7vsV8eBiBGKIoXMoU8w9hKV8EMwLlCPnnAHEF1zYHwFw/WA567XXZt0kywQ+SqqLVXxGZWhXwcUDE X-Received: by 2002:a05:6870:5d92:b0:29e:5c37:a1c3 with SMTP id 586e51a60fabf-2bd50c5627bmr10090493fac.2.1740395983173; Mon, 24 Feb 2025 03:19:43 -0800 (PST) Received: from postal.iol.unh.edu (postal.iol.unh.edu. [132.177.123.84]) by smtp-relay.gmail.com with ESMTPS id 586e51a60fabf-2b963a07db1sm1340436fac.34.2025.02.24.03.19.43 (version=TLS1_2 cipher=ECDHE-ECDSA-AES128-GCM-SHA256 bits=128/128); Mon, 24 Feb 2025 03:19:43 -0800 (PST) X-Relaying-Domain: iol.unh.edu Date: Mon, 24 Feb 2025 03:19:43 -0800 (PST) Message-ID: <67bc55cf.050a0220.2c201b.4e4aSMTPIN_ADDED_MISSING@mx.google.com> Received: from [172.17.0.3] (unknown [172.18.0.217]) by postal.iol.unh.edu (Postfix) with ESMTP id 8DA136052471; Mon, 24 Feb 2025 06:19:42 -0500 (EST) Subject: |SUCCESS| pw151871-151872 [PATCH] [v10,2/2] net/af_xdp: Refactor af_ From: dpdklab@iol.unh.edu To: Test Report Cc: dpdk-test-reports@iol.unh.edu In-Reply-To: <20250223215259.448723-3-ariel.otilibili@6wind.com> References: <20250223215259.448723-3-ariel.otilibili@6wind.com> Content-Type: text/plain X-BeenThere: test-report@dpdk.org X-Mailman-Version: 2.1.29 Precedence: list List-Id: automatic DPDK test reports List-Unsubscribe: , List-Archive: List-Post: List-Help: List-Subscribe: , Errors-To: test-report-bounces@dpdk.org Test-Label: iol-unit-arm64-testing Test-Status: SUCCESS http://dpdk.org/patch/151872 _Testing PASS_ Submitter: Ariel Otilibili Date: Sunday, February 23 2025 21:52:59 DPDK git baseline: Repo:dpdk Branch: master CommitID:a8d4d427e730162b47d187bface95032952d669a 151871-151872 --> testing pass Upstream job id: Generic-Unit-Test-DPDK#317802 Test environment and result as below: +-----------------------------+----------------+--------------+---------------------------+------------------------------+ | Environment | dpdk_unit_test | lpm_autotest | cryptodev_sw_zuc_autotest | cryptodev_sw_snow3g_autotest | +=============================+================+==============+===========================+==============================+ | CentOS Stream 10 (ARM) | PASS | SKIPPED | SKIPPED | SKIPPED | +-----------------------------+----------------+--------------+---------------------------+------------------------------+ | CentOS Stream 9 (ARM) | PASS | SKIPPED | SKIPPED | SKIPPED | +-----------------------------+----------------+--------------+---------------------------+------------------------------+ | Fedora 40 (ARM) | PASS | SKIPPED | SKIPPED | SKIPPED | +-----------------------------+----------------+--------------+---------------------------+------------------------------+ | Fedora 40 (ARM Clang) | PASS | SKIPPED | SKIPPED | SKIPPED | +-----------------------------+----------------+--------------+---------------------------+------------------------------+ | Fedora 41 (ARM) | PASS | SKIPPED | SKIPPED | SKIPPED | +-----------------------------+----------------+--------------+---------------------------+------------------------------+ | Debian 12 (arm) | PASS | SKIPPED | PASS | PASS | +-----------------------------+----------------+--------------+---------------------------+------------------------------+ | Debian 11 (Buster) (ARM) | PASS | SKIPPED | SKIPPED | SKIPPED | +-----------------------------+----------------+--------------+---------------------------+------------------------------+ | Fedora 41 (ARM Clang) | PASS | SKIPPED | SKIPPED | SKIPPED | +-----------------------------+----------------+--------------+---------------------------+------------------------------+ | 32-bit Ubuntu 22.04.4 (ARM) | PASS | SKIPPED | SKIPPED | SKIPPED | +-----------------------------+----------------+--------------+---------------------------+------------------------------+ | Ubuntu 22.04 (ARM) | PASS | SKIPPED | SKIPPED | SKIPPED | +-----------------------------+----------------+--------------+---------------------------+------------------------------+ | Ubuntu 20.04 (ARM) | PASS | SKIPPED | SKIPPED | SKIPPED | +-----------------------------+----------------+--------------+---------------------------+------------------------------+ | Ubuntu 24.04 (ARM) | PASS | SKIPPED | SKIPPED | SKIPPED | +-----------------------------+----------------+--------------+---------------------------+------------------------------+ | RHEL9 (ARM) | PASS | SKIPPED | SKIPPED | SKIPPED | +-----------------------------+----------------+--------------+---------------------------+------------------------------+ | Ubuntu 20.04 ARM SVE | SKIPPED | PASS | SKIPPED | SKIPPED | +-----------------------------+----------------+--------------+---------------------------+------------------------------+ CentOS Stream 10 (ARM) Kernel: Depends on container host Compiler: gcc 14.2.1 20241104 (Red Hat 14.2.1-6) CentOS Stream 9 (ARM) Kernel: Depends on container host Compiler: gcc 11.5.0 20240719 (Red Hat 11.5.0-2) Fedora 40 (ARM) Kernel: Depends on container host Compiler: gcc 14.2.1 20240912 (Red Hat 14.2.1-3) Fedora 40 (ARM Clang) Kernel: Depends on container host Compiler: clang 18.1.8 (Fedora 18.1.8-1.fc40) Fedora 41 (ARM) Kernel: Depends on container host Compiler: gcc 14.2.1 20240912 (Red Hat 14.2.1-3) Debian 12 (arm) Kernel: Depends on container host Compiler: gcc (Debian 12.2.0-14) 12.2.0 Debian 11 (Buster) (ARM) Kernel: Depends on container host Compiler: gcc (Debian 10.2.1-6) 10.2.1 20210110 Fedora 41 (ARM Clang) Kernel: Depends on container host Compiler: clang 19.1.5 (Fedora 19.1.5-1.fc41) 32-bit Ubuntu 22.04.4 (ARM) Kernel: 5.15.83+ aarch64 Compiler: gcc (Ubuntu 11.4.0-1ubuntu1~22.04) 11.4.0 Ubuntu 22.04 (ARM) Kernel: Depends on container host Compiler: gcc (Ubuntu 11.4.0-1ubuntu1~22.04) 11.4.0 Ubuntu 20.04 (ARM) Kernel: Depends on container host Compiler: gcc (Ubuntu 9.4.0-1ubuntu1~20.04.2) 9.4.0 Ubuntu 24.04 (ARM) Kernel: Depends on container host Compiler: gcc (Ubuntu 13.3.0-6ubuntu2~24.04) 13.3.0 RHEL9 (ARM) Kernel: Depends on container host Compiler: gcc 11.5.0 20240719 (Red Hat 11.5.0-2) Ubuntu 20.04 ARM SVE Kernel: Depends on container host Compiler: gcc (Ubuntu 10.5.0-1ubuntu1~20.04) 10.5.0 To view detailed results, visit: https://lab.dpdk.org/results/dashboard/patchsets/32658/ UNH-IOL DPDK Community Lab To manage your email subscriptions, visit: https://lab.dpdk.org/results/dashboard/preferences/subscriptions/