* |SUCCESS| pw151871-151872 [PATCH v10 2/2] net/af_xdp: Refactor af_xdp_tx_zc
[not found] <20250223215259.448723-3-ariel.otilibili@6wind.com>
@ 2025-02-23 21:23 ` qemudev
2025-02-23 21:27 ` qemudev
` (12 subsequent siblings)
13 siblings, 0 replies; 14+ messages in thread
From: qemudev @ 2025-02-23 21:23 UTC (permalink / raw)
To: test-report
Test-Label: loongarch-compilation
Test-Status: SUCCESS
http://dpdk.org/patch/151872
_Compilation OK_
Submitter: Ariel Otilibili <ariel.otilibili@6wind.com>
Date: Sun, 23 Feb 2025 22:52:58 +0100
DPDK git baseline: Repo:dpdk-next-net
Branch: main
CommitID: a8d4d427e730162b47d187bface95032952d669a
151871-151872 --> meson & ninja build successfully
Test environment and result as below:
+---------------------+----------------+
| Environment | compilation |
+---------------------+----------------+
| Loongnix-Server 8.3 | PASS |
+---------------------+----------------+
Loongnix-Server 8.3
Kernel: 4.19.190+
Compiler: gcc 8.3
^ permalink raw reply [flat|nested] 14+ messages in thread
* |SUCCESS| pw151871-151872 [PATCH v10 2/2] net/af_xdp: Refactor af_xdp_tx_zc
[not found] <20250223215259.448723-3-ariel.otilibili@6wind.com>
2025-02-23 21:23 ` |SUCCESS| pw151871-151872 [PATCH v10 2/2] net/af_xdp: Refactor af_xdp_tx_zc qemudev
@ 2025-02-23 21:27 ` qemudev
2025-02-23 21:54 ` |WARNING| pw151872 " checkpatch
` (11 subsequent siblings)
13 siblings, 0 replies; 14+ messages in thread
From: qemudev @ 2025-02-23 21:27 UTC (permalink / raw)
To: test-report
Test-Label: loongarch-unit-testing
Test-Status: SUCCESS
http://dpdk.org/patch/151872
_Unit Testing PASS_
Submitter: Ariel Otilibili <ariel.otilibili@6wind.com>
Date: Sun, 23 Feb 2025 22:52:58 +0100
DPDK git baseline: Repo:dpdk-next-net
Branch: main
CommitID: a8d4d427e730162b47d187bface95032952d669a
151871-151872 --> testing pass
Test environment and result as below:
+---------------------+----------------+
| Environment | dpdk_unit_test |
+---------------------+----------------+
| Loongnix-Server 8.3 | PASS |
+---------------------+----------------+
Loongnix-Server 8.3
Kernel: 4.19.190+
Compiler: gcc 8.3
Test result details:
1/119 DPDK:fast-tests / acl_autotest OK 3.36s
2/119 DPDK:fast-tests / alarm_autotest OK 1.57s
3/119 DPDK:fast-tests / argparse_autotest OK 0.58s
4/119 DPDK:fast-tests / atomic_autotest OK 7.27s
5/119 DPDK:fast-tests / bitcount_autotest OK 0.40s
6/119 DPDK:fast-tests / bitmap_autotest OK 0.39s
7/119 DPDK:fast-tests / bitops_autotest OK 1.90s
8/119 DPDK:fast-tests / bitratestats_autotest OK 0.40s
9/119 DPDK:fast-tests / bitset_autotest OK 3.12s
10/119 DPDK:fast-tests / bpf_autotest OK 0.40s
11/119 DPDK:fast-tests / bpf_convert_autotest OK 0.40s
12/119 DPDK:fast-tests / byteorder_autotest OK 0.40s
13/119 DPDK:fast-tests / cfgfile_autotest OK 0.40s
14/119 DPDK:fast-tests / cksum_autotest OK 0.40s
15/119 DPDK:fast-tests / cmdline_autotest OK 0.40s
16/119 DPDK:fast-tests / common_autotest OK 1.28s
17/119 DPDK:fast-tests / compressdev_autotest SKIP 0.07s exit status 77
18/119 DPDK:fast-tests / cpuflags_autotest OK 0.39s
19/119 DPDK:fast-tests / crc_autotest OK 0.40s
20/119 DPDK:fast-tests / user_delay_us OK 0.40s
21/119 DPDK:fast-tests / debug_autotest OK 20.40s
22/119 DPDK:fast-tests / devargs_autotest OK 0.39s
23/119 DPDK:fast-tests / dispatcher_autotest OK 2.55s
24/119 DPDK:fast-tests / distributor_autotest OK 1.20s
25/119 DPDK:fast-tests / eal_flags_c_opt_autotest OK 0.79s
26/119 DPDK:fast-tests / eal_flags_main_opt_autotest OK 0.22s
27/119 DPDK:fast-tests / eal_flags_n_opt_autotest OK 0.20s
28/119 DPDK:fast-tests / eal_flags_hpet_autotest OK 0.13s
29/119 DPDK:fast-tests / eal_flags_no_huge_autotest OK 0.22s
30/119 DPDK:fast-tests / eal_flags_a_opt_autotest OK 0.30s
31/119 DPDK:fast-tests / eal_flags_b_opt_autotest OK 0.25s
32/119 DPDK:fast-tests / eal_flags_vdev_opt_autotest OK 0.20s
33/119 DPDK:fast-tests / eal_flags_r_opt_autotest OK 0.19s
34/119 DPDK:fast-tests / eal_flags_mem_autotest OK 0.59s
35/119 DPDK:fast-tests / eal_flags_file_prefix_autotest OK 22.26s
36/119 DPDK:fast-tests / eal_flags_misc_autotest OK 1.04s
37/119 DPDK:fast-tests / eal_fs_autotest OK 0.39s
38/119 DPDK:fast-tests / errno_autotest OK 0.40s
39/119 DPDK:fast-tests / ethdev_link_status OK 0.39s
40/119 DPDK:fast-tests / event_eth_tx_adapter_autotest OK 1.69s
41/119 DPDK:fast-tests / event_ring_autotest OK 0.40s
42/119 DPDK:fast-tests / eventdev_common_autotest OK 0.40s
43/119 DPDK:fast-tests / eventdev_selftest_sw OK 7.32s
44/119 DPDK:fast-tests / fbarray_autotest OK 0.40s
45/119 DPDK:fast-tests / fib_autotest OK 1.29s
46/119 DPDK:fast-tests / fib6_autotest OK 1.06s
47/119 DPDK:fast-tests / func_reentrancy_autotest OK 2.33s
48/119 DPDK:fast-tests / graph_autotest OK 0.40s
49/119 DPDK:fast-tests / node_list_dump OK 0.40s
50/119 DPDK:fast-tests / hash_autotest OK 1.02s
51/119 DPDK:fast-tests / hash_readwrite_func_autotest OK 6.39s
52/119 DPDK:fast-tests / interrupt_autotest OK 1.70s
53/119 DPDK:fast-tests / ipfrag_autotest OK 0.07s
54/119 DPDK:fast-tests / ipsec_autotest SKIP 0.40s exit status 77
55/119 DPDK:fast-tests / kvargs_autotest OK 0.40s
56/119 DPDK:fast-tests / latencystats_autotest OK 0.40s
57/119 DPDK:fast-tests / lcore_var_autotest OK 0.54s
58/119 DPDK:fast-tests / lcores_autotest OK 5.21s
59/119 DPDK:fast-tests / logs_autotest OK 0.40s
60/119 DPDK:fast-tests / lpm_autotest OK 2.47s
61/119 DPDK:fast-tests / lpm6_autotest OK 5.58s
62/119 DPDK:fast-tests / malloc_autotest OK 63.73s
63/119 DPDK:fast-tests / mbuf_autotest OK 4.66s
64/119 DPDK:fast-tests / mcslock_autotest OK 3.46s
65/119 DPDK:fast-tests / member_autotest OK 1.60s
66/119 DPDK:fast-tests / memcpy_autotest OK 6.84s
67/119 DPDK:fast-tests / memory_autotest OK 0.09s
68/119 DPDK:fast-tests / mempool_autotest OK 0.43s
69/119 DPDK:fast-tests / memzone_autotest OK 0.14s
70/119 DPDK:fast-tests / meter_autotest OK 0.39s
71/119 DPDK:fast-tests / metrics_autotest OK 0.40s
72/119 DPDK:fast-tests / multiprocess_autotest OK 0.18s
73/119 DPDK:fast-tests / net_ether_autotest OK 1.05s
74/119 DPDK:fast-tests / net_ipv6_autotest OK 0.40s
75/119 DPDK:fast-tests / pcapng_autotest OK 6.34s
76/119 DPDK:fast-tests / pdcp_autotest SKIP 0.07s exit status 77
77/119 DPDK:fast-tests / pdump_autotest OK 0.51s
78/119 DPDK:fast-tests / per_lcore_autotest OK 0.50s
79/119 DPDK:fast-tests / pflock_autotest OK 1.21s
80/119 DPDK:fast-tests / pie_autotest OK 0.40s
81/119 DPDK:fast-tests / ring_pmd_autotest OK 0.40s
82/119 DPDK:fast-tests / power_autotest OK 0.40s
83/119 DPDK:fast-tests / power_cpufreq_autotest SKIP 0.07s exit status 77
84/119 DPDK:fast-tests / power_intel_uncore_autotest SKIP 0.39s exit status 77
85/119 DPDK:fast-tests / power_kvm_vm_autotest SKIP 0.07s exit status 77
86/119 DPDK:fast-tests / prefetch_autotest OK 0.39s
87/119 DPDK:fast-tests / ptr_compress_autotest OK 0.40s
88/119 DPDK:fast-tests / rawdev_autotest OK 0.40s
89/119 DPDK:fast-tests / rcu_qsbr_autotest OK 0.92s
90/119 DPDK:fast-tests / reorder_autotest OK 0.45s
91/119 DPDK:fast-tests / rib_autotest OK 9.05s
92/119 DPDK:fast-tests / rib6_autotest OK 9.04s
93/119 DPDK:fast-tests / ring_autotest OK 0.43s
94/119 DPDK:fast-tests / rwlock_test1_autotest OK 1.14s
95/119 DPDK:fast-tests / rwlock_rda_autotest OK 5.40s
96/119 DPDK:fast-tests / rwlock_rds_wrm_autotest OK 5.38s
97/119 DPDK:fast-tests / rwlock_rde_wro_autotest OK 5.62s
98/119 DPDK:fast-tests / sched_autotest OK 0.61s
99/119 DPDK:fast-tests / security_autotest OK 0.06s
100/119 DPDK:fast-tests / seqlock_autotest OK 2.31s
101/119 DPDK:fast-tests / service_autotest OK 3.01s
102/119 DPDK:fast-tests / soring_autotest OK 0.31s
103/119 DPDK:fast-tests / spinlock_autotest OK 0.38s
104/119 DPDK:fast-tests / stack_autotest OK 0.86s
105/119 DPDK:fast-tests / stack_lf_autotest SKIP 0.05s exit status 77
106/119 DPDK:fast-tests / string_autotest OK 0.30s
107/119 DPDK:fast-tests / table_autotest OK 7.74s
108/119 DPDK:fast-tests / tailq_autotest OK 0.30s
109/119 DPDK:fast-tests / telemetry_data_autotest OK 0.31s
110/119 DPDK:fast-tests / telemetry_json_autotest OK 0.31s
111/119 DPDK:fast-tests / thash_autotest OK 0.32s
112/119 DPDK:fast-tests / threads_autotest OK 0.49s
113/119 DPDK:fast-tests / ticketlock_autotest OK 0.46s
114/119 DPDK:fast-tests / timer_autotest OK 3.87s
115/119 DPDK:fast-tests / trace_autotest OK 0.30s
116/119 DPDK:fast-tests / trace_autotest_with_traces OK 0.31s
117/119 DPDK:fast-tests / vdev_autotest OK 0.30s
118/119 DPDK:fast-tests / version_autotest OK 0.30s
119/119 DPDK:fast-tests / telemetry_all OK 1.24s
Ok: 112
Expected Fail: 0
Fail: 0
Unexpected Pass: 0
Skipped: 7
Timeout: 0
^ permalink raw reply [flat|nested] 14+ messages in thread
* |WARNING| pw151872 [PATCH v10 2/2] net/af_xdp: Refactor af_xdp_tx_zc
[not found] <20250223215259.448723-3-ariel.otilibili@6wind.com>
2025-02-23 21:23 ` |SUCCESS| pw151871-151872 [PATCH v10 2/2] net/af_xdp: Refactor af_xdp_tx_zc qemudev
2025-02-23 21:27 ` qemudev
@ 2025-02-23 21:54 ` checkpatch
2025-02-23 22:44 ` |SUCCESS| " 0-day Robot
` (10 subsequent siblings)
13 siblings, 0 replies; 14+ messages in thread
From: checkpatch @ 2025-02-23 21:54 UTC (permalink / raw)
To: test-report; +Cc: Ariel Otilibili
Test-Label: checkpatch
Test-Status: WARNING
http://dpdk.org/patch/151872
_coding style issues_
WARNING:SUSPECT_CODE_INDENT: suspect code indent for conditional statements (16, 18)
#169: FILE: drivers/net/af_xdp/rte_eth_af_xdp.c:589:
if (mbuf->pool == umem->mb_pool) {
+ if (!(desc = reserve_and_fill(txq, mbuf, umem, NULL))) {
WARNING:TABSTOP: Statements should start on a tabstop
#171: FILE: drivers/net/af_xdp/rte_eth_af_xdp.c:590:
+ if (!(desc = reserve_and_fill(txq, mbuf, umem, NULL))) {
WARNING:SUSPECT_CODE_INDENT: suspect code indent for conditional statements (18, 32)
#171: FILE: drivers/net/af_xdp/rte_eth_af_xdp.c:590:
+ if (!(desc = reserve_and_fill(txq, mbuf, umem, NULL))) {
kick_tx(txq, cq);
ERROR:ASSIGN_IN_IF: do not use assignment in if condition
#171: FILE: drivers/net/af_xdp/rte_eth_af_xdp.c:590:
+ if (!(desc = reserve_and_fill(txq, mbuf, umem, NULL))) {
ERROR:ASSIGN_IN_IF: do not use assignment in if condition
#197: FILE: drivers/net/af_xdp/rte_eth_af_xdp.c:600:
+ if (!(local_mbuf = rte_pktmbuf_alloc(umem->mb_pool)))
total: 2 errors, 3 warnings, 0 checks, 112 lines checked
^ permalink raw reply [flat|nested] 14+ messages in thread
* |SUCCESS| pw151872 [PATCH v10 2/2] net/af_xdp: Refactor af_xdp_tx_zc
[not found] <20250223215259.448723-3-ariel.otilibili@6wind.com>
` (2 preceding siblings ...)
2025-02-23 21:54 ` |WARNING| pw151872 " checkpatch
@ 2025-02-23 22:44 ` 0-day Robot
2025-02-24 10:05 ` |SUCCESS| pw151871-151872 [PATCH] [v10,2/2] net/af_xdp: Refactor af_ dpdklab
` (9 subsequent siblings)
13 siblings, 0 replies; 14+ messages in thread
From: 0-day Robot @ 2025-02-23 22:44 UTC (permalink / raw)
To: test-report; +Cc: robot
From: robot@bytheb.org
Test-Label: github-robot: build
Test-Status: SUCCESS
http://patchwork.dpdk.org/patch/151872/
_github build: passed_
Build URL: https://github.com/ovsrobot/dpdk/actions/runs/13487335709
^ permalink raw reply [flat|nested] 14+ messages in thread
* |SUCCESS| pw151871-151872 [PATCH] [v10,2/2] net/af_xdp: Refactor af_
[not found] <20250223215259.448723-3-ariel.otilibili@6wind.com>
` (3 preceding siblings ...)
2025-02-23 22:44 ` |SUCCESS| " 0-day Robot
@ 2025-02-24 10:05 ` dpdklab
2025-02-24 10:06 ` dpdklab
` (8 subsequent siblings)
13 siblings, 0 replies; 14+ messages in thread
From: dpdklab @ 2025-02-24 10:05 UTC (permalink / raw)
To: Test Report; +Cc: dpdk-test-reports
Test-Label: iol-broadcom-Performance
Test-Status: SUCCESS
http://dpdk.org/patch/151872
_Performance Testing PASS_
Submitter: Ariel Otilibili <ariel.otilibili@6wind.com>
Date: Sunday, February 23 2025 21:52:59
DPDK git baseline: Repo:dpdk
Branch: master
CommitID:a8d4d427e730162b47d187bface95032952d669a
151871-151872 --> performance testing pass
Upstream job id: Template-DTS-Pipeline#214068
Test environment and result as below:
Ubuntu 22.04
Kernel: 5.15.0-100-generic
Compiler: gcc (Ubuntu 11.4.0-1ubuntu1~22.04) 11.4.0
NIC: Broadcom Inc. and subsidiaries BCM57414 NetXtreme-E 10Gb/25Gb RDMA Ethernet Controller 16d7 25 Mbps
Fail/Total: 0/3
Detail performance results:
+------------+---------+----------+-------------+------------------------------+
| frame_size | txd/rxd | num_cpus | num_threads | throughput difference from |
| | | | | expected |
+============+=========+==========+=============+==============================+
| 64 | 128 | 1 | 1 | -0.0% |
+------------+---------+----------+-------------+------------------------------+
| 64 | 512 | 1 | 1 | 0.2% |
+------------+---------+----------+-------------+------------------------------+
| 64 | 2048 | 1 | 1 | 0.3% |
+------------+---------+----------+-------------+------------------------------+
Ubuntu 22.04 ARM
Kernel: 5.15.83+
Compiler: gcc 11.4.0
NIC: Arm Broadcom Inc. brcm_57414 25000 Mbps
Fail/Total: 0/2
Detail performance results:
+------------+---------+----------+-------------+------------------------------+
| frame_size | txd/rxd | num_cpus | num_threads | throughput difference from |
| | | | | expected |
+============+=========+==========+=============+==============================+
| 64 | 512 | 1 | 1 | 0.2% |
+------------+---------+----------+-------------+------------------------------+
| 64 | 2048 | 1 | 1 | 0.0% |
+------------+---------+----------+-------------+------------------------------+
To view detailed results, visit:
https://lab.dpdk.org/results/dashboard/patchsets/32658/
UNH-IOL DPDK Community Lab
To manage your email subscriptions, visit:
https://lab.dpdk.org/results/dashboard/preferences/subscriptions/
^ permalink raw reply [flat|nested] 14+ messages in thread
* |SUCCESS| pw151871-151872 [PATCH] [v10,2/2] net/af_xdp: Refactor af_
[not found] <20250223215259.448723-3-ariel.otilibili@6wind.com>
` (4 preceding siblings ...)
2025-02-24 10:05 ` |SUCCESS| pw151871-151872 [PATCH] [v10,2/2] net/af_xdp: Refactor af_ dpdklab
@ 2025-02-24 10:06 ` dpdklab
2025-02-24 10:13 ` dpdklab
` (7 subsequent siblings)
13 siblings, 0 replies; 14+ messages in thread
From: dpdklab @ 2025-02-24 10:06 UTC (permalink / raw)
To: Test Report; +Cc: dpdk-test-reports
Test-Label: iol-broadcom-Performance
Test-Status: SUCCESS
http://dpdk.org/patch/151872
_Performance Testing PASS_
Submitter: Ariel Otilibili <ariel.otilibili@6wind.com>
Date: Sunday, February 23 2025 21:52:59
DPDK git baseline: Repo:dpdk
Branch: master
CommitID:a8d4d427e730162b47d187bface95032952d669a
151871-151872 --> performance testing pass
Upstream job id: Template-DTS-Pipeline#214069
Test environment and result as below:
Ubuntu 22.04
Kernel: 5.15.0-100-generic
Compiler: gcc (Ubuntu 11.4.0-1ubuntu1~22.04) 11.4.0
NIC: Broadcom Inc. and subsidiaries BCM57414 NetXtreme-E 10Gb/25Gb RDMA Ethernet Controller 16d7 25 Mbps
Fail/Total: 0/3
Detail performance results:
+------------+---------+----------+-------------+------------------------------+
| frame_size | txd/rxd | num_cpus | num_threads | throughput difference from |
| | | | | expected |
+============+=========+==========+=============+==============================+
| 64 | 128 | 1 | 1 | -0.0% |
+------------+---------+----------+-------------+------------------------------+
| 64 | 512 | 1 | 1 | 0.2% |
+------------+---------+----------+-------------+------------------------------+
| 64 | 2048 | 1 | 1 | 0.3% |
+------------+---------+----------+-------------+------------------------------+
Ubuntu 22.04 ARM
Kernel: 5.15.83+
Compiler: gcc 11.4.0
NIC: Arm Broadcom Inc. brcm_57414 25000 Mbps
Fail/Total: 0/2
Detail performance results:
+------------+---------+----------+-------------+------------------------------+
| frame_size | txd/rxd | num_cpus | num_threads | throughput difference from |
| | | | | expected |
+============+=========+==========+=============+==============================+
| 64 | 512 | 1 | 1 | 0.2% |
+------------+---------+----------+-------------+------------------------------+
| 64 | 2048 | 1 | 1 | 0.0% |
+------------+---------+----------+-------------+------------------------------+
To view detailed results, visit:
https://lab.dpdk.org/results/dashboard/patchsets/32658/
UNH-IOL DPDK Community Lab
To manage your email subscriptions, visit:
https://lab.dpdk.org/results/dashboard/preferences/subscriptions/
^ permalink raw reply [flat|nested] 14+ messages in thread
* |SUCCESS| pw151871-151872 [PATCH] [v10,2/2] net/af_xdp: Refactor af_
[not found] <20250223215259.448723-3-ariel.otilibili@6wind.com>
` (5 preceding siblings ...)
2025-02-24 10:06 ` dpdklab
@ 2025-02-24 10:13 ` dpdklab
2025-02-24 10:16 ` |PENDING| " dpdklab
` (6 subsequent siblings)
13 siblings, 0 replies; 14+ messages in thread
From: dpdklab @ 2025-02-24 10:13 UTC (permalink / raw)
To: Test Report; +Cc: dpdk-test-reports
Test-Label: iol-sample-apps-testing
Test-Status: SUCCESS
http://dpdk.org/patch/151872
_Testing PASS_
Submitter: Ariel Otilibili <ariel.otilibili@6wind.com>
Date: Sunday, February 23 2025 21:52:59
DPDK git baseline: Repo:dpdk
Branch: master
CommitID:a8d4d427e730162b47d187bface95032952d669a
151871-151872 --> testing pass
Upstream job id: Template-DTS-Pipeline#214076
Test environment and result as below:
+--------------------+----------------------+
| Environment | compressdev_zlib_pmd |
+====================+======================+
| Ubuntu 22.04 (ARM) | PASS |
+--------------------+----------------------+
Ubuntu 22.04 (ARM)
Kernel: 5.15.0-97-generic
Compiler: gcc gcc (Ubuntu 11.4.0-1ubuntu1~22.04) 11.4.0
To view detailed results, visit:
https://lab.dpdk.org/results/dashboard/patchsets/32658/
UNH-IOL DPDK Community Lab
To manage your email subscriptions, visit:
https://lab.dpdk.org/results/dashboard/preferences/subscriptions/
^ permalink raw reply [flat|nested] 14+ messages in thread
* |PENDING| pw151871-151872 [PATCH] [v10,2/2] net/af_xdp: Refactor af_
[not found] <20250223215259.448723-3-ariel.otilibili@6wind.com>
` (6 preceding siblings ...)
2025-02-24 10:13 ` dpdklab
@ 2025-02-24 10:16 ` dpdklab
2025-02-24 10:18 ` |SUCCESS| " dpdklab
` (5 subsequent siblings)
13 siblings, 0 replies; 14+ messages in thread
From: dpdklab @ 2025-02-24 10:16 UTC (permalink / raw)
To: Test Report; +Cc: dpdk-test-reports
Test-Label: iol-unit-amd64-testing
Test-Status: PENDING
http://dpdk.org/patch/151872
_Testing pending_
Submitter: Ariel Otilibili <ariel.otilibili@6wind.com>
Date: Sunday, February 23 2025 21:52:59
DPDK git baseline: Repo:dpdk
Branch: master
CommitID:a8d4d427e730162b47d187bface95032952d669a
151871-151872 --> testing pending
Upstream job id: Generic-Unit-Test-DPDK#317789
Test environment and result as below:
+-------------------+----------------+
| Environment | dpdk_unit_test |
+===================+================+
| CentOS Stream 9 | PEND |
+-------------------+----------------+
| CentOS Stream 10 | PEND |
+-------------------+----------------+
| Debian Bullseye | PEND |
+-------------------+----------------+
| Debian 12 | PEND |
+-------------------+----------------+
| Fedora 41 | PASS |
+-------------------+----------------+
| Fedora 40 | PEND |
+-------------------+----------------+
| Fedora 41 (Clang) | PEND |
+-------------------+----------------+
| RHEL9 | PEND |
+-------------------+----------------+
| Fedora 40 (Clang) | PEND |
+-------------------+----------------+
| RHEL8 | PEND |
+-------------------+----------------+
| Ubuntu 20.04 | PEND |
+-------------------+----------------+
| Ubuntu 24.04 | PEND |
+-------------------+----------------+
| Ubuntu 22.04 | PEND |
+-------------------+----------------+
CentOS Stream 9
Kernel: Depends on container host
Compiler: gcc 11.5.0 20240719 (Red Hat 11.5.0-2)
CentOS Stream 10
Kernel: Depends on container host
Compiler: gcc 14.2.1 20241104 (Red Hat 14.2.1-6)
Debian Bullseye
Kernel: Depends on container host
Compiler: gcc (Debian 10.2.1-6) 10.2.1 20210110
Debian 12
Kernel: Depends on container host
Compiler: gcc (Debian 12.2.0-14) 12.2.0
Fedora 41
Kernel: Depends on container host
Compiler: gcc 14.2.1 20240912 (Red Hat 14.2.1-3)
Fedora 40
Kernel: Depends on container host
Compiler: gcc 14.2.1 20240912 (Red Hat 14.2.1-3)
Fedora 41 (Clang)
Kernel: Depends on container host
Compiler: clang 19.1.5 (Fedora 19.1.5-1.fc41)
RHEL9
Kernel: Depends on container host
Compiler: gcc 11.5.0 20240719 (Red Hat 11.5.0-2)
Fedora 40 (Clang)
Kernel: Depends on container host
Compiler: clang 18.1.8 (Fedora 18.1.8-1.fc40)
RHEL8
Kernel: Depends on container host
Compiler: gcc 8.5.0 20210514 (Red Hat 8.5.0-22)
Ubuntu 20.04
Kernel: Depends on container host
Compiler: gcc (Ubuntu 9.4.0-1ubuntu1~20.04.2) 9.4.0
Ubuntu 24.04
Kernel: Depends on container host
Compiler: gcc (Ubuntu 13.3.0-6ubuntu2~24.04) 13.3.0
Ubuntu 22.04
Kernel: Depends on container host
Compiler: gcc (Ubuntu 11.4.0-1ubuntu1~22.04) 11.4.0
To view detailed results, visit:
https://lab.dpdk.org/results/dashboard/patchsets/32658/
UNH-IOL DPDK Community Lab
To manage your email subscriptions, visit:
https://lab.dpdk.org/results/dashboard/preferences/subscriptions/
^ permalink raw reply [flat|nested] 14+ messages in thread
* |SUCCESS| pw151871-151872 [PATCH] [v10,2/2] net/af_xdp: Refactor af_
[not found] <20250223215259.448723-3-ariel.otilibili@6wind.com>
` (7 preceding siblings ...)
2025-02-24 10:16 ` |PENDING| " dpdklab
@ 2025-02-24 10:18 ` dpdklab
2025-02-24 10:19 ` dpdklab
` (4 subsequent siblings)
13 siblings, 0 replies; 14+ messages in thread
From: dpdklab @ 2025-02-24 10:18 UTC (permalink / raw)
To: Test Report; +Cc: dpdk-test-reports
Test-Label: iol-intel-Performance
Test-Status: SUCCESS
http://dpdk.org/patch/151872
_Performance Testing PASS_
Submitter: Ariel Otilibili <ariel.otilibili@6wind.com>
Date: Sunday, February 23 2025 21:52:59
DPDK git baseline: Repo:dpdk
Branch: master
CommitID:a8d4d427e730162b47d187bface95032952d669a
151871-151872 --> performance testing pass
Upstream job id: Template-DTS-Pipeline#214067
Test environment and result as below:
Ubuntu 20.04
Kernel: 5.4.0-122-generic
Compiler: gcc 9.4.0
NIC: Intel Corporation Ethernet Converged Network Adapter XL710-QDA2 40000 Mbps
Fail/Total: 0/4
Detail performance results:
+----------+-------------+---------+------------+------------------------------+
| num_cpus | num_threads | txd/rxd | frame_size | throughput difference from |
| | | | | expected |
+==========+=============+=========+============+==============================+
| 1 | 2 | 512 | 64 | -0.0% |
+----------+-------------+---------+------------+------------------------------+
| 1 | 2 | 2048 | 64 | -1.7% |
+----------+-------------+---------+------------+------------------------------+
| 1 | 1 | 512 | 64 | 0.5% |
+----------+-------------+---------+------------+------------------------------+
| 1 | 1 | 2048 | 64 | -4.0% |
+----------+-------------+---------+------------+------------------------------+
Ubuntu 22.04
Kernel: 5.15.0-131-generic
Compiler: gcc (Ubuntu 11.4.0-1ubuntu1~22.04) 11.4.0
NIC: Intel Corporation Ethernet Converged Network Adapter 82599ES 10000 Mbps
Fail/Total: 0/6
Detail performance results:
+----------+-------------+---------+------------+------------------------------+
| num_cpus | num_threads | txd/rxd | frame_size | throughput difference from |
| | | | | expected |
+==========+=============+=========+============+==============================+
| 1 | 2 | 128 | 64 | 1.0% |
+----------+-------------+---------+------------+------------------------------+
| 1 | 2 | 512 | 64 | -0.1% |
+----------+-------------+---------+------------+------------------------------+
| 1 | 2 | 2048 | 64 | -0.1% |
+----------+-------------+---------+------------+------------------------------+
| 1 | 1 | 128 | 64 | 0.2% |
+----------+-------------+---------+------------+------------------------------+
| 1 | 1 | 512 | 64 | 0.6% |
+----------+-------------+---------+------------+------------------------------+
| 1 | 1 | 2048 | 64 | -0.6% |
+----------+-------------+---------+------------+------------------------------+
To view detailed results, visit:
https://lab.dpdk.org/results/dashboard/patchsets/32658/
UNH-IOL DPDK Community Lab
To manage your email subscriptions, visit:
https://lab.dpdk.org/results/dashboard/preferences/subscriptions/
^ permalink raw reply [flat|nested] 14+ messages in thread
* |SUCCESS| pw151871-151872 [PATCH] [v10,2/2] net/af_xdp: Refactor af_
[not found] <20250223215259.448723-3-ariel.otilibili@6wind.com>
` (8 preceding siblings ...)
2025-02-24 10:18 ` |SUCCESS| " dpdklab
@ 2025-02-24 10:19 ` dpdklab
2025-02-24 10:27 ` |PENDING| " dpdklab
` (3 subsequent siblings)
13 siblings, 0 replies; 14+ messages in thread
From: dpdklab @ 2025-02-24 10:19 UTC (permalink / raw)
To: Ali Alnubani, Test Report; +Cc: dpdk-test-reports
Test-Label: iol-mellanox-Performance
Test-Status: SUCCESS
http://dpdk.org/patch/151872
_Performance Testing PASS_
Submitter: Ariel Otilibili <ariel.otilibili@6wind.com>
Date: Sunday, February 23 2025 21:52:59
DPDK git baseline: Repo:dpdk
Branch: master
CommitID:a8d4d427e730162b47d187bface95032952d669a
151871-151872 --> performance testing pass
Upstream job id: Template-DTS-Pipeline#214065
Test environment and result as below:
Ubuntu 24.04
Kernel: 6.8.0-45-generic
Compiler: gcc 13.2.0
NIC: NVIDIA Mellanox ConnectX-7 100000 Mbps
Fail/Total: 0/6
Detail performance results:
+------------+---------+----------+-------------+------------------------------+
| frame_size | txd/rxd | num_cpus | num_threads | throughput difference from |
| | | | | expected |
+============+=========+==========+=============+==============================+
| 64 | 1024 | 1 | 1 | -0.4% |
+------------+---------+----------+-------------+------------------------------+
| 128 | 1024 | 1 | 1 | -0.8% |
+------------+---------+----------+-------------+------------------------------+
| 256 | 1024 | 1 | 1 | 2.1% |
+------------+---------+----------+-------------+------------------------------+
| 512 | 1024 | 1 | 1 | 0.2% |
+------------+---------+----------+-------------+------------------------------+
| 1024 | 1024 | 1 | 1 | -0.1% |
+------------+---------+----------+-------------+------------------------------+
| 1518 | 1024 | 1 | 1 | 0.2% |
+------------+---------+----------+-------------+------------------------------+
Ubuntu 24.04
Kernel: 6.8.0-45-generic
Compiler: gcc 13.2.0
NIC: Mellanox ConnectX-6 Lx 25000 Mbps
Fail/Total: 0/6
Detail performance results:
+------------+---------+----------+-------------+------------------------------+
| frame_size | txd/rxd | num_cpus | num_threads | throughput difference from |
| | | | | expected |
+============+=========+==========+=============+==============================+
| 64 | 1024 | 1 | 1 | -0.0% |
+------------+---------+----------+-------------+------------------------------+
| 128 | 1024 | 1 | 1 | 0.0% |
+------------+---------+----------+-------------+------------------------------+
| 256 | 1024 | 1 | 1 | -0.0% |
+------------+---------+----------+-------------+------------------------------+
| 512 | 1024 | 1 | 1 | -0.0% |
+------------+---------+----------+-------------+------------------------------+
| 1024 | 1024 | 1 | 1 | -0.2% |
+------------+---------+----------+-------------+------------------------------+
| 1518 | 1024 | 1 | 1 | -0.2% |
+------------+---------+----------+-------------+------------------------------+
To view detailed results, visit:
https://lab.dpdk.org/results/dashboard/patchsets/32658/
UNH-IOL DPDK Community Lab
To manage your email subscriptions, visit:
https://lab.dpdk.org/results/dashboard/preferences/subscriptions/
^ permalink raw reply [flat|nested] 14+ messages in thread
* |PENDING| pw151871-151872 [PATCH] [v10,2/2] net/af_xdp: Refactor af_
[not found] <20250223215259.448723-3-ariel.otilibili@6wind.com>
` (9 preceding siblings ...)
2025-02-24 10:19 ` dpdklab
@ 2025-02-24 10:27 ` dpdklab
2025-02-24 10:42 ` |SUCCESS| " dpdklab
` (2 subsequent siblings)
13 siblings, 0 replies; 14+ messages in thread
From: dpdklab @ 2025-02-24 10:27 UTC (permalink / raw)
To: Test Report; +Cc: dpdk-test-reports
Test-Label: iol-compile-amd64-testing
Test-Status: PENDING
http://dpdk.org/patch/151872
_Testing pending_
Submitter: Ariel Otilibili <ariel.otilibili@6wind.com>
Date: Sunday, February 23 2025 21:52:59
DPDK git baseline: Repo:dpdk
Branch: master
CommitID:a8d4d427e730162b47d187bface95032952d669a
151871-151872 --> testing pending
Upstream job id: Generic-DPDK-Compile-Meson#364596
Test environment and result as below:
+-------------------+--------------------+-------------------+------------------+
| Environment | dpdk_meson_compile | dpdk_compile_spdk | dpdk_compile_ovs |
+===================+====================+===================+==================+
| CentOS Stream 9 | PEND | PEND | SKIPPED |
+-------------------+--------------------+-------------------+------------------+
| CentOS Stream 10 | PASS | SKIPPED | SKIPPED |
+-------------------+--------------------+-------------------+------------------+
| Fedora 40 (Clang) | PEND | PEND | SKIPPED |
+-------------------+--------------------+-------------------+------------------+
| Debian 12 | PEND | PEND | SKIPPED |
+-------------------+--------------------+-------------------+------------------+
| Debian Bullseye | PEND | PEND | SKIPPED |
+-------------------+--------------------+-------------------+------------------+
| Fedora 40 | PEND | PEND | SKIPPED |
+-------------------+--------------------+-------------------+------------------+
| Fedora 41 | PEND | PEND | PEND |
+-------------------+--------------------+-------------------+------------------+
| openSUSE Leap 15 | PEND | SKIPPED | SKIPPED |
+-------------------+--------------------+-------------------+------------------+
| Fedora 41 (Clang) | PEND | PEND | PEND |
+-------------------+--------------------+-------------------+------------------+
| RHEL8 | PEND | SKIPPED | SKIPPED |
+-------------------+--------------------+-------------------+------------------+
| Ubuntu 20.04 | PEND | SKIPPED | SKIPPED |
+-------------------+--------------------+-------------------+------------------+
CentOS Stream 9
Kernel: Depends on container host
Compiler: gcc 11.5.0 20240719 (Red Hat 11.5.0-2)
CentOS Stream 10
Kernel: Depends on container host
Compiler: gcc 14.2.1 20241104 (Red Hat 14.2.1-6)
Fedora 40 (Clang)
Kernel: Depends on container host
Compiler: clang 18.1.8 (Fedora 18.1.8-1.fc40)
Debian 12
Kernel: Depends on container host
Compiler: gcc (Debian 12.2.0-14) 12.2.0
Debian Bullseye
Kernel: Depends on container host
Compiler: gcc (Debian 10.2.1-6) 10.2.1 20210110
Fedora 40
Kernel: Depends on container host
Compiler: gcc 14.2.1 20240912 (Red Hat 14.2.1-3)
Fedora 41
Kernel: Depends on container host
Compiler: gcc 14.2.1 20240912 (Red Hat 14.2.1-3)
openSUSE Leap 15
Kernel: Depends on container host
Compiler: gcc (SUSE Linux) 7.5.0
Fedora 41 (Clang)
Kernel: Depends on container host
Compiler: clang 19.1.5 (Fedora 19.1.5-1.fc41)
RHEL8
Kernel: Depends on container host
Compiler: gcc 8.5.0 20210514 (Red Hat 8.5.0-22)
Ubuntu 20.04
Kernel: Depends on container host
Compiler: gcc (Ubuntu 9.4.0-1ubuntu1~20.04.2) 9.4.0
To view detailed results, visit:
https://lab.dpdk.org/results/dashboard/patchsets/32658/
UNH-IOL DPDK Community Lab
To manage your email subscriptions, visit:
https://lab.dpdk.org/results/dashboard/preferences/subscriptions/
^ permalink raw reply [flat|nested] 14+ messages in thread
* |SUCCESS| pw151871-151872 [PATCH] [v10,2/2] net/af_xdp: Refactor af_
[not found] <20250223215259.448723-3-ariel.otilibili@6wind.com>
` (10 preceding siblings ...)
2025-02-24 10:27 ` |PENDING| " dpdklab
@ 2025-02-24 10:42 ` dpdklab
2025-02-24 11:19 ` dpdklab
2025-02-24 12:08 ` dpdklab
13 siblings, 0 replies; 14+ messages in thread
From: dpdklab @ 2025-02-24 10:42 UTC (permalink / raw)
To: Test Report; +Cc: dpdk-test-reports
Test-Label: iol-sample-apps-testing
Test-Status: SUCCESS
http://dpdk.org/patch/151872
_Testing PASS_
Submitter: Ariel Otilibili <ariel.otilibili@6wind.com>
Date: Sunday, February 23 2025 21:52:59
DPDK git baseline: Repo:dpdk
Branch: master
CommitID:a8d4d427e730162b47d187bface95032952d669a
151871-151872 --> testing pass
Upstream job id: Template-DTS-Pipeline#214075
Test environment and result as below:
+--------------------+----------------------+
| Environment | compressdev_zlib_pmd |
+====================+======================+
| Ubuntu 22.04 (ARM) | PASS |
+--------------------+----------------------+
| Ubuntu 22.04 | PASS |
+--------------------+----------------------+
Ubuntu 22.04 (ARM)
Kernel: 5.15.0-97-generic
Compiler: gcc gcc (Ubuntu 11.4.0-1ubuntu1~22.04) 11.4.0
Ubuntu 22.04
Kernel: 5.15.0-100-generic
Compiler: gcc gcc (Ubuntu 11.4.0-1ubuntu1~22.04) 11.4.0
To view detailed results, visit:
https://lab.dpdk.org/results/dashboard/patchsets/32658/
UNH-IOL DPDK Community Lab
To manage your email subscriptions, visit:
https://lab.dpdk.org/results/dashboard/preferences/subscriptions/
^ permalink raw reply [flat|nested] 14+ messages in thread
* |SUCCESS| pw151871-151872 [PATCH] [v10,2/2] net/af_xdp: Refactor af_
[not found] <20250223215259.448723-3-ariel.otilibili@6wind.com>
` (11 preceding siblings ...)
2025-02-24 10:42 ` |SUCCESS| " dpdklab
@ 2025-02-24 11:19 ` dpdklab
2025-02-24 12:08 ` dpdklab
13 siblings, 0 replies; 14+ messages in thread
From: dpdklab @ 2025-02-24 11:19 UTC (permalink / raw)
To: Test Report; +Cc: dpdk-test-reports
Test-Label: iol-unit-arm64-testing
Test-Status: SUCCESS
http://dpdk.org/patch/151872
_Testing PASS_
Submitter: Ariel Otilibili <ariel.otilibili@6wind.com>
Date: Sunday, February 23 2025 21:52:59
DPDK git baseline: Repo:dpdk
Branch: master
CommitID:a8d4d427e730162b47d187bface95032952d669a
151871-151872 --> testing pass
Upstream job id: Generic-Unit-Test-DPDK#317802
Test environment and result as below:
+-----------------------------+----------------+--------------+---------------------------+------------------------------+
| Environment | dpdk_unit_test | lpm_autotest | cryptodev_sw_zuc_autotest | cryptodev_sw_snow3g_autotest |
+=============================+================+==============+===========================+==============================+
| CentOS Stream 10 (ARM) | PASS | SKIPPED | SKIPPED | SKIPPED |
+-----------------------------+----------------+--------------+---------------------------+------------------------------+
| CentOS Stream 9 (ARM) | PASS | SKIPPED | SKIPPED | SKIPPED |
+-----------------------------+----------------+--------------+---------------------------+------------------------------+
| Fedora 40 (ARM) | PASS | SKIPPED | SKIPPED | SKIPPED |
+-----------------------------+----------------+--------------+---------------------------+------------------------------+
| Fedora 40 (ARM Clang) | PASS | SKIPPED | SKIPPED | SKIPPED |
+-----------------------------+----------------+--------------+---------------------------+------------------------------+
| Fedora 41 (ARM) | PASS | SKIPPED | SKIPPED | SKIPPED |
+-----------------------------+----------------+--------------+---------------------------+------------------------------+
| Debian 12 (arm) | PASS | SKIPPED | PASS | PASS |
+-----------------------------+----------------+--------------+---------------------------+------------------------------+
| Debian 11 (Buster) (ARM) | PASS | SKIPPED | SKIPPED | SKIPPED |
+-----------------------------+----------------+--------------+---------------------------+------------------------------+
| Fedora 41 (ARM Clang) | PASS | SKIPPED | SKIPPED | SKIPPED |
+-----------------------------+----------------+--------------+---------------------------+------------------------------+
| 32-bit Ubuntu 22.04.4 (ARM) | PASS | SKIPPED | SKIPPED | SKIPPED |
+-----------------------------+----------------+--------------+---------------------------+------------------------------+
| Ubuntu 22.04 (ARM) | PASS | SKIPPED | SKIPPED | SKIPPED |
+-----------------------------+----------------+--------------+---------------------------+------------------------------+
| Ubuntu 20.04 (ARM) | PASS | SKIPPED | SKIPPED | SKIPPED |
+-----------------------------+----------------+--------------+---------------------------+------------------------------+
| Ubuntu 24.04 (ARM) | PASS | SKIPPED | SKIPPED | SKIPPED |
+-----------------------------+----------------+--------------+---------------------------+------------------------------+
| RHEL9 (ARM) | PASS | SKIPPED | SKIPPED | SKIPPED |
+-----------------------------+----------------+--------------+---------------------------+------------------------------+
| Ubuntu 20.04 ARM SVE | SKIPPED | PASS | SKIPPED | SKIPPED |
+-----------------------------+----------------+--------------+---------------------------+------------------------------+
CentOS Stream 10 (ARM)
Kernel: Depends on container host
Compiler: gcc 14.2.1 20241104 (Red Hat 14.2.1-6)
CentOS Stream 9 (ARM)
Kernel: Depends on container host
Compiler: gcc 11.5.0 20240719 (Red Hat 11.5.0-2)
Fedora 40 (ARM)
Kernel: Depends on container host
Compiler: gcc 14.2.1 20240912 (Red Hat 14.2.1-3)
Fedora 40 (ARM Clang)
Kernel: Depends on container host
Compiler: clang 18.1.8 (Fedora 18.1.8-1.fc40)
Fedora 41 (ARM)
Kernel: Depends on container host
Compiler: gcc 14.2.1 20240912 (Red Hat 14.2.1-3)
Debian 12 (arm)
Kernel: Depends on container host
Compiler: gcc (Debian 12.2.0-14) 12.2.0
Debian 11 (Buster) (ARM)
Kernel: Depends on container host
Compiler: gcc (Debian 10.2.1-6) 10.2.1 20210110
Fedora 41 (ARM Clang)
Kernel: Depends on container host
Compiler: clang 19.1.5 (Fedora 19.1.5-1.fc41)
32-bit Ubuntu 22.04.4 (ARM)
Kernel: 5.15.83+ aarch64
Compiler: gcc (Ubuntu 11.4.0-1ubuntu1~22.04) 11.4.0
Ubuntu 22.04 (ARM)
Kernel: Depends on container host
Compiler: gcc (Ubuntu 11.4.0-1ubuntu1~22.04) 11.4.0
Ubuntu 20.04 (ARM)
Kernel: Depends on container host
Compiler: gcc (Ubuntu 9.4.0-1ubuntu1~20.04.2) 9.4.0
Ubuntu 24.04 (ARM)
Kernel: Depends on container host
Compiler: gcc (Ubuntu 13.3.0-6ubuntu2~24.04) 13.3.0
RHEL9 (ARM)
Kernel: Depends on container host
Compiler: gcc 11.5.0 20240719 (Red Hat 11.5.0-2)
Ubuntu 20.04 ARM SVE
Kernel: Depends on container host
Compiler: gcc (Ubuntu 10.5.0-1ubuntu1~20.04) 10.5.0
To view detailed results, visit:
https://lab.dpdk.org/results/dashboard/patchsets/32658/
UNH-IOL DPDK Community Lab
To manage your email subscriptions, visit:
https://lab.dpdk.org/results/dashboard/preferences/subscriptions/
^ permalink raw reply [flat|nested] 14+ messages in thread
* |SUCCESS| pw151871-151872 [PATCH] [v10,2/2] net/af_xdp: Refactor af_
[not found] <20250223215259.448723-3-ariel.otilibili@6wind.com>
` (12 preceding siblings ...)
2025-02-24 11:19 ` dpdklab
@ 2025-02-24 12:08 ` dpdklab
13 siblings, 0 replies; 14+ messages in thread
From: dpdklab @ 2025-02-24 12:08 UTC (permalink / raw)
To: Test Report; +Cc: dpdk-test-reports
Test-Label: iol-sample-apps-testing
Test-Status: SUCCESS
http://dpdk.org/patch/151872
_Testing PASS_
Submitter: Ariel Otilibili <ariel.otilibili@6wind.com>
Date: Sunday, February 23 2025 21:52:59
DPDK git baseline: Repo:dpdk
Branch: master
CommitID:a8d4d427e730162b47d187bface95032952d669a
151871-151872 --> testing pass
Upstream job id: ACVP-FIPS-testing#9024
Test environment and result as below:
+--------------------+----------------------+----------------------+
| Environment | compressdev_zlib_pmd | dpdk_fips_validation |
+====================+======================+======================+
| Ubuntu 22.04 (ARM) | PASS | SKIPPED |
+--------------------+----------------------+----------------------+
| Ubuntu 22.04 | PASS | SKIPPED |
+--------------------+----------------------+----------------------+
| Ubuntu 20.04 | SKIPPED | PASS |
+--------------------+----------------------+----------------------+
Ubuntu 22.04 (ARM)
Kernel: 5.15.0-97-generic
Compiler: gcc gcc (Ubuntu 11.4.0-1ubuntu1~22.04) 11.4.0
Ubuntu 22.04
Kernel: 5.15.0-100-generic
Compiler: gcc gcc (Ubuntu 11.4.0-1ubuntu1~22.04) 11.4.0
Ubuntu 20.04
Kernel: Depends on container host
Compiler: gcc (Ubuntu 9.4.0-1ubuntu1~20.04.2) 9.4.0
To view detailed results, visit:
https://lab.dpdk.org/results/dashboard/patchsets/32658/
UNH-IOL DPDK Community Lab
To manage your email subscriptions, visit:
https://lab.dpdk.org/results/dashboard/preferences/subscriptions/
^ permalink raw reply [flat|nested] 14+ messages in thread