From mboxrd@z Thu Jan 1 00:00:00 1970 Return-Path: Received: from mails.dpdk.org (mails.dpdk.org [217.70.189.124]) by inbox.dpdk.org (Postfix) with ESMTP id F22E2462AA for ; Mon, 24 Feb 2025 13:08:33 +0100 (CET) Received: from mails.dpdk.org (localhost [127.0.0.1]) by mails.dpdk.org (Postfix) with ESMTP id C78E640DCE; Mon, 24 Feb 2025 13:08:33 +0100 (CET) Received: from mail-qv1-f97.google.com (mail-qv1-f97.google.com [209.85.219.97]) by mails.dpdk.org (Postfix) with ESMTP id 2E1BD4042E for ; Mon, 24 Feb 2025 13:08:32 +0100 (CET) Received: by mail-qv1-f97.google.com with SMTP id 6a1803df08f44-6e672a21b9dso43933736d6.1 for ; Mon, 24 Feb 2025 04:08:32 -0800 (PST) DKIM-Signature: v=1; a=rsa-sha256; c=relaxed/relaxed; d=iol.unh.edu; s=unh-iol; t=1740398911; x=1741003711; darn=dpdk.org; h=references:in-reply-to:cc:to:from:subject:message-id:date:from:to :cc:subject:date:message-id:reply-to; bh=yYf2ZvF8h3pPa6mDCqXLRz5kShLzfErvvJm1ZiaJPy4=; b=d7LqtuSF8p+be5STHu84jMwQhc2XPoql3XDWJwviW7lsGuGsYqGQGNi4eOsxp/ucRy bRksU0pwaigByjz/rAZ+gJ2Jv1AFTSO4c60PttU8d4tvXHoBxgu34drmj++RUHOZc5Wh T3FG5426tVgG4/vWddHevmf5TxsH3FSVjLUKk= X-Google-DKIM-Signature: v=1; a=rsa-sha256; c=relaxed/relaxed; d=1e100.net; s=20230601; t=1740398911; x=1741003711; h=references:in-reply-to:cc:to:from:subject:message-id:date :x-gm-message-state:from:to:cc:subject:date:message-id:reply-to; bh=yYf2ZvF8h3pPa6mDCqXLRz5kShLzfErvvJm1ZiaJPy4=; b=mlQdIQpFf/bf2FFSFCzUfK7BRsINPYFCHcqL9ZRRJ8MkNnwY3lZtN5z4mcQela3uTB ArhffNRfRQNTAfB277VZu3wSZYYEVFXHjrXNNi/XIS+0dHk3bW8Stw+l0eEL8dbn8M4H wiXXXnws22XojXPJe0Zm4AZ/aSOlUG/mRF2AE1B8GCaEqwm05M9N+PmnFzxdYeqqBwxZ 4pV6NYLhXDGfacyAVkMA5VQKjPXCAg7u1lUDUn2a0frs8/Tyw56NcPZJ4RfLb5q9OFpe XStr6jqaxI/CVP6R39BbyFplwLSZM+fuuzGVIBl8lTZbwzodp3yLXtviFopmMGwTGeM9 eNxQ== X-Gm-Message-State: AOJu0YwQ86rnGMIyR22OBTEEn0zUSZaQlf7CN4LlAXSSuv8EMoXJu7Ny OKjX0MqtLXjlUpioa2UO0ggb0aThZR308raO6ns7uYjILUCE2PvenxlERSt0mQuMP3ztBP56lKq fj+QHYbBTEx0/dUlzE4+qbIMTcL6L9PW633bsvNZ4o6L6NP8RbhiOg/Td X-Gm-Gg: ASbGncv4G/OhTkeZV8mHzOGXRlgW/EuoWeLk2c18icv/qCopxhrScO+3ovaBA+g/MrD aScvfQkNbAxgmLUuOD48ItthmsSaN1p5z8gfPHfnV4TfIV5/kQA3EL3J352y6pexmfevrx4qj0j Mwv1svfxjZVd7v1wTFlVkHoGqEn1KvY5JYgkKVexQv6jWxf4mfxEcz8HP8Md2xy5bwX9qJmAMdl zuVG9zaBIfckgeUurItWhSx/Pn0U5gR+CVGn3nc2YviGrEGCkhJm7woEC9z2m/eNeiVr0Q5j0cy e7EKyh8lhPo3OIcetwrqPDMmF1UQzRNaBr6x1Hinh+3uftXhcCRS X-Google-Smtp-Source: AGHT+IEnykdSLOFKLfhAaFr8DVrMO9RwqTCCOCvdR3aX6nVVdeJ5Cz7rw3Aw8jSGgZk2Z8YA2bQVsproSmLa X-Received: by 2002:a05:6214:27e2:b0:6e6:6c10:76fb with SMTP id 6a1803df08f44-6e6ae82f716mr160591966d6.25.1740398911539; Mon, 24 Feb 2025 04:08:31 -0800 (PST) Received: from postal.iol.unh.edu (postal.iol.unh.edu. [2606:4100:3880:1234::84]) by smtp-relay.gmail.com with ESMTPS id 6a1803df08f44-6e65d7a391esm9261946d6.68.2025.02.24.04.08.31 (version=TLS1_2 cipher=ECDHE-ECDSA-AES128-GCM-SHA256 bits=128/128); Mon, 24 Feb 2025 04:08:31 -0800 (PST) X-Relaying-Domain: iol.unh.edu Date: Mon, 24 Feb 2025 04:08:31 -0800 (PST) Message-ID: <67bc613f.d40a0220.230fa.d600SMTPIN_ADDED_MISSING@mx.google.com> Received: from [172.17.0.3] (unknown [172.18.0.217]) by postal.iol.unh.edu (Postfix) with ESMTP id 246BC6052471; Mon, 24 Feb 2025 07:08:31 -0500 (EST) Subject: |SUCCESS| pw151871-151872 [PATCH] [v10,2/2] net/af_xdp: Refactor af_ From: dpdklab@iol.unh.edu To: Test Report Cc: dpdk-test-reports@iol.unh.edu In-Reply-To: <20250223215259.448723-3-ariel.otilibili@6wind.com> References: <20250223215259.448723-3-ariel.otilibili@6wind.com> Content-Type: text/plain X-BeenThere: test-report@dpdk.org X-Mailman-Version: 2.1.29 Precedence: list List-Id: automatic DPDK test reports List-Unsubscribe: , List-Archive: List-Post: List-Help: List-Subscribe: , Errors-To: test-report-bounces@dpdk.org Test-Label: iol-sample-apps-testing Test-Status: SUCCESS http://dpdk.org/patch/151872 _Testing PASS_ Submitter: Ariel Otilibili Date: Sunday, February 23 2025 21:52:59 DPDK git baseline: Repo:dpdk Branch: master CommitID:a8d4d427e730162b47d187bface95032952d669a 151871-151872 --> testing pass Upstream job id: ACVP-FIPS-testing#9024 Test environment and result as below: +--------------------+----------------------+----------------------+ | Environment | compressdev_zlib_pmd | dpdk_fips_validation | +====================+======================+======================+ | Ubuntu 22.04 (ARM) | PASS | SKIPPED | +--------------------+----------------------+----------------------+ | Ubuntu 22.04 | PASS | SKIPPED | +--------------------+----------------------+----------------------+ | Ubuntu 20.04 | SKIPPED | PASS | +--------------------+----------------------+----------------------+ Ubuntu 22.04 (ARM) Kernel: 5.15.0-97-generic Compiler: gcc gcc (Ubuntu 11.4.0-1ubuntu1~22.04) 11.4.0 Ubuntu 22.04 Kernel: 5.15.0-100-generic Compiler: gcc gcc (Ubuntu 11.4.0-1ubuntu1~22.04) 11.4.0 Ubuntu 20.04 Kernel: Depends on container host Compiler: gcc (Ubuntu 9.4.0-1ubuntu1~20.04.2) 9.4.0 To view detailed results, visit: https://lab.dpdk.org/results/dashboard/patchsets/32658/ UNH-IOL DPDK Community Lab To manage your email subscriptions, visit: https://lab.dpdk.org/results/dashboard/preferences/subscriptions/