From mboxrd@z Thu Jan 1 00:00:00 1970 Return-Path: Received: from mails.dpdk.org (mails.dpdk.org [217.70.189.124]) by inbox.dpdk.org (Postfix) with ESMTP id 5E569462AB for ; Mon, 24 Feb 2025 14:40:08 +0100 (CET) Received: from mails.dpdk.org (localhost [127.0.0.1]) by mails.dpdk.org (Postfix) with ESMTP id 55B3F40E7C; Mon, 24 Feb 2025 14:40:08 +0100 (CET) Received: from mail-pl1-f225.google.com (mail-pl1-f225.google.com [209.85.214.225]) by mails.dpdk.org (Postfix) with ESMTP id 2796F402A4 for ; Mon, 24 Feb 2025 14:40:06 +0100 (CET) Received: by mail-pl1-f225.google.com with SMTP id d9443c01a7336-220e6028214so93902895ad.0 for ; Mon, 24 Feb 2025 05:40:06 -0800 (PST) DKIM-Signature: v=1; a=rsa-sha256; c=relaxed/relaxed; d=iol.unh.edu; s=unh-iol; t=1740404405; x=1741009205; darn=dpdk.org; h=references:in-reply-to:cc:to:from:subject:message-id:date:from:to :cc:subject:date:message-id:reply-to; bh=G19xhxm96HZxpJ3Nz8qigUjwVfSO7HZ7tDfB0Yb4Vpg=; b=f4JAkdlSnD4+uZzNAKuuuy0jCPJrKBNciR5GzHL/SUBmUgsABVRrk3AhNQzXPClyL8 T1yy5XnUKxep11HbkQPXLlZRjWR9mN3vZiIiyeI98YGhjv+sFNVRAii0iHmQ0E4Fd8XP h20seMj8IM1dJtNDD2DdpIDmnWhCD1VhP8sN8= X-Google-DKIM-Signature: v=1; a=rsa-sha256; c=relaxed/relaxed; d=1e100.net; s=20230601; t=1740404405; x=1741009205; h=references:in-reply-to:cc:to:from:subject:message-id:date :x-gm-message-state:from:to:cc:subject:date:message-id:reply-to; bh=G19xhxm96HZxpJ3Nz8qigUjwVfSO7HZ7tDfB0Yb4Vpg=; b=ptI7Vmps2Jj3sqxUnUrlCPMYql+n6LCC2HwB/X0avqdV5QocEBbD+JfAN+KKasm6Tq aAA+6PBDn3WEyzR3zg66rXVGMIdYctNHHaBhtmpqi5u6C2bCUw8YwfDR1qiEvk0TUOWm 1U2QvfUs4jcbiOaHKZmvcVOLdNFw6uSukdAOqCng6HzxPwr5yJldqRTMBN0ATEVKKsHk cbjBImsjmt3YO9d7eei4Ad4u3KI0dim9n2F2CrwuQUh7RFgaUJAjQ5I0Z50cy3DuA8go XL7LjxM8I1tMZszw3lZ8SX37edgzb9LcWMYnFvqc4JstYmzPHhO957pOCEPF0B7XOVVg 1VzA== X-Gm-Message-State: AOJu0YxZGATo4peZiL/2M3S6YHcDll7wi2Y7i7rol5n8/9ro8fGNu4Rs 4EIfgr+NZDS0MfIVWsgT+uaG37utcAQgfWhccYCmbuKXaGrnE/Hwnu6StBEflxS9vx1rgTBurWa 0JAEBdbiXK6LYmcPP0Ztd13plWNDgPlLYyPdg2uBm X-Gm-Gg: ASbGncvv2oagVgLOyR30qFtNihnxZ0Ka4NKOqfq4zNoPpIEZbEo/yisCnS0Hz0QD09F J5Fx9vbPKuktnaa+TEzhPrYC5jb7U/FA1LPKWfzsmJBO3Mi756Au6wj7r3Xnt00HtPpSti+zuFI uAjK/7Yg7wXc7b9c00U7DmBiKS50BVnQ/gqnmo+oXJw3VD8x9s1XlQ8CulAoKa/oJB02W+hkvdq vqFKExfQoyC+FOi7wXn+JDkRVNHDs+0HWiCYk3lomANm09d5EYMlQogExFGID510iCi5+ObKXqc Xb3cPGQF/ltyFsOSQcw4JF01AF070Mp5AbNfkNS3 X-Google-Smtp-Source: AGHT+IFnbR7/g6/gpv+22HocFyR6t1j6cKjZZfdaCzCVe024s2vXT/g60qooB+1jvIcDMstGm1OZdQI+PadL X-Received: by 2002:a17:903:2288:b0:221:331:1d46 with SMTP id d9443c01a7336-2219ff8278fmr203423685ad.2.1740404405273; Mon, 24 Feb 2025 05:40:05 -0800 (PST) Received: from postal.iol.unh.edu (postal.iol.unh.edu. [132.177.123.84]) by smtp-relay.gmail.com with ESMTPS id d9443c01a7336-220d540b3c3sm10305705ad.101.2025.02.24.05.40.05 (version=TLS1_2 cipher=ECDHE-ECDSA-AES128-GCM-SHA256 bits=128/128); Mon, 24 Feb 2025 05:40:05 -0800 (PST) X-Relaying-Domain: iol.unh.edu Date: Mon, 24 Feb 2025 05:40:05 -0800 (PST) Message-ID: <67bc76b5.170a0220.3d8425.1c78SMTPIN_ADDED_MISSING@mx.google.com> Received: from [172.17.0.4] (unknown [172.18.0.217]) by postal.iol.unh.edu (Postfix) with ESMTP id 4A5106052471; Mon, 24 Feb 2025 08:40:04 -0500 (EST) Subject: |SUCCESS| pw151950-151951 [PATCH] [4/4] net/ena: upgrade driver vers From: dpdklab@iol.unh.edu To: Test Report Cc: dpdk-test-reports@iol.unh.edu In-Reply-To: <20250224114011.1789-5-shaibran@amazon.com> References: <20250224114011.1789-5-shaibran@amazon.com> Content-Type: text/plain X-BeenThere: test-report@dpdk.org X-Mailman-Version: 2.1.29 Precedence: list List-Id: automatic DPDK test reports List-Unsubscribe: , List-Archive: List-Post: List-Help: List-Subscribe: , Errors-To: test-report-bounces@dpdk.org Test-Label: iol-sample-apps-testing Test-Status: SUCCESS http://dpdk.org/patch/151951 _Testing PASS_ Submitter: Brandes, Shai Date: Monday, February 24 2025 11:40:11 DPDK git baseline: Repo:dpdk Branch: master CommitID:a8d4d427e730162b47d187bface95032952d669a 151950-151951 --> testing pass Upstream job id: ACVP-FIPS-testing#9025 Test environment and result as below: +--------------------+----------------------+----------------------+ | Environment | compressdev_zlib_pmd | dpdk_fips_validation | +====================+======================+======================+ | Ubuntu 22.04 (ARM) | PASS | SKIPPED | +--------------------+----------------------+----------------------+ | Ubuntu 22.04 | PASS | SKIPPED | +--------------------+----------------------+----------------------+ | Ubuntu 20.04 | SKIPPED | PASS | +--------------------+----------------------+----------------------+ Ubuntu 22.04 (ARM) Kernel: 5.15.0-97-generic Compiler: gcc gcc (Ubuntu 11.4.0-1ubuntu1~22.04) 11.4.0 Ubuntu 22.04 Kernel: 5.15.0-100-generic Compiler: gcc gcc (Ubuntu 11.4.0-1ubuntu1~22.04) 11.4.0 Ubuntu 20.04 Kernel: Depends on container host Compiler: gcc (Ubuntu 9.4.0-1ubuntu1~20.04.2) 9.4.0 To view detailed results, visit: https://lab.dpdk.org/results/dashboard/patchsets/32664/ UNH-IOL DPDK Community Lab To manage your email subscriptions, visit: https://lab.dpdk.org/results/dashboard/preferences/subscriptions/