From mboxrd@z Thu Jan 1 00:00:00 1970 Return-Path: Received: from mails.dpdk.org (mails.dpdk.org [217.70.189.124]) by inbox.dpdk.org (Postfix) with ESMTP id E055F462AB for ; Mon, 24 Feb 2025 15:34:38 +0100 (CET) Received: from mails.dpdk.org (localhost [127.0.0.1]) by mails.dpdk.org (Postfix) with ESMTP id C5A9740DDD; Mon, 24 Feb 2025 15:34:37 +0100 (CET) Received: from mail-io1-f100.google.com (mail-io1-f100.google.com [209.85.166.100]) by mails.dpdk.org (Postfix) with ESMTP id 68EBE40657 for ; Mon, 24 Feb 2025 15:34:36 +0100 (CET) Received: by mail-io1-f100.google.com with SMTP id ca18e2360f4ac-855a54f83fdso375985439f.0 for ; Mon, 24 Feb 2025 06:34:36 -0800 (PST) DKIM-Signature: v=1; a=rsa-sha256; c=relaxed/relaxed; d=iol.unh.edu; s=unh-iol; t=1740407675; x=1741012475; darn=dpdk.org; h=references:in-reply-to:cc:to:from:subject:message-id:date:from:to :cc:subject:date:message-id:reply-to; bh=tDnGa/C3CClRAuiuuOWmoB8NhVrwyxuUKyk5BMcNyfI=; b=YxvUd/VKEBbagdsOtxCKY8s2LwrKP8E+VOaJ3URX4NbvtXMtwBthGhmR7n7BirVaL0 LQqbybwU3VOjHAKM4666i7V42Xbx+G2vB+A+APL4Q/qoUvedWpmqY9P2swOIWaETDDT4 I0yt8sqKamTrcbA2EbGX6PXYiPEz49tBbQTJY= X-Google-DKIM-Signature: v=1; a=rsa-sha256; c=relaxed/relaxed; d=1e100.net; s=20230601; t=1740407675; x=1741012475; h=references:in-reply-to:cc:to:from:subject:message-id:date :x-gm-message-state:from:to:cc:subject:date:message-id:reply-to; bh=tDnGa/C3CClRAuiuuOWmoB8NhVrwyxuUKyk5BMcNyfI=; b=SKqVlujowQtpGx6uxvBmnduJmPppMtHZLjbj+C/dNb3j+ejDic6S/9qYPb5kC2F0ye YwMsEkDARzzhvfyvkdifE6IJGSxJHKLSLb9b8pprabFKHE2LJwOs0aKXA0uHNyZMDR4C pHg4GjsSvl2GEkgOWL6wDrLOshtV1BvoUuH1ETmp+Thiqph9Mfugh1fPvhQZ9iUrRtw/ JWEZG27XJR483z8Z2P0ym2SF2W5Zu3MEN9xdDxpS2PZYdH84j7r6n8SAROwZnIVFx8Pt CKWj4zOkpBXmq6Wqhre7ZEVuyjGVWFei4gg0M1LTjXdygW5JcwB4AWAvQEezcnluo29j tKhw== X-Gm-Message-State: AOJu0YydO3/1HlYCdzOD+Ca/zmCjsrtpIYd332eLyTTCEMFxivWsSOLd lkAjVnhSJJMEEems6zIU1/B1OaFqu9Tt96+t0roL7N9zkCprv3QUsNx9a6QxYJzLIOVWgPFQrRK ZrwAq7LQ+XhGJSjeYuvbbef2QoO+bdGw0/V913EB9 X-Gm-Gg: ASbGncutVJIqwy1+eDUttL8TUx46vP42WvtxTibAGnwFw+98/EYRBomdb4OLZz2b8sk 0v4kWaH3VmgZCRltFih1kDsKEu7IbUJTquk91saXqKBZ1B5+g/mw5Le4ZfNqtAi3n1b6/PZSusX kqzLwe75DYhzDKGkb5WkvIxCbhgS/pzdAiwI1JIrqrk2mTltS6tS3v9Ex+IRh9xHFvXkMIpxMXu 3+2S904GMKWorpGp7o1zT/PvwBFwtmJADboziPSB0AFfoDRepOVSsw9bLaRo21xfwtrRlbEim/2 9ZlmHEPKXC3yXocViMaHm+ZPY5Vd5fqHQR8oDiNT X-Google-Smtp-Source: AGHT+IGqG5ZKsChTAuv7UdQEnb88ghP0ufU5BJoiugNntJpvS/HO5CHk6R0yJzYfqpSSvv67b35sRZFaolnC X-Received: by 2002:a05:6e02:188b:b0:3d1:a380:bcd with SMTP id e9e14a558f8ab-3d2cae6c347mr127165555ab.10.1740407675678; Mon, 24 Feb 2025 06:34:35 -0800 (PST) Received: from postal.iol.unh.edu (postal.iol.unh.edu. [132.177.123.84]) by smtp-relay.gmail.com with ESMTPS id e9e14a558f8ab-3d2853163c2sm12132535ab.25.2025.02.24.06.34.35 (version=TLS1_2 cipher=ECDHE-ECDSA-AES128-GCM-SHA256 bits=128/128); Mon, 24 Feb 2025 06:34:35 -0800 (PST) X-Relaying-Domain: iol.unh.edu Date: Mon, 24 Feb 2025 06:34:35 -0800 (PST) Message-ID: <67bc837b.050a0220.9aa80.b64bSMTPIN_ADDED_MISSING@mx.google.com> Received: from [172.21.0.6] (unknown [172.18.0.240]) by postal.iol.unh.edu (Postfix) with ESMTP id 1D73E6052471; Mon, 24 Feb 2025 09:34:35 -0500 (EST) Subject: |SUCCESS| pw151950-151951 [PATCH] [4/4] net/ena: upgrade driver vers From: dpdklab@iol.unh.edu To: Test Report Cc: dpdk-test-reports@iol.unh.edu In-Reply-To: <20250224114011.1789-5-shaibran@amazon.com> References: <20250224114011.1789-5-shaibran@amazon.com> Content-Type: text/plain X-BeenThere: test-report@dpdk.org X-Mailman-Version: 2.1.29 Precedence: list List-Id: automatic DPDK test reports List-Unsubscribe: , List-Archive: List-Post: List-Help: List-Subscribe: , Errors-To: test-report-bounces@dpdk.org Test-Label: iol-compile-arm64-testing Test-Status: SUCCESS http://dpdk.org/patch/151951 _Testing PASS_ Submitter: Brandes, Shai Date: Monday, February 24 2025 11:40:11 DPDK git baseline: Repo:dpdk Branch: master CommitID:a8d4d427e730162b47d187bface95032952d669a 151950-151951 --> testing pass Upstream job id: Generic-DPDK-Compile-Meson#364647 Test environment and result as below: +----------------------------------------+--------------------+ | Environment | dpdk_meson_compile | +========================================+====================+ | RHEL9 (ARM) | PASS | +----------------------------------------+--------------------+ | Ubuntu 20.04 ARM SVE | PASS | +----------------------------------------+--------------------+ | Ubuntu 20.04 ARM GCC Cross Compile | PASS | +----------------------------------------+--------------------+ | Fedora 41 (ARM Clang) | PASS | +----------------------------------------+--------------------+ | Debian 12 with MUSDK | PASS | +----------------------------------------+--------------------+ | Fedora 40 (ARM) | PASS | +----------------------------------------+--------------------+ | Ubuntu 20.04 (ARM) | PASS | +----------------------------------------+--------------------+ | Fedora 41 (ARM) | PASS | +----------------------------------------+--------------------+ | Fedora 40 (ARM Clang) | PASS | +----------------------------------------+--------------------+ | Ubuntu 22.04 (ARM) | PASS | +----------------------------------------+--------------------+ | Ubuntu 24.04 (ARM) | PASS | +----------------------------------------+--------------------+ | CentOS Stream 9 (ARM) | PASS | +----------------------------------------+--------------------+ | CentOS Stream 10 (ARM) | PASS | +----------------------------------------+--------------------+ | Debian 12 (arm) | PASS | +----------------------------------------+--------------------+ | Debian 11 (Buster) (ARM) | PASS | +----------------------------------------+--------------------+ | Ubuntu 20.04 aarch32 GCC Cross Compile | PASS | +----------------------------------------+--------------------+ | Ubuntu 20.04 ARM Clang Cross Compile | PASS | +----------------------------------------+--------------------+ RHEL9 (ARM) Kernel: Depends on container host Compiler: gcc 11.5.0 20240719 (Red Hat 11.5.0-2) Ubuntu 20.04 ARM SVE Kernel: Depends on container host Compiler: gcc (Ubuntu 10.5.0-1ubuntu1~20.04) 10.5.0 Ubuntu 20.04 ARM GCC Cross Compile Kernel: Depends on container host Compiler: aarch64-linux-gnu-gcc (Ubuntu 9.4.0-1ubuntu1~20.04.2) 9.4.0 Fedora 41 (ARM Clang) Kernel: Depends on container host Compiler: clang 19.1.5 (Fedora 19.1.5-1.fc41) Debian 12 with MUSDK Kernel: Depends on container host Compiler: gcc (Debian 12.2.0-14) 12.2.0 Fedora 40 (ARM) Kernel: Depends on container host Compiler: gcc 14.2.1 20240912 (Red Hat 14.2.1-3) Ubuntu 20.04 (ARM) Kernel: Depends on container host Compiler: gcc (Ubuntu 9.4.0-1ubuntu1~20.04.2) 9.4.0 Fedora 41 (ARM) Kernel: Depends on container host Compiler: gcc 14.2.1 20240912 (Red Hat 14.2.1-3) Fedora 40 (ARM Clang) Kernel: Depends on container host Compiler: clang 18.1.8 (Fedora 18.1.8-1.fc40) Ubuntu 22.04 (ARM) Kernel: Depends on container host Compiler: gcc (Ubuntu 11.4.0-1ubuntu1~22.04) 11.4.0 Ubuntu 24.04 (ARM) Kernel: Depends on container host Compiler: gcc (Ubuntu 13.3.0-6ubuntu2~24.04) 13.3.0 CentOS Stream 9 (ARM) Kernel: Depends on container host Compiler: gcc 11.5.0 20240719 (Red Hat 11.5.0-2) CentOS Stream 10 (ARM) Kernel: Depends on container host Compiler: gcc 14.2.1 20241104 (Red Hat 14.2.1-6) Debian 12 (arm) Kernel: Depends on container host Compiler: gcc (Debian 12.2.0-14) 12.2.0 Debian 11 (Buster) (ARM) Kernel: Depends on container host Compiler: gcc (Debian 10.2.1-6) 10.2.1 20210110 Ubuntu 20.04 aarch32 GCC Cross Compile Kernel: Depends on container host Compiler: gcc 9.4.0 Ubuntu 20.04 ARM Clang Cross Compile Kernel: Depends on container host Compiler: clang 10.0.0-4ubuntu1 To view detailed results, visit: https://lab.dpdk.org/results/dashboard/patchsets/32664/ UNH-IOL DPDK Community Lab To manage your email subscriptions, visit: https://lab.dpdk.org/results/dashboard/preferences/subscriptions/