From mboxrd@z Thu Jan 1 00:00:00 1970 Return-Path: Received: from mails.dpdk.org (mails.dpdk.org [217.70.189.124]) by inbox.dpdk.org (Postfix) with ESMTP id 040CD462AB for ; Mon, 24 Feb 2025 15:35:48 +0100 (CET) Received: from mails.dpdk.org (localhost [127.0.0.1]) by mails.dpdk.org (Postfix) with ESMTP id F41DB40DDD; Mon, 24 Feb 2025 15:35:47 +0100 (CET) Received: from mail-il1-f228.google.com (mail-il1-f228.google.com [209.85.166.228]) by mails.dpdk.org (Postfix) with ESMTP id A203340657 for ; Mon, 24 Feb 2025 15:35:46 +0100 (CET) Received: by mail-il1-f228.google.com with SMTP id e9e14a558f8ab-3d284b9734fso40652355ab.2 for ; Mon, 24 Feb 2025 06:35:46 -0800 (PST) DKIM-Signature: v=1; a=rsa-sha256; c=relaxed/relaxed; d=iol.unh.edu; s=unh-iol; t=1740407746; x=1741012546; darn=dpdk.org; h=references:in-reply-to:cc:to:from:subject:message-id:date:from:to :cc:subject:date:message-id:reply-to; bh=BjJ6y31wFqAba3twm7zI5I82yXn5JlUHZHWCaYquwxI=; b=Lg5jxptxeeiktChfOJqKi7mp3PnRsg3jFmaxjYvnfU8PFpQfJ3LoLBtWj44WKGgQFA psXSvEqOUInY4DgkdTe5rFSX7FC3/JSFWUjhlGoFQsw6+Xc7fw/5Dpc1TNUYH68YPQVI aFCes6LGjFEBGUigIfIcrnL94fmYKqCOdf6JQ= X-Google-DKIM-Signature: v=1; a=rsa-sha256; c=relaxed/relaxed; d=1e100.net; s=20230601; t=1740407746; x=1741012546; h=references:in-reply-to:cc:to:from:subject:message-id:date :x-gm-message-state:from:to:cc:subject:date:message-id:reply-to; bh=BjJ6y31wFqAba3twm7zI5I82yXn5JlUHZHWCaYquwxI=; b=fCFbGsIKdX4+1UQ1gnAoifIl0AOLc21E4ASjk5lhJ4A9B8reR4tU0lO24wRWIftBZa v0Tew95hSuxoyJKl1PRbehhJb1/S0QUB9SHeEc+fQGkhA5BwE8fgPy4sNbtAsQtCis7o 5w922JpZU71O1CZDrL04EGnl1BNGBmM+L+k5quBQsdcPr5wNrKxJTUDvzlFnbSVmWUt9 0BRnoYTSe0RzNeNt3uDIMDqzEqzzIEW3nO4lMcJsGJPakVS88v4zgWnSw35/kIGz0QWC qHlGUEV++7QUrh57+keMjBaPHpCjwZ8CYJJ/N79v4zmV+q/8OGGf5D7o2LR22JwepX/P wJ5w== X-Gm-Message-State: AOJu0YxoBZHsfOszGLeFZnvk9svtUO5Pm4TkkYO47UCkcAVQi8KCnwP8 5NZkZXm3BoOzyN4AAZuVUiKSHfE5uAAN3lDMm6gTV7g6Gs+54MoisI42CD97h6DQkQ6no5xUUfD Jf68UWexAWGpoLdRmzD/dkt8cVouArnPgjgPJxOqc X-Gm-Gg: ASbGncvkQnQ70wMODxJlLFm25AkvRXuQLFoaDuKn/ClBG1rTyjVrJyLcGbqxbpdZbJ7 faiH5fI/58UCI9/r5s/rxpGLWKDtX11pQQX2AZhtNCgaThzC7cH2oldm3EG1BjY9b2uxsVY1mML btGAvsio3pDSK7atH3Aix+KN2dnv4ieSGT5enE3Iq8R3XCN6udSJXDvXDOYvSYruKz0oV6CaUAU M1yNe8zWU9cikb+HODP45xtNB+BEXbYHRMZIDAxqPXggWLfeIEtqaZib6UxGKfrRvHX8RaFIS/E fq1QKWIpB6jhuWJI6xq78s8eT7wlVNL3wvFrGARi X-Google-Smtp-Source: AGHT+IElmAULfAYKbFEHqvUaVWosqF7HcYifGoQgjE2kxVgt6gRwogBS3GuDE1RUReRAIb15S+F+rNwc+sXB X-Received: by 2002:a05:6e02:13ac:b0:3cf:c773:6992 with SMTP id e9e14a558f8ab-3d2cae87c65mr146885575ab.12.1740407745299; Mon, 24 Feb 2025 06:35:45 -0800 (PST) Received: from postal.iol.unh.edu (postal.iol.unh.edu. [132.177.123.84]) by smtp-relay.gmail.com with ESMTPS id 8926c6da1cb9f-4eeb5cba3edsm771702173.31.2025.02.24.06.35.45 (version=TLS1_2 cipher=ECDHE-ECDSA-AES128-GCM-SHA256 bits=128/128); Mon, 24 Feb 2025 06:35:45 -0800 (PST) X-Relaying-Domain: iol.unh.edu Date: Mon, 24 Feb 2025 06:35:45 -0800 (PST) Message-ID: <67bc83c1.050a0220.d3e25.57dfSMTPIN_ADDED_MISSING@mx.google.com> Received: from [172.21.0.5] (unknown [172.18.0.240]) by postal.iol.unh.edu (Postfix) with ESMTP id E046C6052471; Mon, 24 Feb 2025 09:35:44 -0500 (EST) Subject: |SUCCESS| pw151950-151951 [PATCH] [4/4] net/ena: upgrade driver vers From: dpdklab@iol.unh.edu To: Test Report Cc: dpdk-test-reports@iol.unh.edu In-Reply-To: <20250224114011.1789-5-shaibran@amazon.com> References: <20250224114011.1789-5-shaibran@amazon.com> Content-Type: text/plain X-BeenThere: test-report@dpdk.org X-Mailman-Version: 2.1.29 Precedence: list List-Id: automatic DPDK test reports List-Unsubscribe: , List-Archive: List-Post: List-Help: List-Subscribe: , Errors-To: test-report-bounces@dpdk.org Test-Label: iol-compile-arm64-testing Test-Status: SUCCESS http://dpdk.org/patch/151951 _Testing PASS_ Submitter: Brandes, Shai Date: Monday, February 24 2025 11:40:11 DPDK git baseline: Repo:dpdk Branch: master CommitID:a8d4d427e730162b47d187bface95032952d669a 151950-151951 --> testing pass Upstream job id: Generic-DPDK-Compile-Meson#364643 Test environment and result as below: +----------------------------------------+--------------------+ | Environment | dpdk_meson_compile | +========================================+====================+ | RHEL9 (ARM) | PASS | +----------------------------------------+--------------------+ | Ubuntu 20.04 ARM SVE | PASS | +----------------------------------------+--------------------+ | Ubuntu 20.04 ARM GCC Cross Compile | PASS | +----------------------------------------+--------------------+ | Fedora 41 (ARM Clang) | PASS | +----------------------------------------+--------------------+ | Debian 12 with MUSDK | PASS | +----------------------------------------+--------------------+ | Fedora 40 (ARM) | PASS | +----------------------------------------+--------------------+ | Ubuntu 20.04 (ARM) | PASS | +----------------------------------------+--------------------+ | Fedora 41 (ARM) | PASS | +----------------------------------------+--------------------+ | Fedora 40 (ARM Clang) | PASS | +----------------------------------------+--------------------+ | Ubuntu 22.04 (ARM) | PASS | +----------------------------------------+--------------------+ | Ubuntu 24.04 (ARM) | PASS | +----------------------------------------+--------------------+ | CentOS Stream 9 (ARM) | PASS | +----------------------------------------+--------------------+ | CentOS Stream 10 (ARM) | PASS | +----------------------------------------+--------------------+ | Debian 12 (arm) | PASS | +----------------------------------------+--------------------+ | Debian 11 (Buster) (ARM) | PASS | +----------------------------------------+--------------------+ | Ubuntu 20.04 aarch32 GCC Cross Compile | PASS | +----------------------------------------+--------------------+ | Ubuntu 20.04 ARM Clang Cross Compile | PASS | +----------------------------------------+--------------------+ RHEL9 (ARM) Kernel: Depends on container host Compiler: gcc 11.5.0 20240719 (Red Hat 11.5.0-2) Ubuntu 20.04 ARM SVE Kernel: Depends on container host Compiler: gcc (Ubuntu 10.5.0-1ubuntu1~20.04) 10.5.0 Ubuntu 20.04 ARM GCC Cross Compile Kernel: Depends on container host Compiler: aarch64-linux-gnu-gcc (Ubuntu 9.4.0-1ubuntu1~20.04.2) 9.4.0 Fedora 41 (ARM Clang) Kernel: Depends on container host Compiler: clang 19.1.5 (Fedora 19.1.5-1.fc41) Debian 12 with MUSDK Kernel: Depends on container host Compiler: gcc (Debian 12.2.0-14) 12.2.0 Fedora 40 (ARM) Kernel: Depends on container host Compiler: gcc 14.2.1 20240912 (Red Hat 14.2.1-3) Ubuntu 20.04 (ARM) Kernel: Depends on container host Compiler: gcc (Ubuntu 9.4.0-1ubuntu1~20.04.2) 9.4.0 Fedora 41 (ARM) Kernel: Depends on container host Compiler: gcc 14.2.1 20240912 (Red Hat 14.2.1-3) Fedora 40 (ARM Clang) Kernel: Depends on container host Compiler: clang 18.1.8 (Fedora 18.1.8-1.fc40) Ubuntu 22.04 (ARM) Kernel: Depends on container host Compiler: gcc (Ubuntu 11.4.0-1ubuntu1~22.04) 11.4.0 Ubuntu 24.04 (ARM) Kernel: Depends on container host Compiler: gcc (Ubuntu 13.3.0-6ubuntu2~24.04) 13.3.0 CentOS Stream 9 (ARM) Kernel: Depends on container host Compiler: gcc 11.5.0 20240719 (Red Hat 11.5.0-2) CentOS Stream 10 (ARM) Kernel: Depends on container host Compiler: gcc 14.2.1 20241104 (Red Hat 14.2.1-6) Debian 12 (arm) Kernel: Depends on container host Compiler: gcc (Debian 12.2.0-14) 12.2.0 Debian 11 (Buster) (ARM) Kernel: Depends on container host Compiler: gcc (Debian 10.2.1-6) 10.2.1 20210110 Ubuntu 20.04 aarch32 GCC Cross Compile Kernel: Depends on container host Compiler: gcc 9.4.0 Ubuntu 20.04 ARM Clang Cross Compile Kernel: Depends on container host Compiler: clang 10.0.0-4ubuntu1 To view detailed results, visit: https://lab.dpdk.org/results/dashboard/patchsets/32664/ UNH-IOL DPDK Community Lab To manage your email subscriptions, visit: https://lab.dpdk.org/results/dashboard/preferences/subscriptions/