From mboxrd@z Thu Jan 1 00:00:00 1970 Return-Path: Received: from mails.dpdk.org (mails.dpdk.org [217.70.189.124]) by inbox.dpdk.org (Postfix) with ESMTP id 7CCD9462AC for ; Mon, 24 Feb 2025 17:10:40 +0100 (CET) Received: from mails.dpdk.org (localhost [127.0.0.1]) by mails.dpdk.org (Postfix) with ESMTP id 773E741104; Mon, 24 Feb 2025 17:10:40 +0100 (CET) Received: from mail-pl1-f227.google.com (mail-pl1-f227.google.com [209.85.214.227]) by mails.dpdk.org (Postfix) with ESMTP id F0F97410D5 for ; Mon, 24 Feb 2025 17:10:38 +0100 (CET) Received: by mail-pl1-f227.google.com with SMTP id d9443c01a7336-220ec47991aso62463965ad.1 for ; Mon, 24 Feb 2025 08:10:38 -0800 (PST) DKIM-Signature: v=1; a=rsa-sha256; c=relaxed/relaxed; d=iol.unh.edu; s=unh-iol; t=1740413438; x=1741018238; darn=dpdk.org; h=references:in-reply-to:cc:to:from:subject:message-id:date:from:to :cc:subject:date:message-id:reply-to; bh=znXmQ88unB+aB8PO9hVt2F1K2MzXmb19gdMWc3vD/Sk=; b=iw1Ywo2ulutpqfSdgpGej/AIXNtbWlDxn1gyDE5zwdloKdcZM1RRkQ/XcMTY38YfNL n6xvejEz7pAnuBfy0aAVZ0r/zY8BKVNQTVELoKOr7CA2rbyOvIXtKXdtOz3pQdoUWRPR SeWkdqIMkvbDGkDSQH8vCXLHGDNNHFl5flSx4= X-Google-DKIM-Signature: v=1; a=rsa-sha256; c=relaxed/relaxed; d=1e100.net; s=20230601; t=1740413438; x=1741018238; h=references:in-reply-to:cc:to:from:subject:message-id:date :x-gm-message-state:from:to:cc:subject:date:message-id:reply-to; bh=znXmQ88unB+aB8PO9hVt2F1K2MzXmb19gdMWc3vD/Sk=; b=Vz+20GyrSPy9Ritvy89M6SBHivky4GY1UQwgUxB26LT7an8T6HEzDXcKwWFRGMUUrT AWP7GbKBFFPc4qLk3kZNVMwK8Piv0XIXlw3wPO/tEiE7qLA8qfLyjIRJFrKoTbT9vbSg 5+1NgZ2OrRL4w2FqPJNQX5HOaxB0VXQ1sH1ok7FZ9Le48v/WBRRoxwSI/4HE7J5DVhWJ WvjkZvCIBM4MxqCyJHU//JAOae8OmQJp5xKvhbfhol0dpJYkgQ6irCjC5j4lSzKn8UIY pr3pJEBPd+ktdvrddIFBYh4efLsURrjV8ZUf+GlaQTrLtqrUpBbfRsxBkYILFip7gGkY mD9w== X-Gm-Message-State: AOJu0YxDFIYs1AK02DWUvUp3Txrc+GN746YRz0LKgcvw0O/6vaPzWjxq vkWzeOhFFCeVieX7FEgsORLDhasxdKVR1jQTNJUUAa6LUxeXGnj/QWS6wLdRV+pSmyJN0e4OLVP GPZibhqnMBoS24YZFh6wqxSLCiZLaLUEU+eDnMS/vWpd81acQGYb5SsBK X-Gm-Gg: ASbGncuk6fY+PdRHE1RiewpiP29Z77rqtkL/iIDz96mjlGP7fleOgsihKwoFY0a9WJk 9zuSbOra4W9HA6U9iww0Cx6KYDLbZ1RYX42g03S2fGUZuQ6y+t5usOJuodKIsgp1c+e59ocTDQh WLwkgJtd3Jd9vHwrQHuUHYaWiIJRFA0IrxMHTsqW4OzwrD0Cz7HMgqQVjTPNPTP61aOSGtfvQgZ lkG9lrIBzgU5JwQxCeSIpSJKzXaC17IoSlRC4ly63h8CpvlCGeDKuHAoVNSmcyXiqIRFp+Zovez avvhxRAzWfvvdf87AzZloMB8jlACHg4+Ipe/2Y2XalV1SJWoKdu/ X-Google-Smtp-Source: AGHT+IEu123T09CKA9JJkyZpPjND5tHwPcbPgE9t/y52iEvGqJ0404//K21hrQHqYfFqkO3i2bkCAhPbtHji X-Received: by 2002:a05:6a21:99a1:b0:1ee:5f3f:cde0 with SMTP id adf61e73a8af0-1eef3d8d291mr28181650637.34.1740413435829; Mon, 24 Feb 2025 08:10:35 -0800 (PST) Received: from postal.iol.unh.edu (postal.iol.unh.edu. [2606:4100:3880:1234::84]) by smtp-relay.gmail.com with ESMTPS id 41be03b00d2f7-adfa73d2638sm968707a12.10.2025.02.24.08.10.35 (version=TLS1_2 cipher=ECDHE-ECDSA-AES128-GCM-SHA256 bits=128/128); Mon, 24 Feb 2025 08:10:35 -0800 (PST) X-Relaying-Domain: iol.unh.edu Date: Mon, 24 Feb 2025 08:10:35 -0800 (PST) Message-ID: <67bc99fb.630a0220.25b4f4.1927SMTPIN_ADDED_MISSING@mx.google.com> Received: from [172.17.0.4] (unknown [172.18.0.217]) by postal.iol.unh.edu (Postfix) with ESMTP id E4EAB6052471; Mon, 24 Feb 2025 11:10:34 -0500 (EST) Subject: |SUCCESS| pw151944-151948 [PATCH] [v5,5/5] examples/vhost_crypto: su From: dpdklab@iol.unh.edu To: Test Report Cc: dpdk-test-reports@iol.unh.edu In-Reply-To: References: Content-Type: text/plain X-BeenThere: test-report@dpdk.org X-Mailman-Version: 2.1.29 Precedence: list List-Id: automatic DPDK test reports List-Unsubscribe: , List-Archive: List-Post: List-Help: List-Subscribe: , Errors-To: test-report-bounces@dpdk.org Test-Label: iol-compile-arm64-testing Test-Status: SUCCESS http://dpdk.org/patch/151948 _Testing PASS_ Submitter: Gowrishankar Muthukrishnan Date: Monday, February 24 2025 10:35:07 DPDK git baseline: Repo:dpdk Branch: master CommitID:fab31a03ba98e7457284df95dd9eef2223a4ccaa 151944-151948 --> testing pass Upstream job id: Generic-DPDK-Compile-Meson#364681 Test environment and result as below: +--------------------------------------+--------------------+ | Environment | dpdk_meson_compile | +======================================+====================+ | RHEL9 (ARM) | PASS | +--------------------------------------+--------------------+ | Ubuntu 20.04 ARM SVE | PASS | +--------------------------------------+--------------------+ | Ubuntu 20.04 ARM GCC Cross Compile | PASS | +--------------------------------------+--------------------+ | Fedora 41 (ARM) | PASS | +--------------------------------------+--------------------+ | Fedora 40 (ARM Clang) | PASS | +--------------------------------------+--------------------+ | Debian 12 with MUSDK | PASS | +--------------------------------------+--------------------+ | Fedora 40 (ARM) | PASS | +--------------------------------------+--------------------+ | Ubuntu 20.04 (ARM) | PASS | +--------------------------------------+--------------------+ | Fedora 41 (ARM Clang) | PASS | +--------------------------------------+--------------------+ | Ubuntu 22.04 (ARM) | PASS | +--------------------------------------+--------------------+ | Ubuntu 24.04 (ARM) | PASS | +--------------------------------------+--------------------+ | CentOS Stream 9 (ARM) | PASS | +--------------------------------------+--------------------+ | CentOS Stream 10 (ARM) | PASS | +--------------------------------------+--------------------+ | Debian 11 (Buster) (ARM) | PASS | +--------------------------------------+--------------------+ | Ubuntu 20.04 ARM Clang Cross Compile | PASS | +--------------------------------------+--------------------+ | Debian 12 (arm) | PASS | +--------------------------------------+--------------------+ RHEL9 (ARM) Kernel: Depends on container host Compiler: gcc 11.5.0 20240719 (Red Hat 11.5.0-2) Ubuntu 20.04 ARM SVE Kernel: Depends on container host Compiler: gcc (Ubuntu 10.5.0-1ubuntu1~20.04) 10.5.0 Ubuntu 20.04 ARM GCC Cross Compile Kernel: Depends on container host Compiler: aarch64-linux-gnu-gcc (Ubuntu 9.4.0-1ubuntu1~20.04.2) 9.4.0 Fedora 41 (ARM) Kernel: Depends on container host Compiler: gcc 14.2.1 20240912 (Red Hat 14.2.1-3) Fedora 40 (ARM Clang) Kernel: Depends on container host Compiler: clang 18.1.8 (Fedora 18.1.8-1.fc40) Debian 12 with MUSDK Kernel: Depends on container host Compiler: gcc (Debian 12.2.0-14) 12.2.0 Fedora 40 (ARM) Kernel: Depends on container host Compiler: gcc 14.2.1 20240912 (Red Hat 14.2.1-3) Ubuntu 20.04 (ARM) Kernel: Depends on container host Compiler: gcc (Ubuntu 9.4.0-1ubuntu1~20.04.2) 9.4.0 Fedora 41 (ARM Clang) Kernel: Depends on container host Compiler: clang 19.1.5 (Fedora 19.1.5-1.fc41) Ubuntu 22.04 (ARM) Kernel: Depends on container host Compiler: gcc (Ubuntu 11.4.0-1ubuntu1~22.04) 11.4.0 Ubuntu 24.04 (ARM) Kernel: Depends on container host Compiler: gcc (Ubuntu 13.3.0-6ubuntu2~24.04) 13.3.0 CentOS Stream 9 (ARM) Kernel: Depends on container host Compiler: gcc 11.5.0 20240719 (Red Hat 11.5.0-2) CentOS Stream 10 (ARM) Kernel: Depends on container host Compiler: gcc 14.2.1 20241104 (Red Hat 14.2.1-6) Debian 11 (Buster) (ARM) Kernel: Depends on container host Compiler: gcc (Debian 10.2.1-6) 10.2.1 20210110 Ubuntu 20.04 ARM Clang Cross Compile Kernel: Depends on container host Compiler: clang 10.0.0-4ubuntu1 Debian 12 (arm) Kernel: Depends on container host Compiler: gcc (Debian 12.2.0-14) 12.2.0 To view detailed results, visit: https://lab.dpdk.org/results/dashboard/patchsets/32663/ UNH-IOL DPDK Community Lab To manage your email subscriptions, visit: https://lab.dpdk.org/results/dashboard/preferences/subscriptions/