From mboxrd@z Thu Jan 1 00:00:00 1970 Return-Path: Received: from mails.dpdk.org (mails.dpdk.org [217.70.189.124]) by inbox.dpdk.org (Postfix) with ESMTP id B2E33462AC for ; Mon, 24 Feb 2025 17:49:57 +0100 (CET) Received: from mails.dpdk.org (localhost [127.0.0.1]) by mails.dpdk.org (Postfix) with ESMTP id AA70A4278F; Mon, 24 Feb 2025 17:49:57 +0100 (CET) Received: from mail-il1-f225.google.com (mail-il1-f225.google.com [209.85.166.225]) by mails.dpdk.org (Postfix) with ESMTP id 9AD5B4279C for ; Mon, 24 Feb 2025 17:49:53 +0100 (CET) Received: by mail-il1-f225.google.com with SMTP id e9e14a558f8ab-3cda56e1dffso14522195ab.1 for ; Mon, 24 Feb 2025 08:49:53 -0800 (PST) DKIM-Signature: v=1; a=rsa-sha256; c=relaxed/relaxed; d=iol.unh.edu; s=unh-iol; t=1740415793; x=1741020593; darn=dpdk.org; h=references:in-reply-to:cc:to:from:subject:message-id:date:from:to :cc:subject:date:message-id:reply-to; bh=TrOIypCuNI2/RQBig2/uCmXD1ojFHXIosBsOx0ZHI+8=; b=DIdKWA9OD/ZFDc33wM1KKVesvX1Zgezwf2xHvRqUY4HcmCzBIcIesdjjP1AGq/l6it Ul+b3GSij9BfPQpVFygOf3BMB2Gsy0RFJ69i/QqCKDHBwTT4rShwyWSG9GTRnCWMIHLO DZvStZ9ivBQaB1ooiEu9lOVchcU8FHJC2rG/o= X-Google-DKIM-Signature: v=1; a=rsa-sha256; c=relaxed/relaxed; d=1e100.net; s=20230601; t=1740415793; x=1741020593; h=references:in-reply-to:cc:to:from:subject:message-id:date :x-gm-message-state:from:to:cc:subject:date:message-id:reply-to; bh=TrOIypCuNI2/RQBig2/uCmXD1ojFHXIosBsOx0ZHI+8=; b=JdMmNZJ0MKBQoFsVIwt8lqGxsAc6LZ9tsT3rfcsZMBPUuADIWW/NuNhdKcGguw+Jmf msElbOlKFfG1/n0YJwCNEgG0rpC/Bn6dT5gya+LbV1pGxY089CzJlxcsU3g3kxdZ3Mrm y4vqNFgH6JbApJIoWoEHaWjH9vXxj+5IW4UCQjQoy9JHGhrADC/sdpVR8ZlxAoSmxjPq gAbXgoscX91ZCeQPafFmkCoetTYR4Afe5nsJ0EeeWI20tJlCCuY0YtX2+UUDN2sII9pF 8kKooZZ3FaRhxyeB3S+IBolK738ZlFQhgh6lYf0321xfSLNJJLsin09hWZOCKuKZZI9y cjFg== X-Gm-Message-State: AOJu0YxpqD6YkHtMNj2z5ceQ5Tq3vpd2R5sOC7IhiLleKUldoAd1Vkb2 tnum3nd2LCUMeoW4+zDghsnK5bNPprcZKDfNj1r7CDQKma5nYYFuz/NkB+utrwC+N4QKhfO0NbM 03Y51LND0iP/CVlRrl6WVQXAbSIRPO0pvzUwfWHvvKjJtQgaGMw5ccHNL X-Gm-Gg: ASbGnctMU0nDjRtE81EboNIfT8sgZT1w3nEhjbOGpLdZA/3bp38whisvbfYMklhob3p fv6ZAkNshQYwo6yzYzOjdFm3dZlD1/4e97iyQyod5TRZhBer8SS9YAAY7cULFAY2A2Jfv8r4Epp N6NOOwluS4SP+gtGU/NGjFZb3R9HOQJcJagNjCRsL/euQ+O9E4yn8tlDbCV+iCzejwi44e5XMc5 8G6FahaqYx/L0oxX7lobNPzJuqIi1K9MypJklf2sySKZLcbzCQ1vMapZiCNgeVJFwe7b7k5XvzW SVKVQoyOeuzHIQvoXA2qdO97wVPh+SnRQDqpCIZRz9sGGoKG3JI7 X-Google-Smtp-Source: AGHT+IFilYVCQI+H0FDlSD8fdVoh/KBNR1Q7xpFJbHhgXbcHzuerIAjOPAItlA0/FtBjhyglSYCOataGhM59 X-Received: by 2002:a05:6e02:13a4:b0:3d0:23f6:2eed with SMTP id e9e14a558f8ab-3d304866946mr51645ab.11.1740415792721; Mon, 24 Feb 2025 08:49:52 -0800 (PST) Received: from postal.iol.unh.edu (postal.iol.unh.edu. [2606:4100:3880:1234::84]) by smtp-relay.gmail.com with ESMTPS id e9e14a558f8ab-3d18f9a90b1sm14851645ab.6.2025.02.24.08.49.52 (version=TLS1_2 cipher=ECDHE-ECDSA-AES128-GCM-SHA256 bits=128/128); Mon, 24 Feb 2025 08:49:52 -0800 (PST) X-Relaying-Domain: iol.unh.edu Date: Mon, 24 Feb 2025 08:49:52 -0800 (PST) Message-ID: <67bca330.050a0220.3c19b7.900fSMTPIN_ADDED_MISSING@mx.google.com> Received: from [172.21.0.5] (unknown [172.18.0.240]) by postal.iol.unh.edu (Postfix) with ESMTP id 3152F6052471; Mon, 24 Feb 2025 11:49:52 -0500 (EST) Subject: |SUCCESS| pw151942-151943 [PATCH] [2/2] net/txgbe: remove meaningles From: dpdklab@iol.unh.edu To: Test Report Cc: dpdk-test-reports@iol.unh.edu In-Reply-To: <20250224095910.27384-3-zaiyuwang@trustnetic.com> References: <20250224095910.27384-3-zaiyuwang@trustnetic.com> Content-Type: text/plain X-BeenThere: test-report@dpdk.org X-Mailman-Version: 2.1.29 Precedence: list List-Id: automatic DPDK test reports List-Unsubscribe: , List-Archive: List-Post: List-Help: List-Subscribe: , Errors-To: test-report-bounces@dpdk.org Test-Label: iol-sample-apps-testing Test-Status: SUCCESS http://dpdk.org/patch/151943 _Testing PASS_ Submitter: Zaiyu Wang Date: Monday, February 24 2025 09:59:08 DPDK git baseline: Repo:dpdk Branch: master CommitID:a8d4d427e730162b47d187bface95032952d669a 151942-151943 --> testing pass Upstream job id: ACVP-FIPS-testing#9027 Test environment and result as below: +--------------------+----------------------+----------------------+ | Environment | compressdev_zlib_pmd | dpdk_fips_validation | +====================+======================+======================+ | Ubuntu 22.04 (ARM) | PASS | SKIPPED | +--------------------+----------------------+----------------------+ | Ubuntu 22.04 | PASS | SKIPPED | +--------------------+----------------------+----------------------+ | Ubuntu 20.04 | SKIPPED | PASS | +--------------------+----------------------+----------------------+ Ubuntu 22.04 (ARM) Kernel: 5.15.0-97-generic Compiler: gcc gcc (Ubuntu 11.4.0-1ubuntu1~22.04) 11.4.0 Ubuntu 22.04 Kernel: 5.15.0-100-generic Compiler: gcc gcc (Ubuntu 11.4.0-1ubuntu1~22.04) 11.4.0 Ubuntu 20.04 Kernel: Depends on container host Compiler: gcc (Ubuntu 9.4.0-1ubuntu1~20.04.2) 9.4.0 To view detailed results, visit: https://lab.dpdk.org/results/dashboard/patchsets/32662/ UNH-IOL DPDK Community Lab To manage your email subscriptions, visit: https://lab.dpdk.org/results/dashboard/preferences/subscriptions/