* |SUCCESS| pw151958 [PATCH 6/6] dts: restore TG setup and teardown
[not found] <20250224132823.196509-7-luca.vizzarro@arm.com>
@ 2025-02-24 13:32 ` checkpatch
2025-02-24 15:53 ` |PENDING| pw151953-151958 [PATCH] [6/6] dts: restore TG setup and te dpdklab
` (4 subsequent siblings)
5 siblings, 0 replies; 6+ messages in thread
From: checkpatch @ 2025-02-24 13:32 UTC (permalink / raw)
To: test-report
Test-Label: checkpatch
Test-Status: SUCCESS
http://dpdk.org/patch/151958
_coding style OK_
^ permalink raw reply [flat|nested] 6+ messages in thread
* |PENDING| pw151953-151958 [PATCH] [6/6] dts: restore TG setup and te
[not found] <20250224132823.196509-7-luca.vizzarro@arm.com>
2025-02-24 13:32 ` |SUCCESS| pw151958 [PATCH 6/6] dts: restore TG setup and teardown checkpatch
@ 2025-02-24 15:53 ` dpdklab
2025-02-24 16:03 ` |SUCCESS| " dpdklab
` (3 subsequent siblings)
5 siblings, 0 replies; 6+ messages in thread
From: dpdklab @ 2025-02-24 15:53 UTC (permalink / raw)
To: Test Report; +Cc: dpdk-test-reports
Test-Label: iol-intel-Functional
Test-Status: PENDING
http://dpdk.org/patch/151958
_Functional Testing pending_
Submitter: Luca Vizzarro <luca.vizzarro@arm.com>
Date: Monday, February 24 2025 13:28:23
DPDK git baseline: Repo:dpdk
Branch: master
CommitID:bdc023381a2c719fa6cb0e1c60aebd9c8c4afa21
151953-151958 --> functional testing pending
Upstream job id: Template-DTS-Pipeline#214125
Test environment and result as below:
Ubuntu 24.04 LTS
Kernel: 6.8.0-44-generic
Compiler: gcc 13.2.0
NIC: Intel Corporation Ethernet Controller XL710 for 40GbE QSFP+ 40 Mbps
Aggregate Results by Test Suite
+------------+--------+
| Test Suite | Result |
+============+========+
| mac_filter | PEND |
+------------+--------+
Arm Ampere Altra - Ubuntu 22.04
Kernel: 5.15.83+
Compiler: gcc 11.4
NIC: Intel Corporation QAT 8970 0 Mbps
Aggregate Results by Test Suite
+----------------------------+--------+
| Test Suite | Result |
+============================+========+
| crypto_perf_cryptodev_perf | PASS |
+----------------------------+--------+
To view detailed results, visit:
https://lab.dpdk.org/results/dashboard/patchsets/32665/
UNH-IOL DPDK Community Lab
To manage your email subscriptions, visit:
https://lab.dpdk.org/results/dashboard/preferences/subscriptions/
^ permalink raw reply [flat|nested] 6+ messages in thread
* |SUCCESS| pw151953-151958 [PATCH] [6/6] dts: restore TG setup and te
[not found] <20250224132823.196509-7-luca.vizzarro@arm.com>
2025-02-24 13:32 ` |SUCCESS| pw151958 [PATCH 6/6] dts: restore TG setup and teardown checkpatch
2025-02-24 15:53 ` |PENDING| pw151953-151958 [PATCH] [6/6] dts: restore TG setup and te dpdklab
@ 2025-02-24 16:03 ` dpdklab
2025-02-24 16:14 ` |PENDING| " dpdklab
` (2 subsequent siblings)
5 siblings, 0 replies; 6+ messages in thread
From: dpdklab @ 2025-02-24 16:03 UTC (permalink / raw)
To: Test Report; +Cc: dpdk-test-reports
Test-Label: iol-sample-apps-testing
Test-Status: SUCCESS
http://dpdk.org/patch/151958
_Testing PASS_
Submitter: Luca Vizzarro <luca.vizzarro@arm.com>
Date: Monday, February 24 2025 13:28:23
DPDK git baseline: Repo:dpdk
Branch: master
CommitID:bdc023381a2c719fa6cb0e1c60aebd9c8c4afa21
151953-151958 --> testing pass
Upstream job id: Template-DTS-Pipeline#214127
Test environment and result as below:
+--------------+----------------------+
| Environment | compressdev_zlib_pmd |
+==============+======================+
| Ubuntu 22.04 | PASS |
+--------------+----------------------+
Ubuntu 22.04
Kernel: 5.15.0-100-generic
Compiler: gcc gcc (Ubuntu 11.4.0-1ubuntu1~22.04) 11.4.0
To view detailed results, visit:
https://lab.dpdk.org/results/dashboard/patchsets/32665/
UNH-IOL DPDK Community Lab
To manage your email subscriptions, visit:
https://lab.dpdk.org/results/dashboard/preferences/subscriptions/
^ permalink raw reply [flat|nested] 6+ messages in thread
* |PENDING| pw151953-151958 [PATCH] [6/6] dts: restore TG setup and te
[not found] <20250224132823.196509-7-luca.vizzarro@arm.com>
` (2 preceding siblings ...)
2025-02-24 16:03 ` |SUCCESS| " dpdklab
@ 2025-02-24 16:14 ` dpdklab
2025-02-24 16:15 ` dpdklab
2025-02-24 17:10 ` |SUCCESS| " dpdklab
5 siblings, 0 replies; 6+ messages in thread
From: dpdklab @ 2025-02-24 16:14 UTC (permalink / raw)
To: Test Report; +Cc: dpdk-test-reports
Test-Label: iol-abi-testing
Test-Status: PENDING
http://dpdk.org/patch/151958
_Testing pending_
Submitter: Luca Vizzarro <luca.vizzarro@arm.com>
Date: Monday, February 24 2025 13:28:23
DPDK git baseline: Repo:dpdk
Branch: master
CommitID:bdc023381a2c719fa6cb0e1c60aebd9c8c4afa21
151953-151958 --> testing pending
Upstream job id: Generic-DPDK-Compile-ABI#117496
Test environment and result as below:
+------------------+----------+
| Environment | abi_test |
+==================+==========+
| Ubuntu 24.04 | PASS |
+------------------+----------+
| RHEL9 | PEND |
+------------------+----------+
| CentOS Stream 10 | PEND |
+------------------+----------+
Ubuntu 24.04
Kernel: Depends on container host
Compiler: gcc (Ubuntu 13.3.0-6ubuntu2~24.04) 13.3.0
RHEL9
Kernel: Depends on container host
Compiler: gcc 11.5.0 20240719 (Red Hat 11.5.0-2)
CentOS Stream 10
Kernel: Depends on container host
Compiler: gcc 14.2.1 20241104 (Red Hat 14.2.1-6)
To view detailed results, visit:
https://lab.dpdk.org/results/dashboard/patchsets/32665/
UNH-IOL DPDK Community Lab
To manage your email subscriptions, visit:
https://lab.dpdk.org/results/dashboard/preferences/subscriptions/
^ permalink raw reply [flat|nested] 6+ messages in thread
* |PENDING| pw151953-151958 [PATCH] [6/6] dts: restore TG setup and te
[not found] <20250224132823.196509-7-luca.vizzarro@arm.com>
` (3 preceding siblings ...)
2025-02-24 16:14 ` |PENDING| " dpdklab
@ 2025-02-24 16:15 ` dpdklab
2025-02-24 17:10 ` |SUCCESS| " dpdklab
5 siblings, 0 replies; 6+ messages in thread
From: dpdklab @ 2025-02-24 16:15 UTC (permalink / raw)
To: Test Report; +Cc: dpdk-test-reports
Test-Label: iol-unit-amd64-testing
Test-Status: PENDING
http://dpdk.org/patch/151958
_Testing pending_
Submitter: Luca Vizzarro <luca.vizzarro@arm.com>
Date: Monday, February 24 2025 13:28:23
DPDK git baseline: Repo:dpdk
Branch: master
CommitID:bdc023381a2c719fa6cb0e1c60aebd9c8c4afa21
151953-151958 --> testing pending
Upstream job id: Generic-Unit-Test-DPDK#317874
Test environment and result as below:
+-------------------+----------------+
| Environment | dpdk_unit_test |
+===================+================+
| CentOS Stream 10 | PEND |
+-------------------+----------------+
| Fedora 40 | PEND |
+-------------------+----------------+
| CentOS Stream 9 | PEND |
+-------------------+----------------+
| Fedora 40 (Clang) | PASS |
+-------------------+----------------+
| Fedora 41 (Clang) | PEND |
+-------------------+----------------+
| Debian Bullseye | PEND |
+-------------------+----------------+
| Fedora 41 | PEND |
+-------------------+----------------+
| Ubuntu 22.04 | PEND |
+-------------------+----------------+
| RHEL9 | PEND |
+-------------------+----------------+
| Debian 12 | PEND |
+-------------------+----------------+
| RHEL8 | PEND |
+-------------------+----------------+
| Ubuntu 20.04 | PEND |
+-------------------+----------------+
| Ubuntu 24.04 | PEND |
+-------------------+----------------+
CentOS Stream 10
Kernel: Depends on container host
Compiler: gcc 14.2.1 20241104 (Red Hat 14.2.1-6)
Fedora 40
Kernel: Depends on container host
Compiler: gcc 14.2.1 20240912 (Red Hat 14.2.1-3)
CentOS Stream 9
Kernel: Depends on container host
Compiler: gcc 11.5.0 20240719 (Red Hat 11.5.0-2)
Fedora 40 (Clang)
Kernel: Depends on container host
Compiler: clang 18.1.8 (Fedora 18.1.8-1.fc40)
Fedora 41 (Clang)
Kernel: Depends on container host
Compiler: clang 19.1.5 (Fedora 19.1.5-1.fc41)
Debian Bullseye
Kernel: Depends on container host
Compiler: gcc (Debian 10.2.1-6) 10.2.1 20210110
Fedora 41
Kernel: Depends on container host
Compiler: gcc 14.2.1 20240912 (Red Hat 14.2.1-3)
Ubuntu 22.04
Kernel: Depends on container host
Compiler: gcc (Ubuntu 11.4.0-1ubuntu1~22.04) 11.4.0
RHEL9
Kernel: Depends on container host
Compiler: gcc 11.5.0 20240719 (Red Hat 11.5.0-2)
Debian 12
Kernel: Depends on container host
Compiler: gcc (Debian 12.2.0-14) 12.2.0
RHEL8
Kernel: Depends on container host
Compiler: gcc 8.5.0 20210514 (Red Hat 8.5.0-22)
Ubuntu 20.04
Kernel: Depends on container host
Compiler: gcc (Ubuntu 9.4.0-1ubuntu1~20.04.2) 9.4.0
Ubuntu 24.04
Kernel: Depends on container host
Compiler: gcc (Ubuntu 13.3.0-6ubuntu2~24.04) 13.3.0
To view detailed results, visit:
https://lab.dpdk.org/results/dashboard/patchsets/32665/
UNH-IOL DPDK Community Lab
To manage your email subscriptions, visit:
https://lab.dpdk.org/results/dashboard/preferences/subscriptions/
^ permalink raw reply [flat|nested] 6+ messages in thread
* |SUCCESS| pw151953-151958 [PATCH] [6/6] dts: restore TG setup and te
[not found] <20250224132823.196509-7-luca.vizzarro@arm.com>
` (4 preceding siblings ...)
2025-02-24 16:15 ` dpdklab
@ 2025-02-24 17:10 ` dpdklab
5 siblings, 0 replies; 6+ messages in thread
From: dpdklab @ 2025-02-24 17:10 UTC (permalink / raw)
To: Test Report; +Cc: dpdk-test-reports
Test-Label: iol-unit-amd64-testing
Test-Status: SUCCESS
http://dpdk.org/patch/151958
_Testing PASS_
Submitter: Luca Vizzarro <luca.vizzarro@arm.com>
Date: Monday, February 24 2025 13:28:23
DPDK git baseline: Repo:dpdk
Branch: master
CommitID:bdc023381a2c719fa6cb0e1c60aebd9c8c4afa21
151953-151958 --> testing pass
Upstream job id: Generic-VM-Unit-Test-DPDK#27346
Test environment and result as below:
+---------------------+----------------+
| Environment | dpdk_unit_test |
+=====================+================+
| CentOS Stream 10 | PASS |
+---------------------+----------------+
| Fedora 40 | PASS |
+---------------------+----------------+
| CentOS Stream 9 | PASS |
+---------------------+----------------+
| Fedora 40 (Clang) | PASS |
+---------------------+----------------+
| Fedora 41 (Clang) | PASS |
+---------------------+----------------+
| Debian Bullseye | PASS |
+---------------------+----------------+
| Fedora 41 | PASS |
+---------------------+----------------+
| Ubuntu 22.04 | PASS |
+---------------------+----------------+
| RHEL9 | PASS |
+---------------------+----------------+
| Debian 12 | PASS |
+---------------------+----------------+
| RHEL8 | PASS |
+---------------------+----------------+
| Ubuntu 20.04 | PASS |
+---------------------+----------------+
| Ubuntu 24.04 | PASS |
+---------------------+----------------+
| Windows Server 2022 | PASS |
+---------------------+----------------+
CentOS Stream 10
Kernel: Depends on container host
Compiler: gcc 14.2.1 20241104 (Red Hat 14.2.1-6)
Fedora 40
Kernel: Depends on container host
Compiler: gcc 14.2.1 20240912 (Red Hat 14.2.1-3)
CentOS Stream 9
Kernel: Depends on container host
Compiler: gcc 11.5.0 20240719 (Red Hat 11.5.0-2)
Fedora 40 (Clang)
Kernel: Depends on container host
Compiler: clang 18.1.8 (Fedora 18.1.8-1.fc40)
Fedora 41 (Clang)
Kernel: Depends on container host
Compiler: clang 19.1.5 (Fedora 19.1.5-1.fc41)
Debian Bullseye
Kernel: Depends on container host
Compiler: gcc (Debian 10.2.1-6) 10.2.1 20210110
Fedora 41
Kernel: Depends on container host
Compiler: gcc 14.2.1 20240912 (Red Hat 14.2.1-3)
Ubuntu 22.04
Kernel: Depends on container host
Compiler: gcc (Ubuntu 11.4.0-1ubuntu1~22.04) 11.4.0
RHEL9
Kernel: Depends on container host
Compiler: gcc 11.5.0 20240719 (Red Hat 11.5.0-2)
Debian 12
Kernel: Depends on container host
Compiler: gcc (Debian 12.2.0-14) 12.2.0
RHEL8
Kernel: Depends on container host
Compiler: gcc 8.5.0 20210514 (Red Hat 8.5.0-22)
Ubuntu 20.04
Kernel: Depends on container host
Compiler: gcc (Ubuntu 9.4.0-1ubuntu1~20.04.2) 9.4.0
Ubuntu 24.04
Kernel: Depends on container host
Compiler: gcc (Ubuntu 13.3.0-6ubuntu2~24.04) 13.3.0
Windows Server 2022
Kernel: 10.0.20348.2031
Compiler: clang 15.0.7, gcc 14.1.0 (MinGW), and MSVC VS 19.39.33521
To view detailed results, visit:
https://lab.dpdk.org/results/dashboard/patchsets/32665/
UNH-IOL DPDK Community Lab
To manage your email subscriptions, visit:
https://lab.dpdk.org/results/dashboard/preferences/subscriptions/
^ permalink raw reply [flat|nested] 6+ messages in thread
end of thread, other threads:[~2025-02-24 17:10 UTC | newest]
Thread overview: 6+ messages (download: mbox.gz / follow: Atom feed)
-- links below jump to the message on this page --
[not found] <20250224132823.196509-7-luca.vizzarro@arm.com>
2025-02-24 13:32 ` |SUCCESS| pw151958 [PATCH 6/6] dts: restore TG setup and teardown checkpatch
2025-02-24 15:53 ` |PENDING| pw151953-151958 [PATCH] [6/6] dts: restore TG setup and te dpdklab
2025-02-24 16:03 ` |SUCCESS| " dpdklab
2025-02-24 16:14 ` |PENDING| " dpdklab
2025-02-24 16:15 ` dpdklab
2025-02-24 17:10 ` |SUCCESS| " dpdklab
This is a public inbox, see mirroring instructions
for how to clone and mirror all data and code used for this inbox;
as well as URLs for NNTP newsgroup(s).