From mboxrd@z Thu Jan 1 00:00:00 1970 Return-Path: Received: from mails.dpdk.org (mails.dpdk.org [217.70.189.124]) by inbox.dpdk.org (Postfix) with ESMTP id 927A7462AD for ; Mon, 24 Feb 2025 18:10:42 +0100 (CET) Received: from mails.dpdk.org (localhost [127.0.0.1]) by mails.dpdk.org (Postfix) with ESMTP id 8848C427A3; Mon, 24 Feb 2025 18:10:42 +0100 (CET) Received: from mail-pl1-f226.google.com (mail-pl1-f226.google.com [209.85.214.226]) by mails.dpdk.org (Postfix) with ESMTP id 0EA724279D for ; Mon, 24 Feb 2025 18:10:41 +0100 (CET) Received: by mail-pl1-f226.google.com with SMTP id d9443c01a7336-2211acda7f6so104444085ad.3 for ; Mon, 24 Feb 2025 09:10:40 -0800 (PST) DKIM-Signature: v=1; a=rsa-sha256; c=relaxed/relaxed; d=iol.unh.edu; s=unh-iol; t=1740417040; x=1741021840; darn=dpdk.org; h=references:in-reply-to:cc:to:from:subject:message-id:date:from:to :cc:subject:date:message-id:reply-to; bh=DpMzrAU6JpQxdpOomv8cnGEX+/VKy7/0rqLpT3ch0/k=; b=XPU5RHVT4owSC5KLk45xCUlb+WVvEe7ZDXD/FkqlvooSp+F830swUSZ6vHtD0eKDNW xwg8NwPU1i2mkgH+VA3Lpi1gZofcKzRm+T5KlrXZQyJCa2EivVnvpuJkbJLqXEUTnJim 2jFx1lPus9kD7/lY6MlCQj/w7FxYvVUEA7beg= X-Google-DKIM-Signature: v=1; a=rsa-sha256; c=relaxed/relaxed; d=1e100.net; s=20230601; t=1740417040; x=1741021840; h=references:in-reply-to:cc:to:from:subject:message-id:date :x-gm-message-state:from:to:cc:subject:date:message-id:reply-to; bh=DpMzrAU6JpQxdpOomv8cnGEX+/VKy7/0rqLpT3ch0/k=; b=uK7hqS2izFywlz3KPleTrLNE61gmgp8eDgcqUnFxtq/Xa2YwI09F5wRXeAu2x2ngfN NzX8kA68m1vuwcrLgklBT57RCHqysvb0VCahtZfsa8QL8QpqR41cJii2G+hAiaKRI8gV SQYuiSI4sqlUHNtiz0xA49O8XU3Y8rO86+nAOTsNOMDH4e9M2xCD9apFTH7jHyOdb6Ac uuxk4LCUOI6zE8BDGiJiyH26JA6ral1k3NR1M9KpMswJ/94cR3BdCaVHbi4eau8+rqs6 orWwF/sX7yZ8oErHmYVyV3P37fnfng2EN8tcR1mLy2Uj1pgS+4P0HRUiVrIFc9uKUax5 4c8w== X-Gm-Message-State: AOJu0Yy3rMrcah+WECwwBWcACx1Cc48VhLmvQmY6Xb+t7Tivvm+GnPPi WfRcTe/tHUCqZ10QZGy9jb0Q5cY8nxYiA/tdmXQKxwbo/h1AI19ypXt5H+LNx3Cbkyv7sLq6kd0 S/jgeKjYNVNto3jnhHxscMoJpyczfe5+Rhgro54p+ X-Gm-Gg: ASbGncvqMEC+mvxmxYamPc9UtskDSuZtxmAKzqxs/NXYT0T+62TfYvx1cRNCEW057MD J9iWymddzcbtQUfLNG2zXy/dkGXUsJmeoLDm9zKuc6mvJ0rtIFIzecT3MMfepgA5oKgXxtwZjhG 7IRXbuIRFKGKOhtRQ+YYRTxINVaBI51AVNlyvcdCyJVwhYAXDiK1VKBNYPXkUitLkZhkc3ZIOw7 wVduKFCmF2N8EssrA2kq5yGb1/SN3PzJVRG/a+PrnrLo/K3uRT8JNliFiG6Y3EPdwEpfSe54GTD DuKHnCwAfelUv243rwUQQm5MYmIIF+bVw2Egzvl9 X-Google-Smtp-Source: AGHT+IFL3CW/QlvKRx562wUYsuc2JLH1zxKsfYV3T43WoAW+6DWpaIcz6YYYO3Wc9oo30LDIoDPbscqovxnN X-Received: by 2002:a05:6a20:6a0b:b0:1e1:ad39:cc5c with SMTP id adf61e73a8af0-1eef3c7718dmr26149059637.14.1740417040104; Mon, 24 Feb 2025 09:10:40 -0800 (PST) Received: from postal.iol.unh.edu (postal.iol.unh.edu. [132.177.123.84]) by smtp-relay.gmail.com with ESMTPS id 41be03b00d2f7-adb598911adsm605222a12.22.2025.02.24.09.10.39 (version=TLS1_2 cipher=ECDHE-ECDSA-AES128-GCM-SHA256 bits=128/128); Mon, 24 Feb 2025 09:10:40 -0800 (PST) X-Relaying-Domain: iol.unh.edu Date: Mon, 24 Feb 2025 09:10:40 -0800 (PST) Message-ID: <67bca810.050a0220.10dc71.a6a9SMTPIN_ADDED_MISSING@mx.google.com> Received: from [172.17.0.3] (unknown [172.18.0.217]) by postal.iol.unh.edu (Postfix) with ESMTP id 7D6076052471; Mon, 24 Feb 2025 12:10:39 -0500 (EST) Subject: |SUCCESS| pw151953-151958 [PATCH] [6/6] dts: restore TG setup and te From: dpdklab@iol.unh.edu To: Test Report Cc: dpdk-test-reports@iol.unh.edu In-Reply-To: <20250224132823.196509-7-luca.vizzarro@arm.com> References: <20250224132823.196509-7-luca.vizzarro@arm.com> Content-Type: text/plain X-BeenThere: test-report@dpdk.org X-Mailman-Version: 2.1.29 Precedence: list List-Id: automatic DPDK test reports List-Unsubscribe: , List-Archive: List-Post: List-Help: List-Subscribe: , Errors-To: test-report-bounces@dpdk.org Test-Label: iol-unit-amd64-testing Test-Status: SUCCESS http://dpdk.org/patch/151958 _Testing PASS_ Submitter: Luca Vizzarro Date: Monday, February 24 2025 13:28:23 DPDK git baseline: Repo:dpdk Branch: master CommitID:bdc023381a2c719fa6cb0e1c60aebd9c8c4afa21 151953-151958 --> testing pass Upstream job id: Generic-VM-Unit-Test-DPDK#27346 Test environment and result as below: +---------------------+----------------+ | Environment | dpdk_unit_test | +=====================+================+ | CentOS Stream 10 | PASS | +---------------------+----------------+ | Fedora 40 | PASS | +---------------------+----------------+ | CentOS Stream 9 | PASS | +---------------------+----------------+ | Fedora 40 (Clang) | PASS | +---------------------+----------------+ | Fedora 41 (Clang) | PASS | +---------------------+----------------+ | Debian Bullseye | PASS | +---------------------+----------------+ | Fedora 41 | PASS | +---------------------+----------------+ | Ubuntu 22.04 | PASS | +---------------------+----------------+ | RHEL9 | PASS | +---------------------+----------------+ | Debian 12 | PASS | +---------------------+----------------+ | RHEL8 | PASS | +---------------------+----------------+ | Ubuntu 20.04 | PASS | +---------------------+----------------+ | Ubuntu 24.04 | PASS | +---------------------+----------------+ | Windows Server 2022 | PASS | +---------------------+----------------+ CentOS Stream 10 Kernel: Depends on container host Compiler: gcc 14.2.1 20241104 (Red Hat 14.2.1-6) Fedora 40 Kernel: Depends on container host Compiler: gcc 14.2.1 20240912 (Red Hat 14.2.1-3) CentOS Stream 9 Kernel: Depends on container host Compiler: gcc 11.5.0 20240719 (Red Hat 11.5.0-2) Fedora 40 (Clang) Kernel: Depends on container host Compiler: clang 18.1.8 (Fedora 18.1.8-1.fc40) Fedora 41 (Clang) Kernel: Depends on container host Compiler: clang 19.1.5 (Fedora 19.1.5-1.fc41) Debian Bullseye Kernel: Depends on container host Compiler: gcc (Debian 10.2.1-6) 10.2.1 20210110 Fedora 41 Kernel: Depends on container host Compiler: gcc 14.2.1 20240912 (Red Hat 14.2.1-3) Ubuntu 22.04 Kernel: Depends on container host Compiler: gcc (Ubuntu 11.4.0-1ubuntu1~22.04) 11.4.0 RHEL9 Kernel: Depends on container host Compiler: gcc 11.5.0 20240719 (Red Hat 11.5.0-2) Debian 12 Kernel: Depends on container host Compiler: gcc (Debian 12.2.0-14) 12.2.0 RHEL8 Kernel: Depends on container host Compiler: gcc 8.5.0 20210514 (Red Hat 8.5.0-22) Ubuntu 20.04 Kernel: Depends on container host Compiler: gcc (Ubuntu 9.4.0-1ubuntu1~20.04.2) 9.4.0 Ubuntu 24.04 Kernel: Depends on container host Compiler: gcc (Ubuntu 13.3.0-6ubuntu2~24.04) 13.3.0 Windows Server 2022 Kernel: 10.0.20348.2031 Compiler: clang 15.0.7, gcc 14.1.0 (MinGW), and MSVC VS 19.39.33521 To view detailed results, visit: https://lab.dpdk.org/results/dashboard/patchsets/32665/ UNH-IOL DPDK Community Lab To manage your email subscriptions, visit: https://lab.dpdk.org/results/dashboard/preferences/subscriptions/