From mboxrd@z Thu Jan 1 00:00:00 1970 Return-Path: Received: from mails.dpdk.org (mails.dpdk.org [217.70.189.124]) by inbox.dpdk.org (Postfix) with ESMTP id 16356462AE for ; Mon, 24 Feb 2025 20:24:30 +0100 (CET) Received: from mails.dpdk.org (localhost [127.0.0.1]) by mails.dpdk.org (Postfix) with ESMTP id 1122B40EE2; Mon, 24 Feb 2025 20:24:30 +0100 (CET) Received: from mail-il1-f225.google.com (mail-il1-f225.google.com [209.85.166.225]) by mails.dpdk.org (Postfix) with ESMTP id 5E00F40DD0 for ; Mon, 24 Feb 2025 20:24:29 +0100 (CET) Received: by mail-il1-f225.google.com with SMTP id e9e14a558f8ab-3d191bfeafbso16151425ab.0 for ; Mon, 24 Feb 2025 11:24:29 -0800 (PST) DKIM-Signature: v=1; a=rsa-sha256; c=relaxed/relaxed; d=iol.unh.edu; s=unh-iol; t=1740425068; x=1741029868; darn=dpdk.org; h=references:in-reply-to:cc:to:from:subject:message-id:date:from:to :cc:subject:date:message-id:reply-to; bh=vuawjXpdvUXdtmR8/lWaqrKP95Citre5UvQGn5JyPO4=; b=HlbdiAw+1VPg6Ner9FLjoGwcba8Rf+jMucsNJ5s7S/cGOQ9+rUBT3AmdvVHGyK21EX RvRU3v7z/lTMGjlSpKCIPuqrB83wo6ThNA3pSJDd7rirOjOedjVAjksix9Yr3XSkDiQr a8JndB4E5jlSxCvgvOe7yOgDkJfjSIk8VXy2U= X-Google-DKIM-Signature: v=1; a=rsa-sha256; c=relaxed/relaxed; d=1e100.net; s=20230601; t=1740425068; x=1741029868; h=references:in-reply-to:cc:to:from:subject:message-id:date :x-gm-message-state:from:to:cc:subject:date:message-id:reply-to; bh=vuawjXpdvUXdtmR8/lWaqrKP95Citre5UvQGn5JyPO4=; b=TGWgiEAhIVBnaDyjpnznfM6AB0DnPpnhcYbsKTw2W1eML0tP0Mi3Qim+1eJkXrFKy0 jaYU+l7pXQmtOBAAxrehZmggeZj5RGdHPmM5o1kzKvspusBszR73JBvCenARrPQzbGiR gDj5mvpu3INVo10kxDKMVq6s2TtRqNOxBA82hrkN9Y5wy84Wyyc+0JNAD3spnOWT+Lfh spUIdQkcl8jt9snpYC2FVI7iMbm2wVfFZDSvn80QVAEF5mcsU59ADtZXBMkNtOroEBmn sn7F0BYyDNl7odiNNsYGXZwk2El3GKd5m4DVs2Q4Xz8CYs6+dXf+du09JegQPLcITX9O WMLg== X-Gm-Message-State: AOJu0YxCDYE6eL4YZafaaE73KD/5kLx++HmRDFL4g6yMujpeEIAvDbNt TnjaIQt75Bj3YJUcWgl9x2mmP9H3U4G8duhqra9Tz6tWFzYbq05DvfKYKPirCB82hOuVQze4puA VI02bIgdVnT2vVGG8N6EJ3kyWOw1xaGhRhKCyahQAcF6g0ZZYwu0XR8AC X-Gm-Gg: ASbGncuEXH2+2UDDiYMow8ucB4OEyiqoOOzWe2TLf3KGUN+ESIUJbKFLcVRhBiPZBOU 2GBQeGcsNTCG9LKp1MrI/sG/BkMoU5+F1PDfiPtDADuXjI+VRhHsa48SfQfKVBx3km6LqITW2g8 ozav6FX3xJSvKTb5Eyi0uNK2b0ngThQSUh92topaavotu8L5EHK7ExIKThb0aPGAW4roHJqCXCu JPXd1jr+Z9EAzut0fCBhiEVd3tVb6ghdMMbk6ODgtn7XT0PWZlVCPzmgl7EQrvl3/09Db8O/kjF FNnnJJsHmnIGv6bsec//o7eWimXzlEUgxKYmBEYA6Rpg7IR0aC28 X-Google-Smtp-Source: AGHT+IH9QVDaXScc6A+LkS0KYBM3UHId3dnaWnw0DBoMFTTOI7IRrs/x32kocpQNmFMNAZTQOuM9yXec7Puh X-Received: by 2002:a05:6e02:12c5:b0:3d0:ca2:156d with SMTP id e9e14a558f8ab-3d3048a65aemr5237115ab.14.1740425068668; Mon, 24 Feb 2025 11:24:28 -0800 (PST) Received: from postal.iol.unh.edu (postal.iol.unh.edu. [2606:4100:3880:1234::84]) by smtp-relay.gmail.com with ESMTPS id 8926c6da1cb9f-4f047482eacsm9299173.28.2025.02.24.11.24.28 (version=TLS1_2 cipher=ECDHE-ECDSA-AES128-GCM-SHA256 bits=128/128); Mon, 24 Feb 2025 11:24:28 -0800 (PST) X-Relaying-Domain: iol.unh.edu Date: Mon, 24 Feb 2025 11:24:28 -0800 (PST) Message-ID: <67bcc76c.050a0220.1fa93c.0971SMTPIN_ADDED_MISSING@mx.google.com> Received: from [172.17.0.6] (unknown [172.18.0.217]) by postal.iol.unh.edu (Postfix) with ESMTP id 232536052472; Mon, 24 Feb 2025 14:24:28 -0500 (EST) Subject: |SUCCESS| pw151941-151938 [PATCH] [v3,33/33] common/cnxk: move inter From: dpdklab@iol.unh.edu To: Test Report Cc: dpdk-test-reports@iol.unh.edu In-Reply-To: <20250224095241.1263700-33-ndabilpuram@marvell.com> References: <20250224095241.1263700-33-ndabilpuram@marvell.com> Content-Type: text/plain X-BeenThere: test-report@dpdk.org X-Mailman-Version: 2.1.29 Precedence: list List-Id: automatic DPDK test reports List-Unsubscribe: , List-Archive: List-Post: List-Help: List-Subscribe: , Errors-To: test-report-bounces@dpdk.org Test-Label: iol-sample-apps-testing Test-Status: SUCCESS http://dpdk.org/patch/151938 _Testing PASS_ Submitter: Nithin Dabilpuram Date: Monday, February 24 2025 09:52:41 DPDK git baseline: Repo:dpdk Branch: master CommitID:fab31a03ba98e7457284df95dd9eef2223a4ccaa 151941-151938 --> testing pass Upstream job id: ACVP-FIPS-testing#9029 Test environment and result as below: +--------------------+----------------------+----------------------+ | Environment | compressdev_zlib_pmd | dpdk_fips_validation | +====================+======================+======================+ | Ubuntu 22.04 (ARM) | PASS | SKIPPED | +--------------------+----------------------+----------------------+ | Ubuntu 22.04 | PASS | SKIPPED | +--------------------+----------------------+----------------------+ | Ubuntu 20.04 | SKIPPED | PASS | +--------------------+----------------------+----------------------+ Ubuntu 22.04 (ARM) Kernel: 5.15.0-97-generic Compiler: gcc gcc (Ubuntu 11.4.0-1ubuntu1~22.04) 11.4.0 Ubuntu 22.04 Kernel: 5.15.0-100-generic Compiler: gcc gcc (Ubuntu 11.4.0-1ubuntu1~22.04) 11.4.0 Ubuntu 20.04 Kernel: Depends on container host Compiler: gcc (Ubuntu 9.4.0-1ubuntu1~20.04.2) 9.4.0 To view detailed results, visit: https://lab.dpdk.org/results/dashboard/patchsets/32661/ UNH-IOL DPDK Community Lab To manage your email subscriptions, visit: https://lab.dpdk.org/results/dashboard/preferences/subscriptions/