From mboxrd@z Thu Jan 1 00:00:00 1970 Return-Path: Received: from mails.dpdk.org (mails.dpdk.org [217.70.189.124]) by inbox.dpdk.org (Postfix) with ESMTP id C67E6462AF for ; Mon, 24 Feb 2025 22:15:57 +0100 (CET) Received: from mails.dpdk.org (localhost [127.0.0.1]) by mails.dpdk.org (Postfix) with ESMTP id AD8D5427C5; Mon, 24 Feb 2025 22:15:57 +0100 (CET) Received: from mail-il1-f228.google.com (mail-il1-f228.google.com [209.85.166.228]) by mails.dpdk.org (Postfix) with ESMTP id C263140EE2 for ; Mon, 24 Feb 2025 22:15:55 +0100 (CET) Received: by mail-il1-f228.google.com with SMTP id e9e14a558f8ab-3d19d214f0aso33573975ab.1 for ; Mon, 24 Feb 2025 13:15:55 -0800 (PST) DKIM-Signature: v=1; a=rsa-sha256; c=relaxed/relaxed; d=iol.unh.edu; s=unh-iol; t=1740431755; x=1741036555; darn=dpdk.org; h=references:in-reply-to:cc:to:from:subject:message-id:date:from:to :cc:subject:date:message-id:reply-to; bh=ZDsFRWsngZDT0rbK7EOqas7+DtOuQOQgR6iFeRnd270=; b=ao0iyK5iOFGnzMVVOug7WNfO23MVjj5zcmeqlFidAb3wvpTNFSibSW6X/Qk0R8DUXY G3jJxrva4iTkFmu823gcfG1xb+GDBjvUJDaqahFGfuZH0osLxSwm5E3dXyMlt50r3u67 TEuuM6oeDcp5cxkSjQFwyseM2CmGn4m5E5jbU= X-Google-DKIM-Signature: v=1; a=rsa-sha256; c=relaxed/relaxed; d=1e100.net; s=20230601; t=1740431755; x=1741036555; h=references:in-reply-to:cc:to:from:subject:message-id:date :x-gm-message-state:from:to:cc:subject:date:message-id:reply-to; bh=ZDsFRWsngZDT0rbK7EOqas7+DtOuQOQgR6iFeRnd270=; b=EFipAYkjSB+mBDHdjXz3AHFrBnOdQ8byAwH79nZsqYQmBie1QteyFif87xPvVWd5rZ fd0pWTECr8ejbcwBsx+zXM+b6J5AoUQz9vKxOahY9oxEiUlQa0pmi99wx1aqJylzBi+9 TRzfwDuAlikxdf9jWiKxdRDODrizE/zzSerqLr88PEusJ8a/Uk5YWkisEOeU07egWZ7y e6UvVE5MV16INp2RPJlh0G109O7HMm+iZ/l3bZxv4+1UKrUJDqf+9GQ5ciqNgCE05O0k ZX1CmS6VxtdkHKEyrs1H2BqPPeERRah5hqWXrq/mIUjzVacQGS6TcxsoG4B/SPAESQzs C0IA== X-Gm-Message-State: AOJu0YzmQ698XtiBizQU0mwa45QQnjN4Kq7Jw+UBq+ZO/sL3490jG2u/ x1EucP6Fd2qFANhgtB9JMTbSPKsnzUH9b2QndMxnFttKNFaUXwlEoNXdqm7fRH4eHIXMBuoWqGC 67ERE3XvFChWl0cwAt27JnY5z4a0m3ekJuMvMvzFyomsgiq7e4Me9+xq1 X-Gm-Gg: ASbGncuJ6Z6ify1F4h7gSYGyRv+CPckUjfJ8xHc7mqS7r+sZgQ4CZ0U61toDVXm7jbd L9oJSTmge5eD9kKOxP2vWeaF31DA/pGda72letIno2hfOJypPWo40H2GnSJUqErR3gXrDH0wdPI V8a+0lrCNXlbIvEiOhhe0nMbqKEiWRYFlF0DI77M18sdq0Kzn/DXT4rFQgJxkMxEHdkdvgB+6MU q2awI9JS9fGc4a4qo43jACF7+J6SR9P66KoGvkSU6b+S09Blzq9C83zEKd2YLWwytVJaG7VjKXh SLOxaCdY78AdzCnb8yhMs0JWU5wFuPFKKuPOGKG5hODEYOh/3VE/ X-Google-Smtp-Source: AGHT+IGdINZFwwULik244aqHOn75hTA1WM3W/3OYJDFFbU7Rbj2d9IYfepXZzZ86E19pZSG+R2rmX4pk0+Um X-Received: by 2002:a05:6e02:320d:b0:3d2:b66b:94cd with SMTP id e9e14a558f8ab-3d2cb43252amr148949565ab.3.1740431755048; Mon, 24 Feb 2025 13:15:55 -0800 (PST) Received: from postal.iol.unh.edu (postal.iol.unh.edu. [2606:4100:3880:1234::84]) by smtp-relay.gmail.com with ESMTPS id e9e14a558f8ab-3d361cad115sm95015ab.46.2025.02.24.13.15.54 (version=TLS1_2 cipher=ECDHE-ECDSA-AES128-GCM-SHA256 bits=128/128); Mon, 24 Feb 2025 13:15:55 -0800 (PST) X-Relaying-Domain: iol.unh.edu Date: Mon, 24 Feb 2025 13:15:55 -0800 (PST) Message-ID: <67bce18b.050a0220.a9f6d.0ae3SMTPIN_ADDED_MISSING@mx.google.com> Received: from [172.17.0.3] (unknown [172.18.0.217]) by postal.iol.unh.edu (Postfix) with ESMTP id 6E13E6052471; Mon, 24 Feb 2025 16:15:54 -0500 (EST) Subject: |SUCCESS| pw151941-151938 [PATCH] [v3,33/33] common/cnxk: move inter From: dpdklab@iol.unh.edu To: Test Report Cc: dpdk-test-reports@iol.unh.edu In-Reply-To: <20250224095241.1263700-33-ndabilpuram@marvell.com> References: <20250224095241.1263700-33-ndabilpuram@marvell.com> Content-Type: text/plain X-BeenThere: test-report@dpdk.org X-Mailman-Version: 2.1.29 Precedence: list List-Id: automatic DPDK test reports List-Unsubscribe: , List-Archive: List-Post: List-Help: List-Subscribe: , Errors-To: test-report-bounces@dpdk.org Test-Label: iol-sample-apps-testing Test-Status: SUCCESS http://dpdk.org/patch/151938 _Testing PASS_ Submitter: Nithin Dabilpuram Date: Monday, February 24 2025 09:52:41 DPDK git baseline: Repo:dpdk Branch: master CommitID:fab31a03ba98e7457284df95dd9eef2223a4ccaa 151941-151938 --> testing pass Upstream job id: ACVP-FIPS-testing#9030 Test environment and result as below: +--------------------+----------------------+----------------------+ | Environment | compressdev_zlib_pmd | dpdk_fips_validation | +====================+======================+======================+ | Ubuntu 22.04 (ARM) | PASS | SKIPPED | +--------------------+----------------------+----------------------+ | Ubuntu 22.04 | PASS | SKIPPED | +--------------------+----------------------+----------------------+ | Ubuntu 20.04 | SKIPPED | PASS | +--------------------+----------------------+----------------------+ Ubuntu 22.04 (ARM) Kernel: 5.15.0-97-generic Compiler: gcc gcc (Ubuntu 11.4.0-1ubuntu1~22.04) 11.4.0 Ubuntu 22.04 Kernel: 5.15.0-100-generic Compiler: gcc gcc (Ubuntu 11.4.0-1ubuntu1~22.04) 11.4.0 Ubuntu 20.04 Kernel: Depends on container host Compiler: gcc (Ubuntu 9.4.0-1ubuntu1~20.04.2) 9.4.0 To view detailed results, visit: https://lab.dpdk.org/results/dashboard/patchsets/32661/ UNH-IOL DPDK Community Lab To manage your email subscriptions, visit: https://lab.dpdk.org/results/dashboard/preferences/subscriptions/