From mboxrd@z Thu Jan 1 00:00:00 1970 Return-Path: Received: from mails.dpdk.org (mails.dpdk.org [217.70.189.124]) by inbox.dpdk.org (Postfix) with ESMTP id 2301B462AF for ; Mon, 24 Feb 2025 23:21:46 +0100 (CET) Received: from mails.dpdk.org (localhost [127.0.0.1]) by mails.dpdk.org (Postfix) with ESMTP id 04B05427C6; Mon, 24 Feb 2025 23:21:46 +0100 (CET) Received: from mail-io1-f98.google.com (mail-io1-f98.google.com [209.85.166.98]) by mails.dpdk.org (Postfix) with ESMTP id 4156240EE2 for ; Mon, 24 Feb 2025 23:21:44 +0100 (CET) Received: by mail-io1-f98.google.com with SMTP id ca18e2360f4ac-855bd88ee2cso136006739f.0 for ; Mon, 24 Feb 2025 14:21:44 -0800 (PST) DKIM-Signature: v=1; a=rsa-sha256; c=relaxed/relaxed; d=iol.unh.edu; s=unh-iol; t=1740435703; x=1741040503; darn=dpdk.org; h=references:in-reply-to:cc:to:from:subject:message-id:date:from:to :cc:subject:date:message-id:reply-to; bh=aEySyqfHoARm3Y1z9OuDO4eAeLdR4hQmHvShd6YdJgU=; b=gWXRejG3EfQ2ZwuCI0rtshLH2RMPI/NCN3B7oOTrfhy3mnrZKIzr2fOSO3dKdYLZ1J RMr7pyDiy88rQQhkayg1rDdfEHzUDbDkpEI6c5ENB1ZZKoKcLs94HMWO9HwLBaju34VM 5V/JnR4/it01zwLj+Jw0EF4RYSD+fUxh6EYBM= X-Google-DKIM-Signature: v=1; a=rsa-sha256; c=relaxed/relaxed; d=1e100.net; s=20230601; t=1740435703; x=1741040503; h=references:in-reply-to:cc:to:from:subject:message-id:date :x-gm-message-state:from:to:cc:subject:date:message-id:reply-to; bh=aEySyqfHoARm3Y1z9OuDO4eAeLdR4hQmHvShd6YdJgU=; b=hSW37ISgkpKOwIzv3kkOaRvVljFX60vpny8XJ7MqajFiuqR0KGWA4T3Ce3HsBzjsNt XRtnnK6X11UDaB8YgfyCYmt4lSvjwt5c1NaJDKvAgFF6ZZwW2NTbSWWgqcCcBoylqEhA bMVWMKZaJP+V+BRLXaGlEHQiTEsvgnwONyPs0BoFsdAjULUvBh23me3PEr43w/F1OlrY hOqO6PfBMBo72/YpNavVVj0Uc6U3+NfYqfKUmbcZCZ6Lab96fSAPOVVJMm1tvflpyB5f zR4WszcyF3mUMVIfd4f12QmtD2QkId4BrGjf0vz1YJXRBg0C5oWabVvDGUpi9FpU8qrN 8n+Q== X-Gm-Message-State: AOJu0YzpW4lTWv+0R4mo2hMaxXkm4gUmLfDnC1mkSVGoV0xgrDJCJ3J4 BDNXX2TWKzLs8lyr4+D2UCNmJfs2ASA0LifkDPeZ1gDzIRAplrDHDvSyD/1a4gwVWx91wE9iJo3 cgJ/xwosPqtTVYQ6aJ8WpEyER57Q9fjVu+Ax8s6HcyJ/XNLYIP7/DGQ5i X-Gm-Gg: ASbGnctsrFx3WWUTceb23db7bK0Mm/Uq3tsacLJ3sKedTvD/C4Yh/CXCXnE9vRYWMnx MYsfWuZHJTLHOaDNqKJMB/30EyMatLnvYUjKYCViyXGR/ySnb56NeOSVvfrq3FwLmlT773K0grN LtEwLveHodZNG/qPDAa1QAWAQe6Qt/HorQJs2LIOPrTN1bJQz02s8Ui1IshLmmgiV7UCeQqms3J wQqxRTNLJ8z4PVa/Rtt/e1e0mir6erAI47+jXBKyUsTxLCd1hPWxbMFN6vVs+wyEoyGeDon3uiY RssWjetfRoKWC4SLH7gxugXH4uB9jDad0v0aRiFXfMlGdn8F+i6e X-Google-Smtp-Source: AGHT+IGelNKOpAs2YY6/wqSNXsECCvGUVlfZn4YN2eOMN2Oh85uUKEu/13HUBOLo9as+zfUxObRyMK69jpmQ X-Received: by 2002:a05:6e02:12e8:b0:3d1:966c:fc8c with SMTP id e9e14a558f8ab-3d2cb514b1emr136388755ab.17.1740435703368; Mon, 24 Feb 2025 14:21:43 -0800 (PST) Received: from postal.iol.unh.edu (postal.iol.unh.edu. [2606:4100:3880:1234::84]) by smtp-relay.gmail.com with ESMTPS id 8926c6da1cb9f-4f04749b5c3sm22340173.32.2025.02.24.14.21.43 (version=TLS1_2 cipher=ECDHE-ECDSA-AES128-GCM-SHA256 bits=128/128); Mon, 24 Feb 2025 14:21:43 -0800 (PST) X-Relaying-Domain: iol.unh.edu Date: Mon, 24 Feb 2025 14:21:43 -0800 (PST) Message-ID: <67bcf0f7.050a0220.1cf311.179dSMTPIN_ADDED_MISSING@mx.google.com> Received: from [172.21.0.7] (unknown [172.18.0.240]) by postal.iol.unh.edu (Postfix) with ESMTP id CCE1B6052471; Mon, 24 Feb 2025 17:21:42 -0500 (EST) Subject: |SUCCESS| pw151974-151976 [PATCH] [v5,3/3] app/test: add SM4 GCM tes From: dpdklab@iol.unh.edu To: Test Report Cc: dpdk-test-reports@iol.unh.edu In-Reply-To: <20250224165939.717714-3-brian.dooley@intel.com> References: <20250224165939.717714-3-brian.dooley@intel.com> Content-Type: text/plain X-BeenThere: test-report@dpdk.org X-Mailman-Version: 2.1.29 Precedence: list List-Id: automatic DPDK test reports List-Unsubscribe: , List-Archive: List-Post: List-Help: List-Subscribe: , Errors-To: test-report-bounces@dpdk.org Test-Label: iol-abi-testing Test-Status: SUCCESS http://dpdk.org/patch/151976 _Testing PASS_ Submitter: Brian Dooley Date: Monday, February 24 2025 16:59:39 DPDK git baseline: Repo:dpdk Branch: master CommitID:fab31a03ba98e7457284df95dd9eef2223a4ccaa 151974-151976 --> testing pass Upstream job id: Generic-DPDK-Compile-ABI#117543 Test environment and result as below: +-------------------+----------+ | Environment | abi_test | +===================+==========+ | CentOS Stream 9 | PASS | +-------------------+----------+ | CentOS Stream 10 | PASS | +-------------------+----------+ | Debian Bullseye | PASS | +-------------------+----------+ | Debian 12 | PASS | +-------------------+----------+ | Fedora 40 (Clang) | PASS | +-------------------+----------+ | Fedora 40 | PASS | +-------------------+----------+ | Fedora 41 (Clang) | PASS | +-------------------+----------+ | Fedora 41 | PASS | +-------------------+----------+ | openSUSE Leap 15 | PASS | +-------------------+----------+ | RHEL8 | PASS | +-------------------+----------+ | RHEL9 | PASS | +-------------------+----------+ | Ubuntu 22.04 | PASS | +-------------------+----------+ | Ubuntu 24.04 | PASS | +-------------------+----------+ CentOS Stream 9 Kernel: Depends on container host Compiler: gcc 11.5.0 20240719 (Red Hat 11.5.0-2) CentOS Stream 10 Kernel: Depends on container host Compiler: gcc 14.2.1 20241104 (Red Hat 14.2.1-6) Debian Bullseye Kernel: Depends on container host Compiler: gcc (Debian 10.2.1-6) 10.2.1 20210110 Debian 12 Kernel: Depends on container host Compiler: gcc (Debian 12.2.0-14) 12.2.0 Fedora 40 (Clang) Kernel: Depends on container host Compiler: clang 18.1.8 (Fedora 18.1.8-1.fc40) Fedora 40 Kernel: Depends on container host Compiler: gcc 14.2.1 20240912 (Red Hat 14.2.1-3) Fedora 41 (Clang) Kernel: Depends on container host Compiler: clang 19.1.5 (Fedora 19.1.5-1.fc41) Fedora 41 Kernel: Depends on container host Compiler: gcc 14.2.1 20240912 (Red Hat 14.2.1-3) openSUSE Leap 15 Kernel: Depends on container host Compiler: gcc (SUSE Linux) 7.5.0 RHEL8 Kernel: Depends on container host Compiler: gcc 8.5.0 20210514 (Red Hat 8.5.0-22) RHEL9 Kernel: Depends on container host Compiler: gcc 11.5.0 20240719 (Red Hat 11.5.0-2) Ubuntu 22.04 Kernel: Depends on container host Compiler: gcc (Ubuntu 11.4.0-1ubuntu1~22.04) 11.4.0 Ubuntu 24.04 Kernel: Depends on container host Compiler: gcc (Ubuntu 13.3.0-6ubuntu2~24.04) 13.3.0 To view detailed results, visit: https://lab.dpdk.org/results/dashboard/patchsets/32670/ UNH-IOL DPDK Community Lab To manage your email subscriptions, visit: https://lab.dpdk.org/results/dashboard/preferences/subscriptions/