From mboxrd@z Thu Jan 1 00:00:00 1970 Return-Path: Received: from mails.dpdk.org (mails.dpdk.org [217.70.189.124]) by inbox.dpdk.org (Postfix) with ESMTP id DB694462AF for ; Mon, 24 Feb 2025 23:29:52 +0100 (CET) Received: from mails.dpdk.org (localhost [127.0.0.1]) by mails.dpdk.org (Postfix) with ESMTP id D548A427C6; Mon, 24 Feb 2025 23:29:52 +0100 (CET) Received: from mail-il1-f228.google.com (mail-il1-f228.google.com [209.85.166.228]) by mails.dpdk.org (Postfix) with ESMTP id F2C0D40EE2 for ; Mon, 24 Feb 2025 23:29:50 +0100 (CET) Received: by mail-il1-f228.google.com with SMTP id e9e14a558f8ab-3cfc8772469so15709675ab.3 for ; Mon, 24 Feb 2025 14:29:50 -0800 (PST) DKIM-Signature: v=1; a=rsa-sha256; c=relaxed/relaxed; d=iol.unh.edu; s=unh-iol; t=1740436190; x=1741040990; darn=dpdk.org; h=references:in-reply-to:cc:to:from:subject:message-id:date:from:to :cc:subject:date:message-id:reply-to; bh=1W75KOjazVLMc++OwCRNaBYPwnv1YexiSNWYWYVpjN8=; b=iP+n0kqOVFAshRK/fJU6eQW8c+Ltp9ZzZBSvfmvIenL1of2dXSn2eyZCjK0shr9QHu Co7YEE214whZ5RFobe1unkGGPl/iEp4PMO1fvkIT9SwsAMnUE1k0HiGvI0lNwfvnn1p0 Wk/Nsh8Cwpky262aqf0D0wDeA64W2xjb8fzTE= X-Google-DKIM-Signature: v=1; a=rsa-sha256; c=relaxed/relaxed; d=1e100.net; s=20230601; t=1740436190; x=1741040990; h=references:in-reply-to:cc:to:from:subject:message-id:date :x-gm-message-state:from:to:cc:subject:date:message-id:reply-to; bh=1W75KOjazVLMc++OwCRNaBYPwnv1YexiSNWYWYVpjN8=; b=gZj67FDt0t/3ozm9y28jdT98Cb73bQgWEkkwHwpNUDZ6o2LlYh+FOWhHOxtl+hbhP5 1T/XB5vtuyQspj0O+hPgpik3AfeMSinPIiycJSIFeq9H/D8Mo4Qx9XsEB+gCdFELJOmL bgj4Mk+YW+tELzENNcvS2QoaiqzJNvCS0PQ+H5u+oKAz8KsI/CQFGYstTk3Dg7c1HtAJ LDiFOTE1PGBlLBjLwkdkr9B1+Q9wbAW+3Hw4011ymHIQFfnJ/qIuYx5mfQr5TtZdGguF R0gsqKKuMSKhMpdUag6ysLwB2FouYuwzgCQqHm5HweWRPR3+uDODw6F67YuAOLm4Cebi ttBw== X-Gm-Message-State: AOJu0YyScYGFGLXtY9x4bPj+6BU/NXeNMnQViP1p9vnG9eG3Ck64yTXW z7vFOG1F5rF1GsfOM/TuOCjtsCV6Eo6cSRqDfGCzVU3eAZJLE1KtONE+LTuV9B5uhP4g69+KwS+ Dski5TxT4QfV+k90lXwAnGzkC/y4z8BJXhhrF87VR X-Gm-Gg: ASbGncuvkG0gx2J5Sc0FwireVIFKJ8MBgn+Aj3eHbWJ3QdGyHLpp5mbTGJw7zGG8n9l gjvF6hTK1V6dufEWn0a5o4ELgoJ4fQp4eN/0HUJERfi5kY7LwdV5Mv7+QDZfWxUjy/ioAr6EusR NMH+5HEkiPtBUnRlMcSEbnOANzsJwVh3LvtvudAurepGvIlv2dxA/RXpXjpzI9nO/zY21L4/mlQ JsU4YhvhZM4RjRUUOXShKhlTdKjXqCxnYIpNwwa+Wqd/N2nwLsTaTeZ/mZzmXLEI7YRK3hFpAA0 HFjILrBG07/4ZEhpCl283liUbKtX/QvAsJxx5Jr0 X-Google-Smtp-Source: AGHT+IFhQujrEyqf6iCkMg1CD7PYd6U6JQ4r+NRFUdNAXBhtME6lI4TKsQ9gFcaudYm6s6+JOESz83aa/MqQ X-Received: by 2002:a05:6e02:3f82:b0:3d1:bbc2:a324 with SMTP id e9e14a558f8ab-3d2cae4d20cmr149474905ab.4.1740436190324; Mon, 24 Feb 2025 14:29:50 -0800 (PST) Received: from postal.iol.unh.edu (postal.iol.unh.edu. [132.177.123.84]) by smtp-relay.gmail.com with ESMTPS id 8926c6da1cb9f-4f047530a2esm23766173.52.2025.02.24.14.29.50 (version=TLS1_2 cipher=ECDHE-ECDSA-AES128-GCM-SHA256 bits=128/128); Mon, 24 Feb 2025 14:29:50 -0800 (PST) X-Relaying-Domain: iol.unh.edu Date: Mon, 24 Feb 2025 14:29:50 -0800 (PST) Message-ID: <67bcf2de.050a0220.b2e00.1928SMTPIN_ADDED_MISSING@mx.google.com> Received: from [172.21.0.7] (unknown [172.18.0.240]) by postal.iol.unh.edu (Postfix) with ESMTP id C7C496052471; Mon, 24 Feb 2025 17:29:49 -0500 (EST) Subject: |SUCCESS| pw151959 [PATCH] net: fix IPv4 compat and mapped checks From: dpdklab@iol.unh.edu To: Test Report Cc: dpdk-test-reports@iol.unh.edu In-Reply-To: <20250224144725.271975-2-rjarry@redhat.com> References: <20250224144725.271975-2-rjarry@redhat.com> Content-Type: text/plain X-BeenThere: test-report@dpdk.org X-Mailman-Version: 2.1.29 Precedence: list List-Id: automatic DPDK test reports List-Unsubscribe: , List-Archive: List-Post: List-Help: List-Subscribe: , Errors-To: test-report-bounces@dpdk.org Test-Label: iol-sample-apps-testing Test-Status: SUCCESS http://dpdk.org/patch/151959 _Testing PASS_ Submitter: Robin Jarry Date: Monday, February 24 2025 14:47:26 DPDK git baseline: Repo:dpdk Branch: master CommitID:fab31a03ba98e7457284df95dd9eef2223a4ccaa 151959 --> testing pass Upstream job id: ACVP-FIPS-testing#9031 Test environment and result as below: +--------------------+----------------------+----------------------+ | Environment | compressdev_zlib_pmd | dpdk_fips_validation | +====================+======================+======================+ | Ubuntu 22.04 (ARM) | PASS | SKIPPED | +--------------------+----------------------+----------------------+ | Ubuntu 22.04 | PASS | SKIPPED | +--------------------+----------------------+----------------------+ | Ubuntu 20.04 | SKIPPED | PASS | +--------------------+----------------------+----------------------+ Ubuntu 22.04 (ARM) Kernel: 5.15.0-97-generic Compiler: gcc gcc (Ubuntu 11.4.0-1ubuntu1~22.04) 11.4.0 Ubuntu 22.04 Kernel: 5.15.0-100-generic Compiler: gcc gcc (Ubuntu 11.4.0-1ubuntu1~22.04) 11.4.0 Ubuntu 20.04 Kernel: Depends on container host Compiler: gcc (Ubuntu 9.4.0-1ubuntu1~20.04.2) 9.4.0 To view detailed results, visit: https://lab.dpdk.org/results/dashboard/patchsets/32666/ UNH-IOL DPDK Community Lab To manage your email subscriptions, visit: https://lab.dpdk.org/results/dashboard/preferences/subscriptions/