From mboxrd@z Thu Jan 1 00:00:00 1970 Return-Path: Received: from mails.dpdk.org (mails.dpdk.org [217.70.189.124]) by inbox.dpdk.org (Postfix) with ESMTP id 95579462B2 for ; Tue, 25 Feb 2025 00:02:03 +0100 (CET) Received: from mails.dpdk.org (localhost [127.0.0.1]) by mails.dpdk.org (Postfix) with ESMTP id 53E2D402B1; Tue, 25 Feb 2025 00:02:03 +0100 (CET) Received: from mail-pl1-f225.google.com (mail-pl1-f225.google.com [209.85.214.225]) by mails.dpdk.org (Postfix) with ESMTP id D2497402B1 for ; Tue, 25 Feb 2025 00:02:01 +0100 (CET) Received: by mail-pl1-f225.google.com with SMTP id d9443c01a7336-221057b6ac4so95163905ad.2 for ; Mon, 24 Feb 2025 15:02:01 -0800 (PST) DKIM-Signature: v=1; a=rsa-sha256; c=relaxed/relaxed; d=iol.unh.edu; s=unh-iol; t=1740438121; x=1741042921; darn=dpdk.org; h=references:in-reply-to:cc:to:from:subject:message-id:date:from:to :cc:subject:date:message-id:reply-to; bh=9Cxa7M9W41vv4PmTyKNhCsiswasL+86sx2eQi9X8CbQ=; b=dn4CtJU7QARntlbae3GvR9U9p7Wdl3K8TZduR90GBZ0U+QzfYWfbM6VsSff67qL6Oo vaR5XQc+elyBHfNhIjnhiCX1S7L37yk8sfRv7JMGl/IoTfFpnkklFkEu+2EQX3MIC0Ag EljdL+vdtSmtHqdbrYK6PLyMa7n9436S2pxVY= X-Google-DKIM-Signature: v=1; a=rsa-sha256; c=relaxed/relaxed; d=1e100.net; s=20230601; t=1740438121; x=1741042921; h=references:in-reply-to:cc:to:from:subject:message-id:date :x-gm-message-state:from:to:cc:subject:date:message-id:reply-to; bh=9Cxa7M9W41vv4PmTyKNhCsiswasL+86sx2eQi9X8CbQ=; b=fz/lYT0OjS2z53gKqkGjmz//QXGWP9agCIaCO7UG43c4rNUIuygzmAS5+KcRWJfL7d rkqeaEFJI8DNOVT1KQz3f7z2nYLXSKjcedvDIqqDAEJihRa+N/ZFZ3MhKcZds5xOBiAc OJaZCOZvOrh+lz/2eExmDMxurEV9E4EQDQt4SfcG+GS7anQVb6+WrBQHhlWVH5cUeGXo ga/l/Bq/54pougyzh+zPgDNSltyQ+aoq0XTjd7Hl0D8xMt+qcrIPJEu94tUGhxRTCF9h r5WWVnuPhNj2Fn/dbwBuXjP/fuD6WAH3oowcq3N/Go+NR6ZQJVKa4VjwVqqvzIlNBe60 VkGQ== X-Gm-Message-State: AOJu0Yz3lI+C8ZXs//kHoqeypIsCVxGY7IaTKq4fMilBvi8lkH4LpsHh mi2PlKWSicdlMKkDEHKlkI7O8+ctHDrHu4R/JKLQw5AwdGCk6JWGosVeDpbl1Y9rYbhezOJL8rZ C3U47RfTIO7ZFVcOCoUyt6Vc/VIWZulC3m46ADIIh X-Gm-Gg: ASbGncvKyqQWVObLY14FMn7/7+kh9mtJh202EpbCuRLWh5vPEIryMxUfvAJge0SK2xE cpscEowYnIjuSOS+hjxsXgQrt77kBILvylT4N+BQXeykR3KobcvKhykpHWlYCfmpRcdKLf11yc0 Q7eYlpYV36SxsQFG5Sa+6iX7MDzqBouG2C+n7CBgCC79XY6pOJ2+xK+Nwn01ETJ8KB2An15NWiR ifiWzBqJAfZ2W9V47LqUlQyeoBQMb+OyhHbX3rTElNX/wL9Il9hv1AFnTnPNeyRyCH3Da48cNxn 0CyIE6z4AlSUnhWgItScvzvc5T8ZLxMol/N+2D4E X-Google-Smtp-Source: AGHT+IGtfWJp5TCJRI2Ggo8V9If4X484CWkB7InHfwkJD/KqWfGSuQ4+H7uVfQ4H1XRLgsNApuOXm2HGxFzm X-Received: by 2002:a05:6a21:7905:b0:1f0:e40a:4266 with SMTP id adf61e73a8af0-1f0e40a426cmr8795037637.39.1740438120903; Mon, 24 Feb 2025 15:02:00 -0800 (PST) Received: from postal.iol.unh.edu (postal.iol.unh.edu. [132.177.123.84]) by smtp-relay.gmail.com with ESMTPS id 41be03b00d2f7-aeda75a1bd8sm5798a12.6.2025.02.24.15.02.00 (version=TLS1_2 cipher=ECDHE-ECDSA-AES128-GCM-SHA256 bits=128/128); Mon, 24 Feb 2025 15:02:00 -0800 (PST) X-Relaying-Domain: iol.unh.edu Date: Mon, 24 Feb 2025 15:02:00 -0800 (PST) Message-ID: <67bcfa68.050a0220.290d03.061bSMTPIN_ADDED_MISSING@mx.google.com> Received: from [172.17.0.5] (unknown [172.18.0.217]) by postal.iol.unh.edu (Postfix) with ESMTP id 0B5B76052471; Mon, 24 Feb 2025 18:02:00 -0500 (EST) Subject: |SUCCESS| pw151974-151976 [PATCH] [v5,3/3] app/test: add SM4 GCM tes From: dpdklab@iol.unh.edu To: Test Report Cc: dpdk-test-reports@iol.unh.edu In-Reply-To: <20250224165939.717714-3-brian.dooley@intel.com> References: <20250224165939.717714-3-brian.dooley@intel.com> Content-Type: text/plain X-BeenThere: test-report@dpdk.org X-Mailman-Version: 2.1.29 Precedence: list List-Id: automatic DPDK test reports List-Unsubscribe: , List-Archive: List-Post: List-Help: List-Subscribe: , Errors-To: test-report-bounces@dpdk.org Test-Label: iol-unit-amd64-testing Test-Status: SUCCESS http://dpdk.org/patch/151976 _Testing PASS_ Submitter: Brian Dooley Date: Monday, February 24 2025 16:59:39 DPDK git baseline: Repo:dpdk Branch: master CommitID:fab31a03ba98e7457284df95dd9eef2223a4ccaa 151974-151976 --> testing pass Upstream job id: Generic-VM-Unit-Test-DPDK#27350 Test environment and result as below: +---------------------+----------------+ | Environment | dpdk_unit_test | +=====================+================+ | CentOS Stream 9 | PASS | +---------------------+----------------+ | CentOS Stream 10 | PASS | +---------------------+----------------+ | Debian Bullseye | PASS | +---------------------+----------------+ | Fedora 40 | PASS | +---------------------+----------------+ | Debian 12 | PASS | +---------------------+----------------+ | Fedora 41 | PASS | +---------------------+----------------+ | Fedora 40 (Clang) | PASS | +---------------------+----------------+ | RHEL9 | PASS | +---------------------+----------------+ | Ubuntu 24.04 | PASS | +---------------------+----------------+ | Ubuntu 22.04 | PASS | +---------------------+----------------+ | Fedora 41 (Clang) | PASS | +---------------------+----------------+ | RHEL8 | PASS | +---------------------+----------------+ | Ubuntu 20.04 | PASS | +---------------------+----------------+ | Windows Server 2022 | PASS | +---------------------+----------------+ CentOS Stream 9 Kernel: Depends on container host Compiler: gcc 11.5.0 20240719 (Red Hat 11.5.0-2) CentOS Stream 10 Kernel: Depends on container host Compiler: gcc 14.2.1 20241104 (Red Hat 14.2.1-6) Debian Bullseye Kernel: Depends on container host Compiler: gcc (Debian 10.2.1-6) 10.2.1 20210110 Fedora 40 Kernel: Depends on container host Compiler: gcc 14.2.1 20240912 (Red Hat 14.2.1-3) Debian 12 Kernel: Depends on container host Compiler: gcc (Debian 12.2.0-14) 12.2.0 Fedora 41 Kernel: Depends on container host Compiler: gcc 14.2.1 20240912 (Red Hat 14.2.1-3) Fedora 40 (Clang) Kernel: Depends on container host Compiler: clang 18.1.8 (Fedora 18.1.8-1.fc40) RHEL9 Kernel: Depends on container host Compiler: gcc 11.5.0 20240719 (Red Hat 11.5.0-2) Ubuntu 24.04 Kernel: Depends on container host Compiler: gcc (Ubuntu 13.3.0-6ubuntu2~24.04) 13.3.0 Ubuntu 22.04 Kernel: Depends on container host Compiler: gcc (Ubuntu 11.4.0-1ubuntu1~22.04) 11.4.0 Fedora 41 (Clang) Kernel: Depends on container host Compiler: clang 19.1.5 (Fedora 19.1.5-1.fc41) RHEL8 Kernel: Depends on container host Compiler: gcc 8.5.0 20210514 (Red Hat 8.5.0-22) Ubuntu 20.04 Kernel: Depends on container host Compiler: gcc (Ubuntu 9.4.0-1ubuntu1~20.04.2) 9.4.0 Windows Server 2022 Kernel: 10.0.20348.2031 Compiler: clang 15.0.7, gcc 14.1.0 (MinGW), and MSVC VS 19.39.33521 To view detailed results, visit: https://lab.dpdk.org/results/dashboard/patchsets/32670/ UNH-IOL DPDK Community Lab To manage your email subscriptions, visit: https://lab.dpdk.org/results/dashboard/preferences/subscriptions/