From mboxrd@z Thu Jan 1 00:00:00 1970 Return-Path: Received: from mails.dpdk.org (mails.dpdk.org [217.70.189.124]) by inbox.dpdk.org (Postfix) with ESMTP id 8CB60462AF for ; Tue, 25 Feb 2025 00:03:16 +0100 (CET) Received: from mails.dpdk.org (localhost [127.0.0.1]) by mails.dpdk.org (Postfix) with ESMTP id 87D45402B1; Tue, 25 Feb 2025 00:03:16 +0100 (CET) Received: from mail-qk1-f228.google.com (mail-qk1-f228.google.com [209.85.222.228]) by mails.dpdk.org (Postfix) with ESMTP id 03A4D40288 for ; Tue, 25 Feb 2025 00:03:16 +0100 (CET) Received: by mail-qk1-f228.google.com with SMTP id af79cd13be357-7c0ba89dda9so550672585a.0 for ; Mon, 24 Feb 2025 15:03:15 -0800 (PST) DKIM-Signature: v=1; a=rsa-sha256; c=relaxed/relaxed; d=iol.unh.edu; s=unh-iol; t=1740438195; x=1741042995; darn=dpdk.org; h=references:in-reply-to:cc:to:from:subject:message-id:date:from:to :cc:subject:date:message-id:reply-to; bh=2UZjqmigSChRSrSqsBYnJF21bP0x7IXQ3lFpko4B38U=; b=JXu8VfhyVFNPg54/8TEbTDdpoQMAySTDbGcKbCTFQhG/wp0Q+cyvst+XxeSQAJNi5C V0SLWY7qs0GKGeFp0O95NN2TSSvaI/KtLZNfI6oFAk8BgkcafWnOaGaCnqsUJ7Nkvtlo EZuGjsgVtEvuGVv7QxDZmBD1Pa1bd3tj3eZrY= X-Google-DKIM-Signature: v=1; a=rsa-sha256; c=relaxed/relaxed; d=1e100.net; s=20230601; t=1740438195; x=1741042995; h=references:in-reply-to:cc:to:from:subject:message-id:date :x-gm-message-state:from:to:cc:subject:date:message-id:reply-to; bh=2UZjqmigSChRSrSqsBYnJF21bP0x7IXQ3lFpko4B38U=; b=UrS/hnvb9P1npBvXUaPqxI25Zm8/HADkNClIflgCDNYudjf7d/5nAHgTOfMi4/X3ea 4tsGcd8RkzRb7SMm2tjIv5UOhtiBDWrEHPXDno7EHm4WavjfW0rOLgx45yGAdUPMyMT/ YitVwMpEFC44CitKZfNXkNJDbJQCLu6W3ovs0HmUH3uj6freIwjd+sllqX71BlZyMyp4 dAI3hoUIdMGlsj3D18gX0slrhBAnHXcyPrYaVAZiBcc5qoogxCjvQeEPEg6GmJD9GqE+ jDEH8o7D/OBloVoGdirbw5HhtiRTv482LzY5YH/OGLH5WD9bCgy4rwEaKFcwOHLJwcN5 YaPQ== X-Gm-Message-State: AOJu0YzChXKCcO1pFr3AchW7bZcwlY9KqMxMvltNsw7boVT7QwrC9TAG 2/rtkDYCJ0o7p53NV14EzYCECO02FjusKN9A9mTyN/5ZKH4fVBCqjiwlHt+vyVL6Q+eJFwIymKm TwfEasZ6hxMdeu5ZyoGPPHAwKm1KGrDnALT3P4meKUNbBmEeCTSRXqUfo X-Gm-Gg: ASbGnctrZMdaYidwLtwXLAv6p2XiL1iz24wr5Ibt0x3x7jx3B5RUmiCvzt7C83chu9B 2Cj0rb+rxiTY09ulWMjNTgvrkwkqRZ+kaEWAOQW/J0C6rd28qP66lwixa0r15VP8UjBkUkf9P2b bEiJ+VczpoWF8ypD9cfIOLdxKcj+HicfPpDSCKLs7GmqHzJF1zL6Mt7sfcsOsA5GmskCkjVs8wW yYSyrY6ad+YBm5oizL8tfMk7fY9FUnVp/8HiMB+TmrpX2vc65lxu8k2kCHx8qO8jWtK2Up/NrH1 FQfcqq7BybGcs3WESDaeDR/utaqa1IC6wShhhHa9p8bUpC40kDAb X-Google-Smtp-Source: AGHT+IEw4GpbB/SaeCIe5x5sNykI5KaR/AY0thyEK0ubSGfHyHQdw2vCorft1oPi3TIozgW9PSyTaYZOR16R X-Received: by 2002:a05:6214:410:b0:6e4:3c52:d67e with SMTP id 6a1803df08f44-6e87ab47032mr12687616d6.18.1740438195341; Mon, 24 Feb 2025 15:03:15 -0800 (PST) Received: from postal.iol.unh.edu (postal.iol.unh.edu. [2606:4100:3880:1234::84]) by smtp-relay.gmail.com with ESMTPS id 6a1803df08f44-6e87b0d9bfasm225536d6.48.2025.02.24.15.03.15 (version=TLS1_2 cipher=ECDHE-ECDSA-AES128-GCM-SHA256 bits=128/128); Mon, 24 Feb 2025 15:03:15 -0800 (PST) X-Relaying-Domain: iol.unh.edu Date: Mon, 24 Feb 2025 15:03:15 -0800 (PST) Message-ID: <67bcfab3.050a0220.469bc.1757SMTPIN_ADDED_MISSING@mx.google.com> Received: from [172.17.0.5] (unknown [172.18.0.217]) by postal.iol.unh.edu (Postfix) with ESMTP id 051366052471; Mon, 24 Feb 2025 18:03:15 -0500 (EST) Subject: |SUCCESS| pw151974-151976 [PATCH] [v5,3/3] app/test: add SM4 GCM tes From: dpdklab@iol.unh.edu To: Test Report Cc: dpdk-test-reports@iol.unh.edu In-Reply-To: <20250224165939.717714-3-brian.dooley@intel.com> References: <20250224165939.717714-3-brian.dooley@intel.com> Content-Type: text/plain X-BeenThere: test-report@dpdk.org X-Mailman-Version: 2.1.29 Precedence: list List-Id: automatic DPDK test reports List-Unsubscribe: , List-Archive: List-Post: List-Help: List-Subscribe: , Errors-To: test-report-bounces@dpdk.org Test-Label: iol-compile-amd64-testing Test-Status: SUCCESS http://dpdk.org/patch/151976 _Testing PASS_ Submitter: Brian Dooley Date: Monday, February 24 2025 16:59:39 DPDK git baseline: Repo:dpdk Branch: master CommitID:fab31a03ba98e7457284df95dd9eef2223a4ccaa 151974-151976 --> testing pass Upstream job id: Generic-DPDK-Compile-Meson#364793 Test environment and result as below: +-------------------+--------------------+-------------------+------------------+ | Environment | dpdk_meson_compile | dpdk_compile_spdk | dpdk_compile_ovs | +===================+====================+===================+==================+ | CentOS Stream 9 | PASS | PASS | SKIPPED | +-------------------+--------------------+-------------------+------------------+ | CentOS Stream 10 | PASS | SKIPPED | SKIPPED | +-------------------+--------------------+-------------------+------------------+ | Debian Bullseye | PASS | PASS | SKIPPED | +-------------------+--------------------+-------------------+------------------+ | Debian 12 | PASS | PASS | SKIPPED | +-------------------+--------------------+-------------------+------------------+ | Fedora 40 (Clang) | PASS | PASS | SKIPPED | +-------------------+--------------------+-------------------+------------------+ | Fedora 40 | PASS | PASS | SKIPPED | +-------------------+--------------------+-------------------+------------------+ | RHEL8 | PASS | SKIPPED | SKIPPED | +-------------------+--------------------+-------------------+------------------+ | openSUSE Leap 15 | PASS | SKIPPED | SKIPPED | +-------------------+--------------------+-------------------+------------------+ | Fedora 41 | PASS | PASS | PASS | +-------------------+--------------------+-------------------+------------------+ | Fedora 41 (Clang) | PASS | PASS | PASS | +-------------------+--------------------+-------------------+------------------+ | RHEL9 | PASS | SKIPPED | SKIPPED | +-------------------+--------------------+-------------------+------------------+ | Ubuntu 20.04 | PASS | SKIPPED | SKIPPED | +-------------------+--------------------+-------------------+------------------+ | Ubuntu 22.04 | PASS | PASS | SKIPPED | +-------------------+--------------------+-------------------+------------------+ | Ubuntu 24.04 | PASS | PASS | PASS | +-------------------+--------------------+-------------------+------------------+ | Alpine | PASS | SKIPPED | SKIPPED | +-------------------+--------------------+-------------------+------------------+ | FreeBSD 13.4 | PASS | SKIPPED | SKIPPED | +-------------------+--------------------+-------------------+------------------+ | FreeBSD 14.2 | PASS | SKIPPED | SKIPPED | +-------------------+--------------------+-------------------+------------------+ CentOS Stream 9 Kernel: Depends on container host Compiler: gcc 11.5.0 20240719 (Red Hat 11.5.0-2) CentOS Stream 10 Kernel: Depends on container host Compiler: gcc 14.2.1 20241104 (Red Hat 14.2.1-6) Debian Bullseye Kernel: Depends on container host Compiler: gcc (Debian 10.2.1-6) 10.2.1 20210110 Debian 12 Kernel: Depends on container host Compiler: gcc (Debian 12.2.0-14) 12.2.0 Fedora 40 (Clang) Kernel: Depends on container host Compiler: clang 18.1.8 (Fedora 18.1.8-1.fc40) Fedora 40 Kernel: Depends on container host Compiler: gcc 14.2.1 20240912 (Red Hat 14.2.1-3) RHEL8 Kernel: Depends on container host Compiler: gcc 8.5.0 20210514 (Red Hat 8.5.0-22) openSUSE Leap 15 Kernel: Depends on container host Compiler: gcc (SUSE Linux) 7.5.0 Fedora 41 Kernel: Depends on container host Compiler: gcc 14.2.1 20240912 (Red Hat 14.2.1-3) Fedora 41 (Clang) Kernel: Depends on container host Compiler: clang 19.1.5 (Fedora 19.1.5-1.fc41) RHEL9 Kernel: Depends on container host Compiler: gcc 11.5.0 20240719 (Red Hat 11.5.0-2) Ubuntu 20.04 Kernel: Depends on container host Compiler: gcc (Ubuntu 9.4.0-1ubuntu1~20.04.2) 9.4.0 Ubuntu 22.04 Kernel: Depends on container host Compiler: gcc (Ubuntu 11.4.0-1ubuntu1~22.04) 11.4.0 Ubuntu 24.04 Kernel: Depends on container host Compiler: gcc (Ubuntu 13.3.0-6ubuntu2~24.04) 13.3.0 Alpine Kernel: Depends on container host Compiler: gcc (Alpine 14.2.0) 14.2.0 FreeBSD 13.4 Kernel: 13.4-RELEASE-p1 Compiler: clang 18.1.6 FreeBSD 14.2 Kernel: 14.2-RELEASE Compiler: clang 18.1.6 To view detailed results, visit: https://lab.dpdk.org/results/dashboard/patchsets/32670/ UNH-IOL DPDK Community Lab To manage your email subscriptions, visit: https://lab.dpdk.org/results/dashboard/preferences/subscriptions/