From mboxrd@z Thu Jan 1 00:00:00 1970 Return-Path: Received: from mails.dpdk.org (mails.dpdk.org [217.70.189.124]) by inbox.dpdk.org (Postfix) with ESMTP id 9C64F462AF for ; Tue, 25 Feb 2025 00:03:29 +0100 (CET) Received: from mails.dpdk.org (localhost [127.0.0.1]) by mails.dpdk.org (Postfix) with ESMTP id 97BFE402B1; Tue, 25 Feb 2025 00:03:29 +0100 (CET) Received: from mail-io1-f98.google.com (mail-io1-f98.google.com [209.85.166.98]) by mails.dpdk.org (Postfix) with ESMTP id 9903F40288 for ; Tue, 25 Feb 2025 00:03:28 +0100 (CET) Received: by mail-io1-f98.google.com with SMTP id ca18e2360f4ac-8553e7d9459so152557439f.2 for ; Mon, 24 Feb 2025 15:03:28 -0800 (PST) DKIM-Signature: v=1; a=rsa-sha256; c=relaxed/relaxed; d=iol.unh.edu; s=unh-iol; t=1740438208; x=1741043008; darn=dpdk.org; h=references:in-reply-to:cc:to:from:subject:message-id:date:from:to :cc:subject:date:message-id:reply-to; bh=OrP2H7kMHO91rZyMgVuN3Aj5ureEzHmyFYhoNUtMZp8=; b=cdqfO2rDbmJM3CH07lYwamQI/eXHmLPT+EBoAX8EOaLx4L8Iu96vIiw4i3Ho3ardrY IBAkdts3z+JhK+Dg3uwrbxtD04hyyqnOabYAz+JxNpwZi6bD5QPuTG24v2Jhx/4mBej2 uUAkiS34kMyL0GDtNL8Yi3o0CYNm+93tn+sEE= X-Google-DKIM-Signature: v=1; a=rsa-sha256; c=relaxed/relaxed; d=1e100.net; s=20230601; t=1740438208; x=1741043008; h=references:in-reply-to:cc:to:from:subject:message-id:date :x-gm-message-state:from:to:cc:subject:date:message-id:reply-to; bh=OrP2H7kMHO91rZyMgVuN3Aj5ureEzHmyFYhoNUtMZp8=; b=dk5zH5CTD+9i74Z7lDdlP1N1xR9AutBsIZWn3scwpymgZgj2W5hBum0L4dyUIsKPKK vs5AXpAn8jQGf4GRgxvCq4dR+YkXvs7Zkkczpr9PjO0QPr3duS5aPU8cYc7qLnRs9Qth YQZymf3bodsuHAGosRnvvx+MB9o1MPOHOAbiqn6Gs3a/6Qx8qZ1XwhNBcVw2YJyuursT sWD1Wqt04Ofi2VSC34gjTri9jTXDktIdbVzSqQzQqyoa4LADJEeBy+cTniAQnD0HvpoP ZfxpYdGNAMafMKGWhbSbSp3Pq1/0GkLdqnyxfY10H9bjRAJZhNP79qvF5+AMg8OmDrZ/ 9L8A== X-Gm-Message-State: AOJu0Yx+SJIR0I6WvAlWX4bRXPMvVdCJ8FEEWltfbz/KAMUJWsy+72UM pa8jl6pYgiMBZdNxsKuu1wWbSYeQWFGUdJMoVxAF+4+nPw38VRjINE+l7AVX1MyJ6fT2UFTTLhL 6yL1s8qYpuiQZup5FNcpykeVJ2cv4GkLRHJWe4QHCUwPLxGoWQC6Mru42 X-Gm-Gg: ASbGncuI3svD2kLGS9HxeNNgiCXNupwLzjx7EMfdEXfWSTID2WoI01AAvAwBXIGC7JX Nz0pstszcuh2FrULrUStx9/oUfArB4m6IHQmTsCO0JPvl1ygsPYXXfbK/XjClw8lgFxIyx1vgYb LkI9Ai6KGAnrCGFTDwP6TMIjWxwdlBbI0J108B9Tw+FhWWHzgY8bVkINMB+4T03HuTfkKETg46B KUwAGFzpMrjN6h6vm4GGbzQO99lHYXiBFVpqjwSHlPQWrAfoi/0PE4M6rECuaxPv+a9co1mFIyc 2dEBZs0wPu5ZuAwqiSjmA29HPSnXvVKGTA5zGXLIHwdlcthvWOA+ X-Google-Smtp-Source: AGHT+IEWj2Bx6YPgrwZOYYR66LqSp8vSmsjUgmhqAIDl62WhL7oQICMTEWjARapJ5IiLFkwCYrW3fopSDb1S X-Received: by 2002:a05:6e02:3f82:b0:3d1:bbc2:a324 with SMTP id e9e14a558f8ab-3d2cae4d20cmr150215405ab.4.1740438207879; Mon, 24 Feb 2025 15:03:27 -0800 (PST) Received: from postal.iol.unh.edu (postal.iol.unh.edu. [2606:4100:3880:1234::84]) by smtp-relay.gmail.com with ESMTPS id e9e14a558f8ab-3d361cacfd9sm186305ab.45.2025.02.24.15.03.27 (version=TLS1_2 cipher=ECDHE-ECDSA-AES128-GCM-SHA256 bits=128/128); Mon, 24 Feb 2025 15:03:27 -0800 (PST) X-Relaying-Domain: iol.unh.edu Date: Mon, 24 Feb 2025 15:03:27 -0800 (PST) Message-ID: <67bcfabf.050a0220.85640.12d0SMTPIN_ADDED_MISSING@mx.google.com> Received: from [172.21.0.8] (unknown [172.18.0.240]) by postal.iol.unh.edu (Postfix) with ESMTP id 548C76052471; Mon, 24 Feb 2025 18:03:27 -0500 (EST) Subject: |SUCCESS| pw151974-151976 [PATCH] [v5,3/3] app/test: add SM4 GCM tes From: dpdklab@iol.unh.edu To: Test Report Cc: dpdk-test-reports@iol.unh.edu In-Reply-To: <20250224165939.717714-3-brian.dooley@intel.com> References: <20250224165939.717714-3-brian.dooley@intel.com> Content-Type: text/plain X-BeenThere: test-report@dpdk.org X-Mailman-Version: 2.1.29 Precedence: list List-Id: automatic DPDK test reports List-Unsubscribe: , List-Archive: List-Post: List-Help: List-Subscribe: , Errors-To: test-report-bounces@dpdk.org Test-Label: iol-compile-amd64-testing Test-Status: SUCCESS http://dpdk.org/patch/151976 _Testing PASS_ Submitter: Brian Dooley Date: Monday, February 24 2025 16:59:39 DPDK git baseline: Repo:dpdk Branch: master CommitID:fab31a03ba98e7457284df95dd9eef2223a4ccaa 151974-151976 --> testing pass Upstream job id: Generic-DPDK-Compile-Meson#364792 Test environment and result as below: +-------------------+--------------------+-------------------+------------------+ | Environment | dpdk_meson_compile | dpdk_compile_spdk | dpdk_compile_ovs | +===================+====================+===================+==================+ | CentOS Stream 9 | PASS | PASS | SKIPPED | +-------------------+--------------------+-------------------+------------------+ | CentOS Stream 10 | PASS | SKIPPED | SKIPPED | +-------------------+--------------------+-------------------+------------------+ | Debian Bullseye | PASS | PASS | SKIPPED | +-------------------+--------------------+-------------------+------------------+ | Debian 12 | PASS | PASS | SKIPPED | +-------------------+--------------------+-------------------+------------------+ | Fedora 40 (Clang) | PASS | PASS | SKIPPED | +-------------------+--------------------+-------------------+------------------+ | Fedora 40 | PASS | PASS | SKIPPED | +-------------------+--------------------+-------------------+------------------+ | RHEL8 | PASS | SKIPPED | SKIPPED | +-------------------+--------------------+-------------------+------------------+ | openSUSE Leap 15 | PASS | SKIPPED | SKIPPED | +-------------------+--------------------+-------------------+------------------+ | Fedora 41 | PASS | PASS | PASS | +-------------------+--------------------+-------------------+------------------+ | Fedora 41 (Clang) | PASS | PASS | PASS | +-------------------+--------------------+-------------------+------------------+ | RHEL9 | PASS | SKIPPED | SKIPPED | +-------------------+--------------------+-------------------+------------------+ | Ubuntu 20.04 | PASS | SKIPPED | SKIPPED | +-------------------+--------------------+-------------------+------------------+ | Ubuntu 22.04 | PASS | PASS | SKIPPED | +-------------------+--------------------+-------------------+------------------+ | Ubuntu 24.04 | PASS | PASS | PASS | +-------------------+--------------------+-------------------+------------------+ | Alpine | PASS | SKIPPED | SKIPPED | +-------------------+--------------------+-------------------+------------------+ | FreeBSD 13.4 | PASS | SKIPPED | SKIPPED | +-------------------+--------------------+-------------------+------------------+ | FreeBSD 14.2 | PASS | SKIPPED | SKIPPED | +-------------------+--------------------+-------------------+------------------+ CentOS Stream 9 Kernel: Depends on container host Compiler: gcc 11.5.0 20240719 (Red Hat 11.5.0-2) CentOS Stream 10 Kernel: Depends on container host Compiler: gcc 14.2.1 20241104 (Red Hat 14.2.1-6) Debian Bullseye Kernel: Depends on container host Compiler: gcc (Debian 10.2.1-6) 10.2.1 20210110 Debian 12 Kernel: Depends on container host Compiler: gcc (Debian 12.2.0-14) 12.2.0 Fedora 40 (Clang) Kernel: Depends on container host Compiler: clang 18.1.8 (Fedora 18.1.8-1.fc40) Fedora 40 Kernel: Depends on container host Compiler: gcc 14.2.1 20240912 (Red Hat 14.2.1-3) RHEL8 Kernel: Depends on container host Compiler: gcc 8.5.0 20210514 (Red Hat 8.5.0-22) openSUSE Leap 15 Kernel: Depends on container host Compiler: gcc (SUSE Linux) 7.5.0 Fedora 41 Kernel: Depends on container host Compiler: gcc 14.2.1 20240912 (Red Hat 14.2.1-3) Fedora 41 (Clang) Kernel: Depends on container host Compiler: clang 19.1.5 (Fedora 19.1.5-1.fc41) RHEL9 Kernel: Depends on container host Compiler: gcc 11.5.0 20240719 (Red Hat 11.5.0-2) Ubuntu 20.04 Kernel: Depends on container host Compiler: gcc (Ubuntu 9.4.0-1ubuntu1~20.04.2) 9.4.0 Ubuntu 22.04 Kernel: Depends on container host Compiler: gcc (Ubuntu 11.4.0-1ubuntu1~22.04) 11.4.0 Ubuntu 24.04 Kernel: Depends on container host Compiler: gcc (Ubuntu 13.3.0-6ubuntu2~24.04) 13.3.0 Alpine Kernel: Depends on container host Compiler: gcc (Alpine 14.2.0) 14.2.0 FreeBSD 13.4 Kernel: 13.4-RELEASE-p1 Compiler: clang 18.1.6 FreeBSD 14.2 Kernel: 14.2-RELEASE Compiler: clang 18.1.6 To view detailed results, visit: https://lab.dpdk.org/results/dashboard/patchsets/32670/ UNH-IOL DPDK Community Lab To manage your email subscriptions, visit: https://lab.dpdk.org/results/dashboard/preferences/subscriptions/