From mboxrd@z Thu Jan 1 00:00:00 1970 Return-Path: Received: from mails.dpdk.org (mails.dpdk.org [217.70.189.124]) by inbox.dpdk.org (Postfix) with ESMTP id D8213462AF for ; Tue, 25 Feb 2025 00:04:23 +0100 (CET) Received: from mails.dpdk.org (localhost [127.0.0.1]) by mails.dpdk.org (Postfix) with ESMTP id D25E9402B1; Tue, 25 Feb 2025 00:04:23 +0100 (CET) Received: from mail-pl1-f227.google.com (mail-pl1-f227.google.com [209.85.214.227]) by mails.dpdk.org (Postfix) with ESMTP id 67E0F40288 for ; Tue, 25 Feb 2025 00:04:22 +0100 (CET) Received: by mail-pl1-f227.google.com with SMTP id d9443c01a7336-220ca204d04so80576785ad.0 for ; Mon, 24 Feb 2025 15:04:22 -0800 (PST) DKIM-Signature: v=1; a=rsa-sha256; c=relaxed/relaxed; d=iol.unh.edu; s=unh-iol; t=1740438261; x=1741043061; darn=dpdk.org; h=references:in-reply-to:cc:to:from:subject:message-id:date:from:to :cc:subject:date:message-id:reply-to; bh=OQKIWVRplS1ekBpdSo8CF2mUTwc2Ve+GqWFewabTNTc=; b=GY/hLcB0THFB6VH1eaukD3SREKCCYK39M38UD2WokeaYbF1JKKrsCojWRs6nDbYDL6 A4bOOXQoQ6ys/YSlk9PNAKGISX/JWAg8HreRK27VWN6s5joTVcggF3m43Ri8ULI/0C1q HhGh0NbnxPn5OPZdgrdV/dauc9epYZo0TQuQU= X-Google-DKIM-Signature: v=1; a=rsa-sha256; c=relaxed/relaxed; d=1e100.net; s=20230601; t=1740438261; x=1741043061; h=references:in-reply-to:cc:to:from:subject:message-id:date :x-gm-message-state:from:to:cc:subject:date:message-id:reply-to; bh=OQKIWVRplS1ekBpdSo8CF2mUTwc2Ve+GqWFewabTNTc=; b=Z2xhlz/lwlUqjoLHta/KCP++aSBqnU+VtRppTloxIchG4Ou0DVRHhtT6btPvFUoalA V6cd10rgeK1t7DN3WQt1SxTt3tQh2jkPSRXDtl/g4UBixOaBvtCZ78rkTv1IgjWUfaJI m/4obWEv5TkHzm93zajoCjNRCS0L0AIBIkhcn/8MQm/JHxW/azsFWGx+IXq0D8gqxyZY td7hUtEhzFg39IQa7htcVTh7SwWPEUDqptMkaMISMPDUv5cJBtc4P4V0+dh3/t10I8Fc i3tRPyymoelC7CT5+i2t8ROFH4FjdidiQ28WuqrAqOTgHA8raQcMgY3971peixFmNuEF /qXw== X-Gm-Message-State: AOJu0Ywv8AQUKPzTxkRlGwRWkk2uJRSl6PW2x+enbp+b5e66ZG7GjcqY RhB4UI2wxGu+qaSnW6Mv0TUNOquzFUb7TlIfDyjizL6HADuz+OiyX2zcErJLPjrIJKxm+Mui2YI qolT8VsKkKMu0Xmib8FuscbZcEph+Hl54SwXw/XWQ X-Gm-Gg: ASbGncsE3nHhBTg2JO7c1E0+r/hDmqak7+mKzO2C0Jt/FjY87Lw/VqVh+FuQJdD1YYf 2/8rX22OksWr5I6O6RiqbAW8Gl2De7Di04X01BmvzhouGZLFDf+3WFgATlbmd4mNTAOP+oqckvm J6EqmyTAtmjIPVl6+8dq0StFSlecFwldWAY9bRmeDlQSZ95cjKT7H1Dv3xXElOAB6QGkSNnQTO/ IcdAvc5b/LBjjBYBo611YdX08DgM19tgiCp9PQZYhdYATK5wo8iIbYqq5838rLuNnHITHUaJBE/ k5T6AbtOPq5GP60uOJxBaA5HdWBHC+Tv7Axvn7BK X-Google-Smtp-Source: AGHT+IFn/J8o1rKPEjg4oMPEdmei164/jECyCxK/e0oZtyJTeq6l1LyBJ3iQVypIK0cnfEpRg8M9dReCgDwk X-Received: by 2002:a17:902:e80e:b0:220:d81a:bebf with SMTP id d9443c01a7336-2219fdc0f66mr232405825ad.0.1740438261420; Mon, 24 Feb 2025 15:04:21 -0800 (PST) Received: from postal.iol.unh.edu (postal.iol.unh.edu. [132.177.123.84]) by smtp-relay.gmail.com with ESMTPS id d9443c01a7336-2230a000310sm121515ad.24.2025.02.24.15.04.21 (version=TLS1_2 cipher=ECDHE-ECDSA-AES128-GCM-SHA256 bits=128/128); Mon, 24 Feb 2025 15:04:21 -0800 (PST) X-Relaying-Domain: iol.unh.edu Date: Mon, 24 Feb 2025 15:04:21 -0800 (PST) Message-ID: <67bcfaf5.170a0220.32e17e.0cb7SMTPIN_ADDED_MISSING@mx.google.com> Received: from [172.21.0.7] (unknown [172.18.0.240]) by postal.iol.unh.edu (Postfix) with ESMTP id D258A6052471; Mon, 24 Feb 2025 18:04:20 -0500 (EST) Subject: |SUCCESS| pw151974-151976 [PATCH] [v5,3/3] app/test: add SM4 GCM tes From: dpdklab@iol.unh.edu To: Test Report Cc: dpdk-test-reports@iol.unh.edu In-Reply-To: <20250224165939.717714-3-brian.dooley@intel.com> References: <20250224165939.717714-3-brian.dooley@intel.com> Content-Type: text/plain X-BeenThere: test-report@dpdk.org X-Mailman-Version: 2.1.29 Precedence: list List-Id: automatic DPDK test reports List-Unsubscribe: , List-Archive: List-Post: List-Help: List-Subscribe: , Errors-To: test-report-bounces@dpdk.org Test-Label: iol-compile-amd64-testing Test-Status: SUCCESS http://dpdk.org/patch/151976 _Testing PASS_ Submitter: Brian Dooley Date: Monday, February 24 2025 16:59:39 DPDK git baseline: Repo:dpdk Branch: master CommitID:fab31a03ba98e7457284df95dd9eef2223a4ccaa 151974-151976 --> testing pass Upstream job id: Generic-DPDK-Compile-Meson#364800 Test environment and result as below: +-------------------+--------------------+-------------------+------------------+ | Environment | dpdk_meson_compile | dpdk_compile_spdk | dpdk_compile_ovs | +===================+====================+===================+==================+ | CentOS Stream 9 | PASS | PASS | SKIPPED | +-------------------+--------------------+-------------------+------------------+ | CentOS Stream 10 | PASS | SKIPPED | SKIPPED | +-------------------+--------------------+-------------------+------------------+ | Debian Bullseye | PASS | PASS | SKIPPED | +-------------------+--------------------+-------------------+------------------+ | Debian 12 | PASS | PASS | SKIPPED | +-------------------+--------------------+-------------------+------------------+ | Fedora 40 (Clang) | PASS | PASS | SKIPPED | +-------------------+--------------------+-------------------+------------------+ | Fedora 40 | PASS | PASS | SKIPPED | +-------------------+--------------------+-------------------+------------------+ | RHEL8 | PASS | SKIPPED | SKIPPED | +-------------------+--------------------+-------------------+------------------+ | openSUSE Leap 15 | PASS | SKIPPED | SKIPPED | +-------------------+--------------------+-------------------+------------------+ | Fedora 41 | PASS | PASS | PASS | +-------------------+--------------------+-------------------+------------------+ | Fedora 41 (Clang) | PASS | PASS | PASS | +-------------------+--------------------+-------------------+------------------+ | RHEL9 | PASS | SKIPPED | SKIPPED | +-------------------+--------------------+-------------------+------------------+ | Ubuntu 20.04 | PASS | SKIPPED | SKIPPED | +-------------------+--------------------+-------------------+------------------+ | Ubuntu 22.04 | PASS | PASS | SKIPPED | +-------------------+--------------------+-------------------+------------------+ | Ubuntu 24.04 | PASS | PASS | PASS | +-------------------+--------------------+-------------------+------------------+ | Alpine | PASS | SKIPPED | SKIPPED | +-------------------+--------------------+-------------------+------------------+ | FreeBSD 13.4 | PASS | SKIPPED | SKIPPED | +-------------------+--------------------+-------------------+------------------+ | FreeBSD 14.2 | PASS | SKIPPED | SKIPPED | +-------------------+--------------------+-------------------+------------------+ CentOS Stream 9 Kernel: Depends on container host Compiler: gcc 11.5.0 20240719 (Red Hat 11.5.0-2) CentOS Stream 10 Kernel: Depends on container host Compiler: gcc 14.2.1 20241104 (Red Hat 14.2.1-6) Debian Bullseye Kernel: Depends on container host Compiler: gcc (Debian 10.2.1-6) 10.2.1 20210110 Debian 12 Kernel: Depends on container host Compiler: gcc (Debian 12.2.0-14) 12.2.0 Fedora 40 (Clang) Kernel: Depends on container host Compiler: clang 18.1.8 (Fedora 18.1.8-1.fc40) Fedora 40 Kernel: Depends on container host Compiler: gcc 14.2.1 20240912 (Red Hat 14.2.1-3) RHEL8 Kernel: Depends on container host Compiler: gcc 8.5.0 20210514 (Red Hat 8.5.0-22) openSUSE Leap 15 Kernel: Depends on container host Compiler: gcc (SUSE Linux) 7.5.0 Fedora 41 Kernel: Depends on container host Compiler: gcc 14.2.1 20240912 (Red Hat 14.2.1-3) Fedora 41 (Clang) Kernel: Depends on container host Compiler: clang 19.1.5 (Fedora 19.1.5-1.fc41) RHEL9 Kernel: Depends on container host Compiler: gcc 11.5.0 20240719 (Red Hat 11.5.0-2) Ubuntu 20.04 Kernel: Depends on container host Compiler: gcc (Ubuntu 9.4.0-1ubuntu1~20.04.2) 9.4.0 Ubuntu 22.04 Kernel: Depends on container host Compiler: gcc (Ubuntu 11.4.0-1ubuntu1~22.04) 11.4.0 Ubuntu 24.04 Kernel: Depends on container host Compiler: gcc (Ubuntu 13.3.0-6ubuntu2~24.04) 13.3.0 Alpine Kernel: Depends on container host Compiler: gcc (Alpine 14.2.0) 14.2.0 FreeBSD 13.4 Kernel: 13.4-RELEASE-p1 Compiler: clang 18.1.6 FreeBSD 14.2 Kernel: 14.2-RELEASE Compiler: clang 18.1.6 To view detailed results, visit: https://lab.dpdk.org/results/dashboard/patchsets/32670/ UNH-IOL DPDK Community Lab To manage your email subscriptions, visit: https://lab.dpdk.org/results/dashboard/preferences/subscriptions/