From mboxrd@z Thu Jan 1 00:00:00 1970 Return-Path: Received: from mails.dpdk.org (mails.dpdk.org [217.70.189.124]) by inbox.dpdk.org (Postfix) with ESMTP id DED55462B2 for ; Tue, 25 Feb 2025 00:50:20 +0100 (CET) Received: from mails.dpdk.org (localhost [127.0.0.1]) by mails.dpdk.org (Postfix) with ESMTP id CA3FE402B1; Tue, 25 Feb 2025 00:50:20 +0100 (CET) Received: from mail-pl1-f227.google.com (mail-pl1-f227.google.com [209.85.214.227]) by mails.dpdk.org (Postfix) with ESMTP id 7A01540288 for ; Tue, 25 Feb 2025 00:50:19 +0100 (CET) Received: by mail-pl1-f227.google.com with SMTP id d9443c01a7336-220c4159f87so70092985ad.0 for ; Mon, 24 Feb 2025 15:50:19 -0800 (PST) DKIM-Signature: v=1; a=rsa-sha256; c=relaxed/relaxed; d=iol.unh.edu; s=unh-iol; t=1740441018; x=1741045818; darn=dpdk.org; h=references:in-reply-to:cc:to:from:subject:message-id:date:from:to :cc:subject:date:message-id:reply-to; bh=bNZNoT+Ef0lb2MUWjB86Vv4A+rXNQHwwtWvIjQTitSg=; b=jMLgG2XthhZgp2/wxk7xyNX4N2f6sTKATcfevIcMcKC06psd/WRd+IsNmz7qwurklB P2BHgCVPk/s9jXSV8npmLCbKDBz+VEhO1HfHQ/ajMN51KRFVMwrD507zDH4jJsHb2iRQ j+coEFQRssTL/FsWPCg2NiK+s9zDfdxSgGV9E= X-Google-DKIM-Signature: v=1; a=rsa-sha256; c=relaxed/relaxed; d=1e100.net; s=20230601; t=1740441018; x=1741045818; h=references:in-reply-to:cc:to:from:subject:message-id:date :x-gm-message-state:from:to:cc:subject:date:message-id:reply-to; bh=bNZNoT+Ef0lb2MUWjB86Vv4A+rXNQHwwtWvIjQTitSg=; b=hKZoDPm70aCfHROciUSIdFYlkkq5ww4J+7Dilo5K2ly8NSxZ5FU8+SVgTSuo/1rP+R 8+TK/IqeVgeLHV06J1AQIMIPg7svirDaLbufkYJr5M2zInkV+mQa3VNr9Z24r2DXO1Kr xuJjkKIMI0irBnFXlbpYfmXHeZWDuYbV+/OHRglRVBIcGQHkIEPxTX1B0CJiUnYJXByy BikgV7neETiUE+jP5Rn0uX6RlFhLSivcQCdYy6F8KdNukX8oq8VyRDsJ4TafBLMJwPAk BNKImzsusn9gpPTbQbnhz4h1CSbp/e6oChJMHI3AZ6nZ6aF87jUwka2Wg+H0BoM7ItsV NsCw== X-Gm-Message-State: AOJu0YzpAnFSpQEst4uxp4gk/daD3nCE9HXys4Xnga6k6RT3kRHpI8bG ocvTTi5I9dzO9zAKALqLS7/AP+1rsyakUXlbVaAji24Jpd7U6JMayi+Rb4mXuIT7IAY4gk+TLHT TXIVXSFCGLA2qrdeCWvXqEYw1/hYe3FirNcTkPBxWLTyWOv9Xdd4fAc5x X-Gm-Gg: ASbGncuUpy6tERdd/gZy7z4KaIWIVSAUiNkxex9TYj9WJPWDPodRnuiqf0GfslNMF2I kICkeM8RMOhYULOfjO5iycXBbQAZK64z2ZCWtGeAimQWujf943q3lKn9vlKYc3IsQ0uh6zjYwo/ KEouSNIxkO8x8K9dPVuY7mkQ6F9EBgBNHJgy1lLFftIp/syocdnMJJvA2dthKjZ6uSlKAfNiH/+ 1RMctfGeEuXOToeRke0zt349vEHPW4MOC2GDGu9tx02DSNcX8mlqe8hYOHTJP/Dsemf6etDp1+1 3yTwn1/mJ0jCBbKzYT2oHqrLnGHQ/I3dPD80+hGtWjm712u7kKov X-Google-Smtp-Source: AGHT+IHafPYLs97RSiv/E5OW5KA81+2o3MU4GfDjaJnEDNMZRxXZgKhrqeDb3DEYwQ9UbRUzpXcY/3DkT8yd X-Received: by 2002:a05:6a21:695:b0:1ee:bb7f:9b39 with SMTP id adf61e73a8af0-1f0fbff6aebmr1751991637.1.1740441018600; Mon, 24 Feb 2025 15:50:18 -0800 (PST) Received: from postal.iol.unh.edu (postal.iol.unh.edu. [2606:4100:3880:1234::84]) by smtp-relay.gmail.com with ESMTPS id 41be03b00d2f7-aedaa160f2csm18975a12.26.2025.02.24.15.50.18 (version=TLS1_2 cipher=ECDHE-ECDSA-AES128-GCM-SHA256 bits=128/128); Mon, 24 Feb 2025 15:50:18 -0800 (PST) X-Relaying-Domain: iol.unh.edu Date: Mon, 24 Feb 2025 15:50:18 -0800 (PST) Message-ID: <67bd05ba.630a0220.3653fd.131fSMTPIN_ADDED_MISSING@mx.google.com> Received: from [172.21.0.9] (unknown [172.18.0.240]) by postal.iol.unh.edu (Postfix) with ESMTP id C22656052471; Mon, 24 Feb 2025 18:50:17 -0500 (EST) Subject: |SUCCESS| pw151973 [PATCH] [v3,1/1] pcapng: fix null dereference in From: dpdklab@iol.unh.edu To: Test Report Cc: dpdk-test-reports@iol.unh.edu In-Reply-To: <20250224164031.587829-2-ariel.otilibili@6wind.com> References: <20250224164031.587829-2-ariel.otilibili@6wind.com> Content-Type: text/plain X-BeenThere: test-report@dpdk.org X-Mailman-Version: 2.1.29 Precedence: list List-Id: automatic DPDK test reports List-Unsubscribe: , List-Archive: List-Post: List-Help: List-Subscribe: , Errors-To: test-report-bounces@dpdk.org Test-Label: iol-abi-testing Test-Status: SUCCESS http://dpdk.org/patch/151973 _Testing PASS_ Submitter: Ariel Otilibili Date: Monday, February 24 2025 16:40:31 DPDK git baseline: Repo:dpdk Branch: master CommitID:fab31a03ba98e7457284df95dd9eef2223a4ccaa 151973 --> testing pass Upstream job id: Generic-DPDK-Compile-ABI#117559 Test environment and result as below: +-------------------+----------+ | Environment | abi_test | +===================+==========+ | CentOS Stream 10 | PASS | +-------------------+----------+ | Fedora 40 (Clang) | PASS | +-------------------+----------+ | Debian 12 | PASS | +-------------------+----------+ | Debian Bullseye | PASS | +-------------------+----------+ | Fedora 40 | PASS | +-------------------+----------+ | Fedora 41 (Clang) | PASS | +-------------------+----------+ | Fedora 41 | PASS | +-------------------+----------+ | openSUSE Leap 15 | PASS | +-------------------+----------+ | RHEL8 | PASS | +-------------------+----------+ | Ubuntu 22.04 | PASS | +-------------------+----------+ | Ubuntu 24.04 | PASS | +-------------------+----------+ | CentOS Stream 9 | PASS | +-------------------+----------+ | RHEL9 | PASS | +-------------------+----------+ CentOS Stream 10 Kernel: Depends on container host Compiler: gcc 14.2.1 20241104 (Red Hat 14.2.1-6) Fedora 40 (Clang) Kernel: Depends on container host Compiler: clang 18.1.8 (Fedora 18.1.8-1.fc40) Debian 12 Kernel: Depends on container host Compiler: gcc (Debian 12.2.0-14) 12.2.0 Debian Bullseye Kernel: Depends on container host Compiler: gcc (Debian 10.2.1-6) 10.2.1 20210110 Fedora 40 Kernel: Depends on container host Compiler: gcc 14.2.1 20240912 (Red Hat 14.2.1-3) Fedora 41 (Clang) Kernel: Depends on container host Compiler: clang 19.1.5 (Fedora 19.1.5-1.fc41) Fedora 41 Kernel: Depends on container host Compiler: gcc 14.2.1 20240912 (Red Hat 14.2.1-3) openSUSE Leap 15 Kernel: Depends on container host Compiler: gcc (SUSE Linux) 7.5.0 RHEL8 Kernel: Depends on container host Compiler: gcc 8.5.0 20210514 (Red Hat 8.5.0-22) Ubuntu 22.04 Kernel: Depends on container host Compiler: gcc (Ubuntu 11.4.0-1ubuntu1~22.04) 11.4.0 Ubuntu 24.04 Kernel: Depends on container host Compiler: gcc (Ubuntu 13.3.0-6ubuntu2~24.04) 13.3.0 CentOS Stream 9 Kernel: Depends on container host Compiler: gcc 11.5.0 20240719 (Red Hat 11.5.0-2) RHEL9 Kernel: Depends on container host Compiler: gcc 11.5.0 20240719 (Red Hat 11.5.0-2) To view detailed results, visit: https://lab.dpdk.org/results/dashboard/patchsets/32669/ UNH-IOL DPDK Community Lab To manage your email subscriptions, visit: https://lab.dpdk.org/results/dashboard/preferences/subscriptions/