From mboxrd@z Thu Jan 1 00:00:00 1970 Return-Path: Received: from mails.dpdk.org (mails.dpdk.org [217.70.189.124]) by inbox.dpdk.org (Postfix) with ESMTP id 36B16462B2 for ; Tue, 25 Feb 2025 00:52:58 +0100 (CET) Received: from mails.dpdk.org (localhost [127.0.0.1]) by mails.dpdk.org (Postfix) with ESMTP id 305D6402B1; Tue, 25 Feb 2025 00:52:58 +0100 (CET) Received: from mail-oa1-f98.google.com (mail-oa1-f98.google.com [209.85.160.98]) by mails.dpdk.org (Postfix) with ESMTP id E30A640288 for ; Tue, 25 Feb 2025 00:52:56 +0100 (CET) Received: by mail-oa1-f98.google.com with SMTP id 586e51a60fabf-2bc52407b78so1753035fac.0 for ; Mon, 24 Feb 2025 15:52:56 -0800 (PST) DKIM-Signature: v=1; a=rsa-sha256; c=relaxed/relaxed; d=iol.unh.edu; s=unh-iol; t=1740441176; x=1741045976; darn=dpdk.org; h=references:in-reply-to:cc:to:from:subject:message-id:date:from:to :cc:subject:date:message-id:reply-to; bh=O51tQRhbxXi14/IHTLpzRrvdiTmwaACnEtvLR04A/RY=; b=QRIb5hGTAjOvOhXx25xis7cQqL1YkmP6mUNVU5PFyU0a8Io8zEeZpZgw30qYGPHdDZ VXyxK3wEcdPQ5mjPIpsTBI6SmUBg1g32gZ7hp4mUVN8KG7BPkYFO/t5f+he97dH8zU4/ +kJfSYslFcmShJXiadUtYDdJEpF3P7LdtNuHM= X-Google-DKIM-Signature: v=1; a=rsa-sha256; c=relaxed/relaxed; d=1e100.net; s=20230601; t=1740441176; x=1741045976; h=references:in-reply-to:cc:to:from:subject:message-id:date :x-gm-message-state:from:to:cc:subject:date:message-id:reply-to; bh=O51tQRhbxXi14/IHTLpzRrvdiTmwaACnEtvLR04A/RY=; b=HPGVXiqNjgRtkdH5Mc6+f69p23dcmlas2cbkve3+jDEt/VXuatXOHYmzIMdDoxTURo V7z0SjauZ2y4jtyFbDCu786fiakNWpWnV2vBgXMKeskLbhY/etbcF/CsoyON1cD3tMeu XXfksPyZphv9keNaqkCnuL5Sy+0fFpuJvmDaB4K1UTGG8Clf+5nZ1Sx/oFF6MKRydknq eRAOJysZO3w5pCN0IvYUustHVxzSW6B+R9EnTMqtaW6qmo7hxzStW2a0zUUsaJ5jqA1B TZYzZeqeqXY0XH1YcmY6BFnZ004K8WMgb2Q0HZHJmwC5e9XwdoYTxC+4AZNX1NP5QYsm PRIw== X-Gm-Message-State: AOJu0Yw5aXEeTE9MaxDzRF9HSCLGk65zMIvDqeGfSv9pz/35YU55OOsb z1XT2N1+jsnxXywrkUKLCJmLoosjUwpp6SkumyaX9MeBQ955/tO6a8WzD0YwnCnyxX5mXz4Qmcg pNBHaABs+AkgxBCl15FmwcqJE8xYirfYGE4TaVnxl X-Gm-Gg: ASbGncvrdBEL13h6Oujxr7dW7zpOxo3rx/pu+3zpPtSUUCKhPOsGngvs5lKr6PMBJXp E2Bsmwuy2QxvlxH61KvOPofsTqWjAaAgWBRGKmVz2jiKrOH6HOaqsOVqkfeouOh5kuha7OmUa1H hpZTr+w2QSWYymQtQuDVF51sa4czUplXZyA/KzKAdxCg1szbCpn4LPcP2PeAI4i4zj040pm18sG 7wwoGFjy99rdh5RFjBV8GHnTjDAc+5uqkExypnHH6cQofF7jpmmB9swMZV8ZY30GZ0wsoesSXDD 0MGTUHqJWL992c70wBx/2ZhVBsgYofXwUBq6eqmI X-Google-Smtp-Source: AGHT+IEbW1+l2pWgjr+7CoEO3+0SICWfroQfSmORQucsRYz0Rlpfo51OxONaRgwFFEHTC0Ure6PNfs7mLRid X-Received: by 2002:a05:6870:fb87:b0:296:dd1d:ce73 with SMTP id 586e51a60fabf-2c10ed725e2mr1001394fac.0.1740441175979; Mon, 24 Feb 2025 15:52:55 -0800 (PST) Received: from postal.iol.unh.edu (postal.iol.unh.edu. [132.177.123.84]) by smtp-relay.gmail.com with ESMTPS id 586e51a60fabf-2c1116780eesm19827fac.34.2025.02.24.15.52.55 (version=TLS1_2 cipher=ECDHE-ECDSA-AES128-GCM-SHA256 bits=128/128); Mon, 24 Feb 2025 15:52:55 -0800 (PST) X-Relaying-Domain: iol.unh.edu Date: Mon, 24 Feb 2025 15:52:55 -0800 (PST) Message-ID: <67bd0657.050a0220.1c304f.14f2SMTPIN_ADDED_MISSING@mx.google.com> Received: from [172.21.0.10] (unknown [172.18.0.240]) by postal.iol.unh.edu (Postfix) with ESMTP id 661486052471; Mon, 24 Feb 2025 18:52:55 -0500 (EST) Subject: |SUCCESS| pw151974-151976 [PATCH] [v5,3/3] app/test: add SM4 GCM tes From: dpdklab@iol.unh.edu To: Test Report Cc: dpdk-test-reports@iol.unh.edu In-Reply-To: <20250224165939.717714-3-brian.dooley@intel.com> References: <20250224165939.717714-3-brian.dooley@intel.com> Content-Type: text/plain X-BeenThere: test-report@dpdk.org X-Mailman-Version: 2.1.29 Precedence: list List-Id: automatic DPDK test reports List-Unsubscribe: , List-Archive: List-Post: List-Help: List-Subscribe: , Errors-To: test-report-bounces@dpdk.org Test-Label: iol-compile-amd64-testing Test-Status: SUCCESS http://dpdk.org/patch/151976 _Testing PASS_ Submitter: Brian Dooley Date: Monday, February 24 2025 16:59:39 DPDK git baseline: Repo:dpdk Branch: master CommitID:fab31a03ba98e7457284df95dd9eef2223a4ccaa 151974-151976 --> testing pass Upstream job id: Windows-Compile-DPDK-Native#26883 Test environment and result as below: +---------------------+--------------------+-------------------+------------------+-------------------------+ | Environment | dpdk_meson_compile | dpdk_compile_spdk | dpdk_compile_ovs | dpdk_llvm_clang_compile | +=====================+====================+===================+==================+=========================+ | CentOS Stream 9 | PASS | PASS | SKIPPED | SKIPPED | +---------------------+--------------------+-------------------+------------------+-------------------------+ | CentOS Stream 10 | PASS | SKIPPED | SKIPPED | SKIPPED | +---------------------+--------------------+-------------------+------------------+-------------------------+ | Debian Bullseye | PASS | PASS | SKIPPED | SKIPPED | +---------------------+--------------------+-------------------+------------------+-------------------------+ | Debian 12 | PASS | PASS | SKIPPED | SKIPPED | +---------------------+--------------------+-------------------+------------------+-------------------------+ | Fedora 40 (Clang) | PASS | PASS | SKIPPED | SKIPPED | +---------------------+--------------------+-------------------+------------------+-------------------------+ | Fedora 40 | PASS | PASS | SKIPPED | SKIPPED | +---------------------+--------------------+-------------------+------------------+-------------------------+ | RHEL8 | PASS | SKIPPED | SKIPPED | SKIPPED | +---------------------+--------------------+-------------------+------------------+-------------------------+ | openSUSE Leap 15 | PASS | SKIPPED | SKIPPED | SKIPPED | +---------------------+--------------------+-------------------+------------------+-------------------------+ | Fedora 41 | PASS | PASS | PASS | SKIPPED | +---------------------+--------------------+-------------------+------------------+-------------------------+ | Fedora 41 (Clang) | PASS | PASS | PASS | SKIPPED | +---------------------+--------------------+-------------------+------------------+-------------------------+ | RHEL9 | PASS | SKIPPED | SKIPPED | SKIPPED | +---------------------+--------------------+-------------------+------------------+-------------------------+ | Ubuntu 20.04 | PASS | SKIPPED | SKIPPED | SKIPPED | +---------------------+--------------------+-------------------+------------------+-------------------------+ | Ubuntu 22.04 | PASS | PASS | SKIPPED | SKIPPED | +---------------------+--------------------+-------------------+------------------+-------------------------+ | Ubuntu 24.04 | PASS | PASS | PASS | SKIPPED | +---------------------+--------------------+-------------------+------------------+-------------------------+ | Alpine | PASS | SKIPPED | SKIPPED | SKIPPED | +---------------------+--------------------+-------------------+------------------+-------------------------+ | FreeBSD 13.4 | PASS | SKIPPED | SKIPPED | SKIPPED | +---------------------+--------------------+-------------------+------------------+-------------------------+ | FreeBSD 14.2 | PASS | SKIPPED | SKIPPED | SKIPPED | +---------------------+--------------------+-------------------+------------------+-------------------------+ | Windows Server 2022 | SKIPPED | SKIPPED | SKIPPED | PASS | +---------------------+--------------------+-------------------+------------------+-------------------------+ CentOS Stream 9 Kernel: Depends on container host Compiler: gcc 11.5.0 20240719 (Red Hat 11.5.0-2) CentOS Stream 10 Kernel: Depends on container host Compiler: gcc 14.2.1 20241104 (Red Hat 14.2.1-6) Debian Bullseye Kernel: Depends on container host Compiler: gcc (Debian 10.2.1-6) 10.2.1 20210110 Debian 12 Kernel: Depends on container host Compiler: gcc (Debian 12.2.0-14) 12.2.0 Fedora 40 (Clang) Kernel: Depends on container host Compiler: clang 18.1.8 (Fedora 18.1.8-1.fc40) Fedora 40 Kernel: Depends on container host Compiler: gcc 14.2.1 20240912 (Red Hat 14.2.1-3) RHEL8 Kernel: Depends on container host Compiler: gcc 8.5.0 20210514 (Red Hat 8.5.0-22) openSUSE Leap 15 Kernel: Depends on container host Compiler: gcc (SUSE Linux) 7.5.0 Fedora 41 Kernel: Depends on container host Compiler: gcc 14.2.1 20240912 (Red Hat 14.2.1-3) Fedora 41 (Clang) Kernel: Depends on container host Compiler: clang 19.1.5 (Fedora 19.1.5-1.fc41) RHEL9 Kernel: Depends on container host Compiler: gcc 11.5.0 20240719 (Red Hat 11.5.0-2) Ubuntu 20.04 Kernel: Depends on container host Compiler: gcc (Ubuntu 9.4.0-1ubuntu1~20.04.2) 9.4.0 Ubuntu 22.04 Kernel: Depends on container host Compiler: gcc (Ubuntu 11.4.0-1ubuntu1~22.04) 11.4.0 Ubuntu 24.04 Kernel: Depends on container host Compiler: gcc (Ubuntu 13.3.0-6ubuntu2~24.04) 13.3.0 Alpine Kernel: Depends on container host Compiler: gcc (Alpine 14.2.0) 14.2.0 FreeBSD 13.4 Kernel: 13.4-RELEASE-p1 Compiler: clang 18.1.6 FreeBSD 14.2 Kernel: 14.2-RELEASE Compiler: clang 18.1.6 Windows Server 2022 Kernel: 10.0.20348.2031 Compiler: clang 15.0.7, gcc 14.1.0 (MinGW), and MSVC VS 19.39.33521 To view detailed results, visit: https://lab.dpdk.org/results/dashboard/patchsets/32670/ UNH-IOL DPDK Community Lab To manage your email subscriptions, visit: https://lab.dpdk.org/results/dashboard/preferences/subscriptions/