From mboxrd@z Thu Jan 1 00:00:00 1970 Return-Path: Received: from mails.dpdk.org (mails.dpdk.org [217.70.189.124]) by inbox.dpdk.org (Postfix) with ESMTP id 03FAF462B2 for ; Tue, 25 Feb 2025 01:10:01 +0100 (CET) Received: from mails.dpdk.org (localhost [127.0.0.1]) by mails.dpdk.org (Postfix) with ESMTP id EDFA3402B1; Tue, 25 Feb 2025 01:10:00 +0100 (CET) Received: from mail-io1-f97.google.com (mail-io1-f97.google.com [209.85.166.97]) by mails.dpdk.org (Postfix) with ESMTP id 5126940288 for ; Tue, 25 Feb 2025 01:10:00 +0100 (CET) Received: by mail-io1-f97.google.com with SMTP id ca18e2360f4ac-85592116ca4so397638639f.1 for ; Mon, 24 Feb 2025 16:10:00 -0800 (PST) DKIM-Signature: v=1; a=rsa-sha256; c=relaxed/relaxed; d=iol.unh.edu; s=unh-iol; t=1740442199; x=1741046999; darn=dpdk.org; h=references:in-reply-to:cc:to:from:subject:message-id:date:from:to :cc:subject:date:message-id:reply-to; bh=onobMCqzhqLk3+5Ymdm5WHWLsjgbOljDjfvcaTG+NpU=; b=GQTh6TrawshAKyDVglED8QIQ3O09bJ2Prv5cpEkK1EFvP1NBM5VPUjzlXpUOFMfApI QOfrKjw35Hy1tTu+dn97ZmQcL+JX3L3+PbL5JAj049ACnkY2c5qp02pof6WRmHNC4vYP 7HsQ04RfBJgREIApO7x3esUuIdNf48Ddc0mM8= X-Google-DKIM-Signature: v=1; a=rsa-sha256; c=relaxed/relaxed; d=1e100.net; s=20230601; t=1740442199; x=1741046999; h=references:in-reply-to:cc:to:from:subject:message-id:date :x-gm-message-state:from:to:cc:subject:date:message-id:reply-to; bh=onobMCqzhqLk3+5Ymdm5WHWLsjgbOljDjfvcaTG+NpU=; b=Q1D53mSvbGOpr/hsDVwhVY8sFPkMfbk09vi5sXaGNZWQKT8eG2DvUpCoro4lTrIMDo MkKRaTzaRWtCZu7HYwYRVoLmuZEAqtdK/lIKHseBikvvoEytV7uA9c+i7xuVkhujeDFX /mizhadLsAf8WNhbNcKlRphltyi5yHEyan7DhAmgU4pvmpLKaDlgzMbjjPlY5CYifvNK hvPyG0FEoKweh78HFJC7/XR+/W36dbsR1BbRwEWtWMwIT6kG1Fy93hdXn3BpYbpEW1NW 2uIb65kSXPTu3SJDd2iSUb+x8FiXxfguZqEaujLGYvG08/IjIsHrWcHwU23hvVUrM//8 GBtA== X-Gm-Message-State: AOJu0YzIvMMHmp+tRxw7BGsZOHbNnILfSRK/HkorGHHjyJsXSw7B48ct YkTqg016E+vEHffOUd3sBi15/vc2hSy4u5QgcufErDYzhytLRSZpNAckaXtJSEFNFwXS0cQTNRV kOM4pcSDRJuGQC66GFD763eCCiYAktbLfVOb94TBz X-Gm-Gg: ASbGnctzwB14t53b55n6oDpfmAXrV9R29AmibGZfIGhHqL0nkF52vA0aC7zZ36X3BeO rWFvClYSspN5GVo3GC9Cj6SOhg56wIrSXquXELK2eu/+td/2p5NnNx8WbCz1uS8CU9MonCQNs/N 09vYqNAtr3YwStS0/Fy8i1s+Ji5Yn1xkCbnQrnTrjOysTOnTCefKkGSLWBtEP5MMUZ8LNPL6xaf ZhlXVRGxrckYGIEgXGD3Bcpj5tATHS9AbHXrPehrWAbjRc2ubxfc42ACBx4153Klkn+NYRXvTMv qXsz67poT6meTeaG+TB6w+Xc+XFNkmpzUu/8DEMR X-Google-Smtp-Source: AGHT+IGyPv1aldwqR2U1a/a/alzF8BNVcEbv68C5SKuLHyZmaX/56gHOxXa0390RpDWQ5CpjTkFuNrSq0rHr X-Received: by 2002:a05:6e02:1a4d:b0:3d1:a75e:65f6 with SMTP id e9e14a558f8ab-3d2caeeaed0mr183389635ab.18.1740442199555; Mon, 24 Feb 2025 16:09:59 -0800 (PST) Received: from postal.iol.unh.edu (postal.iol.unh.edu. [132.177.123.84]) by smtp-relay.gmail.com with ESMTPS id e9e14a558f8ab-3d361653383sm242625ab.27.2025.02.24.16.09.59 (version=TLS1_2 cipher=ECDHE-ECDSA-AES128-GCM-SHA256 bits=128/128); Mon, 24 Feb 2025 16:09:59 -0800 (PST) X-Relaying-Domain: iol.unh.edu Date: Mon, 24 Feb 2025 16:09:59 -0800 (PST) Message-ID: <67bd0a57.050a0220.c6e3.1808SMTPIN_ADDED_MISSING@mx.google.com> Received: from [172.21.0.7] (unknown [172.18.0.240]) by postal.iol.unh.edu (Postfix) with ESMTP id 0171D6052471; Mon, 24 Feb 2025 19:09:59 -0500 (EST) Subject: |SUCCESS| pw151974-151976 [PATCH] [v5,3/3] app/test: add SM4 GCM tes From: dpdklab@iol.unh.edu To: Test Report Cc: dpdk-test-reports@iol.unh.edu In-Reply-To: <20250224165939.717714-3-brian.dooley@intel.com> References: <20250224165939.717714-3-brian.dooley@intel.com> Content-Type: text/plain X-BeenThere: test-report@dpdk.org X-Mailman-Version: 2.1.29 Precedence: list List-Id: automatic DPDK test reports List-Unsubscribe: , List-Archive: List-Post: List-Help: List-Subscribe: , Errors-To: test-report-bounces@dpdk.org Test-Label: iol-unit-arm64-testing Test-Status: SUCCESS http://dpdk.org/patch/151976 _Testing PASS_ Submitter: Brian Dooley Date: Monday, February 24 2025 16:59:39 DPDK git baseline: Repo:dpdk Branch: master CommitID:fab31a03ba98e7457284df95dd9eef2223a4ccaa 151974-151976 --> testing pass Upstream job id: Generic-Unit-Test-DPDK#317996 Test environment and result as below: +-----------------------------+----------------+------------------------------+--------------+---------------------------+ | Environment | dpdk_unit_test | cryptodev_sw_snow3g_autotest | lpm_autotest | cryptodev_sw_zuc_autotest | +=============================+================+==============================+==============+===========================+ | 32-bit Ubuntu 22.04.4 (ARM) | PASS | SKIPPED | SKIPPED | SKIPPED | +-----------------------------+----------------+------------------------------+--------------+---------------------------+ | Debian 11 (Buster) (ARM) | PASS | SKIPPED | SKIPPED | SKIPPED | +-----------------------------+----------------+------------------------------+--------------+---------------------------+ | CentOS Stream 9 (ARM) | PASS | SKIPPED | SKIPPED | SKIPPED | +-----------------------------+----------------+------------------------------+--------------+---------------------------+ | CentOS Stream 10 (ARM) | PASS | SKIPPED | SKIPPED | SKIPPED | +-----------------------------+----------------+------------------------------+--------------+---------------------------+ | Fedora 40 (ARM) | PASS | SKIPPED | SKIPPED | SKIPPED | +-----------------------------+----------------+------------------------------+--------------+---------------------------+ | Debian 12 (arm) | PASS | PASS | SKIPPED | PASS | +-----------------------------+----------------+------------------------------+--------------+---------------------------+ | Fedora 40 (ARM Clang) | PASS | SKIPPED | SKIPPED | SKIPPED | +-----------------------------+----------------+------------------------------+--------------+---------------------------+ | RHEL9 (ARM) | PASS | SKIPPED | SKIPPED | SKIPPED | +-----------------------------+----------------+------------------------------+--------------+---------------------------+ | Fedora 41 (ARM) | PASS | SKIPPED | SKIPPED | SKIPPED | +-----------------------------+----------------+------------------------------+--------------+---------------------------+ | Fedora 41 (ARM Clang) | PASS | SKIPPED | SKIPPED | SKIPPED | +-----------------------------+----------------+------------------------------+--------------+---------------------------+ | Ubuntu 22.04 (ARM) | PASS | SKIPPED | SKIPPED | SKIPPED | +-----------------------------+----------------+------------------------------+--------------+---------------------------+ | Ubuntu 20.04 (ARM) | PASS | SKIPPED | SKIPPED | SKIPPED | +-----------------------------+----------------+------------------------------+--------------+---------------------------+ | Ubuntu 24.04 (ARM) | PASS | SKIPPED | SKIPPED | SKIPPED | +-----------------------------+----------------+------------------------------+--------------+---------------------------+ | Ubuntu 20.04 ARM SVE | SKIPPED | SKIPPED | PASS | SKIPPED | +-----------------------------+----------------+------------------------------+--------------+---------------------------+ 32-bit Ubuntu 22.04.4 (ARM) Kernel: 5.15.83+ aarch64 Compiler: gcc (Ubuntu 11.4.0-1ubuntu1~22.04) 11.4.0 Debian 11 (Buster) (ARM) Kernel: Depends on container host Compiler: gcc (Debian 10.2.1-6) 10.2.1 20210110 CentOS Stream 9 (ARM) Kernel: Depends on container host Compiler: gcc 11.5.0 20240719 (Red Hat 11.5.0-2) CentOS Stream 10 (ARM) Kernel: Depends on container host Compiler: gcc 14.2.1 20241104 (Red Hat 14.2.1-6) Fedora 40 (ARM) Kernel: Depends on container host Compiler: gcc 14.2.1 20240912 (Red Hat 14.2.1-3) Debian 12 (arm) Kernel: Depends on container host Compiler: gcc (Debian 12.2.0-14) 12.2.0 Fedora 40 (ARM Clang) Kernel: Depends on container host Compiler: clang 18.1.8 (Fedora 18.1.8-1.fc40) RHEL9 (ARM) Kernel: Depends on container host Compiler: gcc 11.5.0 20240719 (Red Hat 11.5.0-2) Fedora 41 (ARM) Kernel: Depends on container host Compiler: gcc 14.2.1 20240912 (Red Hat 14.2.1-3) Fedora 41 (ARM Clang) Kernel: Depends on container host Compiler: clang 19.1.5 (Fedora 19.1.5-1.fc41) Ubuntu 22.04 (ARM) Kernel: Depends on container host Compiler: gcc (Ubuntu 11.4.0-1ubuntu1~22.04) 11.4.0 Ubuntu 20.04 (ARM) Kernel: Depends on container host Compiler: gcc (Ubuntu 9.4.0-1ubuntu1~20.04.2) 9.4.0 Ubuntu 24.04 (ARM) Kernel: Depends on container host Compiler: gcc (Ubuntu 13.3.0-6ubuntu2~24.04) 13.3.0 Ubuntu 20.04 ARM SVE Kernel: Depends on container host Compiler: gcc (Ubuntu 10.5.0-1ubuntu1~20.04) 10.5.0 To view detailed results, visit: https://lab.dpdk.org/results/dashboard/patchsets/32670/ UNH-IOL DPDK Community Lab To manage your email subscriptions, visit: https://lab.dpdk.org/results/dashboard/preferences/subscriptions/