From mboxrd@z Thu Jan 1 00:00:00 1970 Return-Path: Received: from mails.dpdk.org (mails.dpdk.org [217.70.189.124]) by inbox.dpdk.org (Postfix) with ESMTP id E3FD9462B2 for ; Tue, 25 Feb 2025 01:24:02 +0100 (CET) Received: from mails.dpdk.org (localhost [127.0.0.1]) by mails.dpdk.org (Postfix) with ESMTP id C0C2A402B1; Tue, 25 Feb 2025 01:24:02 +0100 (CET) Received: from mail-pl1-f226.google.com (mail-pl1-f226.google.com [209.85.214.226]) by mails.dpdk.org (Postfix) with ESMTP id 8239E40288 for ; Tue, 25 Feb 2025 01:24:01 +0100 (CET) Received: by mail-pl1-f226.google.com with SMTP id d9443c01a7336-220c2a87378so84490685ad.1 for ; Mon, 24 Feb 2025 16:24:01 -0800 (PST) DKIM-Signature: v=1; a=rsa-sha256; c=relaxed/relaxed; d=iol.unh.edu; s=unh-iol; t=1740443040; x=1741047840; darn=dpdk.org; h=references:in-reply-to:cc:to:from:subject:message-id:date:from:to :cc:subject:date:message-id:reply-to; bh=1hD263bmRhj7CYlexzHguCe/8oTlt7Qhn4AUl4yTFek=; b=VV+AB7VPyxR6zmrChQd2JV9/8hHmK+UzapDDa6I66SyAvmJ9ekRHHu9vNbv/JK+yTN TbiGKL+HnnnpXFraNaEawAYOrIgfx+74EeMHHCPr9BBjrR3BHHleMHOm4sLpXaUi4ude SG6vkF0gzmMuui3oZql7xuEEr9ETofodlMlMA= X-Google-DKIM-Signature: v=1; a=rsa-sha256; c=relaxed/relaxed; d=1e100.net; s=20230601; t=1740443040; x=1741047840; h=references:in-reply-to:cc:to:from:subject:message-id:date :x-gm-message-state:from:to:cc:subject:date:message-id:reply-to; bh=1hD263bmRhj7CYlexzHguCe/8oTlt7Qhn4AUl4yTFek=; b=YB/5ldrGm9NZEViT9hDXXwILxiIqwwHCBj3Nvupv26JkVkGkAQvC+tLuYys6U2xh8q nNBvPAI8Ki3w3uAzdRJEZy9AE2EVEWt57r9QJsHEgmJsc8ZoWy2ucELi+9Xa/6vBwahh RGx/a0REz0HEBOcq8Jt9N8VXaz5xmVV7PVhNOYij9c0Xv7jd6Nc0TZgKVN6ULcULSg74 vH+bM+p7/V/l2enfbyTpWk2ZWtaJ9WCC/L7v4rZae1cX26qWvXGOCoaIV0Pr56q3D5JZ +AG5dNyjT9aIi099wlGuBx1FGfgxo2dwInKOUIIUKHbWuX/j1wwRU+zI25oRe0A2bVeK 1rwQ== X-Gm-Message-State: AOJu0YxuL1DxzfYsUV17HcWmRInBKITso9A1uEDP0444UaXOR8SYJAFF +bMVfuh9w2ggExd3p+H5rA+FXyPG4UUl4UOuvCGo7IF+pJIwu4+0IzPkC4dxcvDVWTp3QEvG6yI TLeMS6u1WMDEkr+49jSxAsGLRcSXfW/aAuH69TNjv X-Gm-Gg: ASbGnct3hNaYWJGKgjZIodwMn11svLT5YN0liVLw1u8pdt+YSr8F78kX6B8Wpo0sw+a qoh8S4cxZBmYjF1poH9prx3lPoyiiPldQRxCi2j6J6FTY9jWuAuav1XNFTw2QvSh4Tn41oJMhhC chbdw6i5PMbf8rcNoUzTLihwKTBTEf0mbm9m5Urt1gpF1AV7rTm8cTBlsqaqRxwyetBAPTwScx8 R3rlnhOpy6eLNFvK6bkXGwsjmTSsobjy/NozwhOj6NeG6RNmqZ0uC0Df71gmT2nl4o4+739fsNW 0beSv+Zm/VZjw9m90wcEJu6BiHUd++Rqd/Ybl0P7 X-Google-Smtp-Source: AGHT+IGKfxYBZBx5UoY/arem79WCAQGzZq+CuZ2tn/XzKl5Iz32Pv6TNnQ38nN0fiDh/VGu//+aiJYXAg8Z0 X-Received: by 2002:a05:6a00:b86:b0:730:937f:e838 with SMTP id d2e1a72fcca58-73426d8fa97mr23148290b3a.22.1740443040556; Mon, 24 Feb 2025 16:24:00 -0800 (PST) Received: from postal.iol.unh.edu (postal.iol.unh.edu. [132.177.123.84]) by smtp-relay.gmail.com with ESMTPS id d2e1a72fcca58-7347a6febb7sm25074b3a.8.2025.02.24.16.24.00 (version=TLS1_2 cipher=ECDHE-ECDSA-AES128-GCM-SHA256 bits=128/128); Mon, 24 Feb 2025 16:24:00 -0800 (PST) X-Relaying-Domain: iol.unh.edu Date: Mon, 24 Feb 2025 16:24:00 -0800 (PST) Message-ID: <67bd0da0.050a0220.3733f7.1964SMTPIN_ADDED_MISSING@mx.google.com> Received: from [172.21.0.9] (unknown [172.18.0.240]) by postal.iol.unh.edu (Postfix) with ESMTP id E664A6052471; Mon, 24 Feb 2025 19:23:59 -0500 (EST) Subject: |SUCCESS| pw151964-151971 [PATCH] [v6,10/10] app: enable app directo From: dpdklab@iol.unh.edu To: Test Report Cc: dpdk-test-reports@iol.unh.edu In-Reply-To: <1740414265-12217-11-git-send-email-andremue@linux.microsoft.com> References: <1740414265-12217-11-git-send-email-andremue@linux.microsoft.com> Content-Type: text/plain X-BeenThere: test-report@dpdk.org X-Mailman-Version: 2.1.29 Precedence: list List-Id: automatic DPDK test reports List-Unsubscribe: , List-Archive: List-Post: List-Help: List-Subscribe: , Errors-To: test-report-bounces@dpdk.org Test-Label: iol-abi-testing Test-Status: SUCCESS http://dpdk.org/patch/151971 _Testing PASS_ Submitter: Andre Muezerie Date: Monday, February 24 2025 16:24:25 DPDK git baseline: Repo:dpdk Branch: master CommitID:fab31a03ba98e7457284df95dd9eef2223a4ccaa 151964-151971 --> testing pass Upstream job id: Generic-DPDK-Compile-ABI#117567 Test environment and result as below: +-------------------+----------+ | Environment | abi_test | +===================+==========+ | CentOS Stream 9 | PASS | +-------------------+----------+ | Fedora 40 | PASS | +-------------------+----------+ | RHEL9 | PASS | +-------------------+----------+ | Debian 12 | PASS | +-------------------+----------+ | Fedora 41 | PASS | +-------------------+----------+ | Ubuntu 24.04 | PASS | +-------------------+----------+ | Fedora 40 (Clang) | PASS | +-------------------+----------+ | CentOS Stream 10 | PASS | +-------------------+----------+ | Debian Bullseye | PASS | +-------------------+----------+ | openSUSE Leap 15 | PASS | +-------------------+----------+ | Ubuntu 22.04 | PASS | +-------------------+----------+ | RHEL8 | PASS | +-------------------+----------+ CentOS Stream 9 Kernel: Depends on container host Compiler: gcc 11.5.0 20240719 (Red Hat 11.5.0-2) Fedora 40 Kernel: Depends on container host Compiler: gcc 14.2.1 20240912 (Red Hat 14.2.1-3) RHEL9 Kernel: Depends on container host Compiler: gcc 11.5.0 20240719 (Red Hat 11.5.0-2) Debian 12 Kernel: Depends on container host Compiler: gcc (Debian 12.2.0-14) 12.2.0 Fedora 41 Kernel: Depends on container host Compiler: gcc 14.2.1 20240912 (Red Hat 14.2.1-3) Ubuntu 24.04 Kernel: Depends on container host Compiler: gcc (Ubuntu 13.3.0-6ubuntu2~24.04) 13.3.0 Fedora 40 (Clang) Kernel: Depends on container host Compiler: clang 18.1.8 (Fedora 18.1.8-1.fc40) CentOS Stream 10 Kernel: Depends on container host Compiler: gcc 14.2.1 20241104 (Red Hat 14.2.1-6) Debian Bullseye Kernel: Depends on container host Compiler: gcc (Debian 10.2.1-6) 10.2.1 20210110 openSUSE Leap 15 Kernel: Depends on container host Compiler: gcc (SUSE Linux) 7.5.0 Ubuntu 22.04 Kernel: Depends on container host Compiler: gcc (Ubuntu 11.4.0-1ubuntu1~22.04) 11.4.0 RHEL8 Kernel: Depends on container host Compiler: gcc 8.5.0 20210514 (Red Hat 8.5.0-22) To view detailed results, visit: https://lab.dpdk.org/results/dashboard/patchsets/32668/ UNH-IOL DPDK Community Lab To manage your email subscriptions, visit: https://lab.dpdk.org/results/dashboard/preferences/subscriptions/