From mboxrd@z Thu Jan 1 00:00:00 1970 Return-Path: Received: from mails.dpdk.org (mails.dpdk.org [217.70.189.124]) by inbox.dpdk.org (Postfix) with ESMTP id 514B6462B2 for ; Tue, 25 Feb 2025 01:38:04 +0100 (CET) Received: from mails.dpdk.org (localhost [127.0.0.1]) by mails.dpdk.org (Postfix) with ESMTP id 4ADB2402B1; Tue, 25 Feb 2025 01:38:04 +0100 (CET) Received: from mail-yw1-f225.google.com (mail-yw1-f225.google.com [209.85.128.225]) by mails.dpdk.org (Postfix) with ESMTP id E003640288 for ; Tue, 25 Feb 2025 01:38:02 +0100 (CET) Received: by mail-yw1-f225.google.com with SMTP id 00721157ae682-6ef60e500d7so40832087b3.0 for ; Mon, 24 Feb 2025 16:38:02 -0800 (PST) DKIM-Signature: v=1; a=rsa-sha256; c=relaxed/relaxed; d=iol.unh.edu; s=unh-iol; t=1740443882; x=1741048682; darn=dpdk.org; h=references:in-reply-to:cc:to:from:subject:message-id:date:from:to :cc:subject:date:message-id:reply-to; bh=t2TnQOjmoyNGHvcG+FXJ8bCr+bsmGHwwxjpaAdRZ8iQ=; b=ioJjMIF5b+h34rlubqAecKDbGNHGOFY+ASRNEQs19g9dZ0nKJDBM2MdIOZlmi0A7Xh 2d6uMbmrpEVBU14UAD8JV9s+S3ILGxc2M5fu8lFuH6JMtcPhWzTRuUx56PdxrnKF5vpb rJgSTNR7KdH70r2mqSUVaXjepYxLv6iDU7B9o= X-Google-DKIM-Signature: v=1; a=rsa-sha256; c=relaxed/relaxed; d=1e100.net; s=20230601; t=1740443882; x=1741048682; h=references:in-reply-to:cc:to:from:subject:message-id:date :x-gm-message-state:from:to:cc:subject:date:message-id:reply-to; bh=t2TnQOjmoyNGHvcG+FXJ8bCr+bsmGHwwxjpaAdRZ8iQ=; b=RHPE0d7J8d5uSKvKA3+LSYEoFGZHPBOAfeeBTpX9KcQaHIyxTe+K15cStN9QOrCW2X f6ytkSTawaAKhNXGE8jWC1B/oyhnAOR4YnaBL2ebtSjTMdphiHT61I2RDzxwiNkzPMgZ U/Srj7nHSFT+6KzXFu3X/pnOaMVDbeS0/OA2wGt3XBAZngpCcC6NbQxzbEsvEHJli1Gp U3luj5CNVtXo4PbIcj74F9DdAW5/X4O4ToyhpUWR1f9vu97wSV+qB9Wsa8F9lTWJAjZo WNmVDej3+LDcSUUjlT9s6o0fUeqd+Iyq6cvVgGt/8LMhqh8mMgyjus5OWuaOckl+ki27 FcoA== X-Gm-Message-State: AOJu0YxFXpZCPu6WKwj4CBZPZIqVgJXZgIVlPkAhahI8GMXFRWuJmeXs CjjTIv7aVygxId6KHmF1aZ8q0haoVXzC9FKa+HJu9W9zhxiABC/R+fOcrakGMHa+HdDI+1dBflm 9aoAM2rnUd9Q8osrT1xQj1rUiI8exaritDb/rjJ3Ynd1fAlm3t9V/qyGU X-Gm-Gg: ASbGncuTE+Fd/JuZdyxtN5yQXJG/4KPNZyyTK4UvHc3tXwNbsEgHvY+gt43QtLr5taM F9hy7tqP6xGZYapBoYRgIcYlZJwotXgvDSPCn+q050AEnecXIrj3mQrYk0znzL+HPuNomYuxBPt MmrcqFEmnuKKpfa0M/d9QviYYvrIzMGKbFnv+A1JNbuls61yr00L8cHX4PI0H0uqjr0el9yfvi/ V7oBmwg6eTN7QnUkRwjai+Okl3vtpfaYEXmaoVixTQWn5Vt3eFMHztO+cS45Pzp5UYtKqxFXNiD 4xVw+pSRxkUnucU1e8k9z/TZLhqx2UMDLXGF6dgYFWVUwmHS0/xQ X-Google-Smtp-Source: AGHT+IGMjXDsKSfarKx5nYODd4zT3ZIsgL8eKtENk/S+zqlIyUcQtqrSA0koeiyDwJMce5mMB9BlGRwBFvrO X-Received: by 2002:a05:690c:630f:b0:6f9:b12b:8953 with SMTP id 00721157ae682-6fbcc7ac1cbmr129872497b3.20.1740443882244; Mon, 24 Feb 2025 16:38:02 -0800 (PST) Received: from postal.iol.unh.edu (postal.iol.unh.edu. [2606:4100:3880:1234::84]) by smtp-relay.gmail.com with ESMTPS id 00721157ae682-6fd116e84f6sm140807b3.33.2025.02.24.16.38.02 (version=TLS1_2 cipher=ECDHE-ECDSA-AES128-GCM-SHA256 bits=128/128); Mon, 24 Feb 2025 16:38:02 -0800 (PST) X-Relaying-Domain: iol.unh.edu Date: Mon, 24 Feb 2025 16:38:02 -0800 (PST) Message-ID: <67bd10ea.050a0220.2246b6.0e6dSMTPIN_ADDED_MISSING@mx.google.com> Received: from [172.21.0.8] (unknown [172.18.0.240]) by postal.iol.unh.edu (Postfix) with ESMTP id D31486052471; Mon, 24 Feb 2025 19:38:01 -0500 (EST) Subject: |SUCCESS| pw151973 [PATCH] [v3,1/1] pcapng: fix null dereference in From: dpdklab@iol.unh.edu To: Test Report Cc: dpdk-test-reports@iol.unh.edu In-Reply-To: <20250224164031.587829-2-ariel.otilibili@6wind.com> References: <20250224164031.587829-2-ariel.otilibili@6wind.com> Content-Type: text/plain X-BeenThere: test-report@dpdk.org X-Mailman-Version: 2.1.29 Precedence: list List-Id: automatic DPDK test reports List-Unsubscribe: , List-Archive: List-Post: List-Help: List-Subscribe: , Errors-To: test-report-bounces@dpdk.org Test-Label: iol-unit-arm64-testing Test-Status: SUCCESS http://dpdk.org/patch/151973 _Testing PASS_ Submitter: Ariel Otilibili Date: Monday, February 24 2025 16:40:31 DPDK git baseline: Repo:dpdk Branch: master CommitID:fab31a03ba98e7457284df95dd9eef2223a4ccaa 151973 --> testing pass Upstream job id: Generic-Unit-Test-DPDK#318015 Test environment and result as below: +-----------------------------+----------------+--------------+---------------------------+------------------------------+ | Environment | dpdk_unit_test | lpm_autotest | cryptodev_sw_zuc_autotest | cryptodev_sw_snow3g_autotest | +=============================+================+==============+===========================+==============================+ | 32-bit Ubuntu 22.04.4 (ARM) | PASS | SKIPPED | SKIPPED | SKIPPED | +-----------------------------+----------------+--------------+---------------------------+------------------------------+ | CentOS Stream 9 (ARM) | PASS | SKIPPED | SKIPPED | SKIPPED | +-----------------------------+----------------+--------------+---------------------------+------------------------------+ | CentOS Stream 10 (ARM) | PASS | SKIPPED | SKIPPED | SKIPPED | +-----------------------------+----------------+--------------+---------------------------+------------------------------+ | Debian 12 (arm) | PASS | SKIPPED | PASS | PASS | +-----------------------------+----------------+--------------+---------------------------+------------------------------+ | Debian 11 (Buster) (ARM) | PASS | SKIPPED | SKIPPED | SKIPPED | +-----------------------------+----------------+--------------+---------------------------+------------------------------+ | Fedora 41 (ARM Clang) | PASS | SKIPPED | SKIPPED | SKIPPED | +-----------------------------+----------------+--------------+---------------------------+------------------------------+ | Fedora 40 (ARM) | PASS | SKIPPED | SKIPPED | SKIPPED | +-----------------------------+----------------+--------------+---------------------------+------------------------------+ | Fedora 41 (ARM) | PASS | SKIPPED | SKIPPED | SKIPPED | +-----------------------------+----------------+--------------+---------------------------+------------------------------+ | Fedora 40 (ARM Clang) | PASS | SKIPPED | SKIPPED | SKIPPED | +-----------------------------+----------------+--------------+---------------------------+------------------------------+ | Ubuntu 22.04 (ARM) | PASS | SKIPPED | SKIPPED | SKIPPED | +-----------------------------+----------------+--------------+---------------------------+------------------------------+ | RHEL9 (ARM) | PASS | SKIPPED | SKIPPED | SKIPPED | +-----------------------------+----------------+--------------+---------------------------+------------------------------+ | Ubuntu 20.04 (ARM) | PASS | SKIPPED | SKIPPED | SKIPPED | +-----------------------------+----------------+--------------+---------------------------+------------------------------+ | Ubuntu 24.04 (ARM) | PASS | SKIPPED | SKIPPED | SKIPPED | +-----------------------------+----------------+--------------+---------------------------+------------------------------+ | Ubuntu 20.04 ARM SVE | SKIPPED | PASS | SKIPPED | SKIPPED | +-----------------------------+----------------+--------------+---------------------------+------------------------------+ 32-bit Ubuntu 22.04.4 (ARM) Kernel: 5.15.83+ aarch64 Compiler: gcc (Ubuntu 11.4.0-1ubuntu1~22.04) 11.4.0 CentOS Stream 9 (ARM) Kernel: Depends on container host Compiler: gcc 11.5.0 20240719 (Red Hat 11.5.0-2) CentOS Stream 10 (ARM) Kernel: Depends on container host Compiler: gcc 14.2.1 20241104 (Red Hat 14.2.1-6) Debian 12 (arm) Kernel: Depends on container host Compiler: gcc (Debian 12.2.0-14) 12.2.0 Debian 11 (Buster) (ARM) Kernel: Depends on container host Compiler: gcc (Debian 10.2.1-6) 10.2.1 20210110 Fedora 41 (ARM Clang) Kernel: Depends on container host Compiler: clang 19.1.5 (Fedora 19.1.5-1.fc41) Fedora 40 (ARM) Kernel: Depends on container host Compiler: gcc 14.2.1 20240912 (Red Hat 14.2.1-3) Fedora 41 (ARM) Kernel: Depends on container host Compiler: gcc 14.2.1 20240912 (Red Hat 14.2.1-3) Fedora 40 (ARM Clang) Kernel: Depends on container host Compiler: clang 18.1.8 (Fedora 18.1.8-1.fc40) Ubuntu 22.04 (ARM) Kernel: Depends on container host Compiler: gcc (Ubuntu 11.4.0-1ubuntu1~22.04) 11.4.0 RHEL9 (ARM) Kernel: Depends on container host Compiler: gcc 11.5.0 20240719 (Red Hat 11.5.0-2) Ubuntu 20.04 (ARM) Kernel: Depends on container host Compiler: gcc (Ubuntu 9.4.0-1ubuntu1~20.04.2) 9.4.0 Ubuntu 24.04 (ARM) Kernel: Depends on container host Compiler: gcc (Ubuntu 13.3.0-6ubuntu2~24.04) 13.3.0 Ubuntu 20.04 ARM SVE Kernel: Depends on container host Compiler: gcc (Ubuntu 10.5.0-1ubuntu1~20.04) 10.5.0 To view detailed results, visit: https://lab.dpdk.org/results/dashboard/patchsets/32669/ UNH-IOL DPDK Community Lab To manage your email subscriptions, visit: https://lab.dpdk.org/results/dashboard/preferences/subscriptions/