From mboxrd@z Thu Jan 1 00:00:00 1970 Return-Path: Received: from mails.dpdk.org (mails.dpdk.org [217.70.189.124]) by inbox.dpdk.org (Postfix) with ESMTP id B0BDC462B2 for ; Tue, 25 Feb 2025 01:52:36 +0100 (CET) Received: from mails.dpdk.org (localhost [127.0.0.1]) by mails.dpdk.org (Postfix) with ESMTP id 876DF402B1; Tue, 25 Feb 2025 01:52:36 +0100 (CET) Received: from mail-qt1-f227.google.com (mail-qt1-f227.google.com [209.85.160.227]) by mails.dpdk.org (Postfix) with ESMTP id AD97140288 for ; Tue, 25 Feb 2025 01:52:35 +0100 (CET) Received: by mail-qt1-f227.google.com with SMTP id d75a77b69052e-4721aede532so52631711cf.2 for ; Mon, 24 Feb 2025 16:52:35 -0800 (PST) DKIM-Signature: v=1; a=rsa-sha256; c=relaxed/relaxed; d=iol.unh.edu; s=unh-iol; t=1740444755; x=1741049555; darn=dpdk.org; h=references:in-reply-to:cc:to:from:subject:message-id:date:from:to :cc:subject:date:message-id:reply-to; bh=ou5W3ibFaZgX7bgPwYMQKRG2d37cG1kZehuGnmPiVLI=; b=afTgN2v/51GGzbnt9fDESNHxhoxuH0JnT9cvnpLFS9spLB9YLD1Ndr65/paoq7qfJM juHazqoJDbd62n4EsJGJoMBoOu5j9BG0lIqNvshQfoH0RGLjCP4Zh8nn0vxOqJKgwfTH jkwfyVVQbE6mKdqG3VmTQt0j6u04b8JdIbn9o= X-Google-DKIM-Signature: v=1; a=rsa-sha256; c=relaxed/relaxed; d=1e100.net; s=20230601; t=1740444755; x=1741049555; h=references:in-reply-to:cc:to:from:subject:message-id:date :x-gm-message-state:from:to:cc:subject:date:message-id:reply-to; bh=ou5W3ibFaZgX7bgPwYMQKRG2d37cG1kZehuGnmPiVLI=; b=QvYVsw9pZwweuGngpqAOZc8ueLXgjTaiz7dSmw7qa9t41/FLSSGOdBsN1Ico6mUcVO xdTqz/M/PY2xggLfxgKaGy5ilSMmgcRcV7nzfqENn00QXzp2+ako5sJchekceWGMaWTN imp7H93TG+d8lxGYyuEdehne7p5uY0ytgN9b2YmEv/0GuTEbiPXIx1inULSzkWrEznQk exwd9PS2H+mXlDSbDvRwZPTZ5Zoz0w9kdsyLrEP+39TVSzdUCO8G1YFC0wtu1hVxHLzV 50PZdGVuObzoFDsNlkOW75AP+uGFL9UxOho8OATyXnDd8+9CH70XKo6tUBZj3NE/WaFn K8PQ== X-Gm-Message-State: AOJu0YyBqoO8AdbvIxiV3Ts0mZUviW9YKw3liuLbBTq1iJcxJudbDhDA b7077l8aXS2ejunJxrGYA8jKNPku9tXibbZs2ypOVGpXgr78ybXDDjTqNwc0q+I0qfGzsMWIinK IOe8EjCKWpI/XRLE0EweRplGkY5nESGKayk5DKtyKj64kBUaieR+QABWX X-Gm-Gg: ASbGncv0yOqk+Ke8OB9CWiA8JJH5fyEUJhQOsvZLcbumMRuWQTR4bTOiQAKgVRx/9u/ ITOBdDeJeVaV735R7RaJbyTUiTJRcCF4ENJiQYTad94WxivxVr8eTVLm29jFodFX7gO/ivFE8yr smJvrsR7ou/GeSjn5DnoxcxG6GJ3spSn4L4/9jHPXQDc9yaXgIem1pIWzjTtHNyP9+2CTkrkBW/ eQR5PaPxHN7ijyzG4leExMDFoIvKf6IctKX8d56/fGtgCGJ9662h2833Hx8sFjOlGC6rcJVGOKO fnkuF5vDf3hJ7SJtENrCMDYnq1Ta9dC8Xh6my8JppbNlHSlT/74b X-Google-Smtp-Source: AGHT+IEYGZoHooZoDgzaX+44zM6EDmnURRtBmZfMlvCnVt6FRk1boImLUqkBqq+Pbwq5YUJr0rQMh2u8wbaZ X-Received: by 2002:ac8:5e07:0:b0:472:1c31:62bd with SMTP id d75a77b69052e-472248d8c80mr227609581cf.33.1740444755014; Mon, 24 Feb 2025 16:52:35 -0800 (PST) Received: from postal.iol.unh.edu (postal.iol.unh.edu. [2606:4100:3880:1234::84]) by smtp-relay.gmail.com with ESMTPS id d75a77b69052e-4737805ee4esm225271cf.18.2025.02.24.16.52.34 (version=TLS1_2 cipher=ECDHE-ECDSA-AES128-GCM-SHA256 bits=128/128); Mon, 24 Feb 2025 16:52:35 -0800 (PST) X-Relaying-Domain: iol.unh.edu Date: Mon, 24 Feb 2025 16:52:35 -0800 (PST) Message-ID: <67bd1453.050a0220.3f3a4.1706SMTPIN_ADDED_MISSING@mx.google.com> Received: from [172.21.0.8] (unknown [172.18.0.240]) by postal.iol.unh.edu (Postfix) with ESMTP id 971936052471; Mon, 24 Feb 2025 19:52:34 -0500 (EST) Subject: |SUCCESS| pw151974-151976 [PATCH] [v5,3/3] app/test: add SM4 GCM tes From: dpdklab@iol.unh.edu To: Test Report Cc: dpdk-test-reports@iol.unh.edu In-Reply-To: <20250224165939.717714-3-brian.dooley@intel.com> References: <20250224165939.717714-3-brian.dooley@intel.com> Content-Type: text/plain X-BeenThere: test-report@dpdk.org X-Mailman-Version: 2.1.29 Precedence: list List-Id: automatic DPDK test reports List-Unsubscribe: , List-Archive: List-Post: List-Help: List-Subscribe: , Errors-To: test-report-bounces@dpdk.org Test-Label: iol-compile-amd64-testing Test-Status: SUCCESS http://dpdk.org/patch/151976 _Testing PASS_ Submitter: Brian Dooley Date: Monday, February 24 2025 16:59:39 DPDK git baseline: Repo:dpdk Branch: master CommitID:fab31a03ba98e7457284df95dd9eef2223a4ccaa 151974-151976 --> testing pass Upstream job id: Windows-Compile-DPDK-Native#26884 Test environment and result as below: +---------------------+--------------------+-------------------+------------------+-------------------------+----------------------+ | Environment | dpdk_meson_compile | dpdk_compile_spdk | dpdk_compile_ovs | dpdk_llvm_clang_compile | dpdk_mingw64_compile | +=====================+====================+===================+==================+=========================+======================+ | CentOS Stream 9 | PASS | PASS | SKIPPED | SKIPPED | SKIPPED | +---------------------+--------------------+-------------------+------------------+-------------------------+----------------------+ | CentOS Stream 10 | PASS | SKIPPED | SKIPPED | SKIPPED | SKIPPED | +---------------------+--------------------+-------------------+------------------+-------------------------+----------------------+ | Debian Bullseye | PASS | PASS | SKIPPED | SKIPPED | SKIPPED | +---------------------+--------------------+-------------------+------------------+-------------------------+----------------------+ | Debian 12 | PASS | PASS | SKIPPED | SKIPPED | SKIPPED | +---------------------+--------------------+-------------------+------------------+-------------------------+----------------------+ | Fedora 40 (Clang) | PASS | PASS | SKIPPED | SKIPPED | SKIPPED | +---------------------+--------------------+-------------------+------------------+-------------------------+----------------------+ | Fedora 40 | PASS | PASS | SKIPPED | SKIPPED | SKIPPED | +---------------------+--------------------+-------------------+------------------+-------------------------+----------------------+ | RHEL8 | PASS | SKIPPED | SKIPPED | SKIPPED | SKIPPED | +---------------------+--------------------+-------------------+------------------+-------------------------+----------------------+ | openSUSE Leap 15 | PASS | SKIPPED | SKIPPED | SKIPPED | SKIPPED | +---------------------+--------------------+-------------------+------------------+-------------------------+----------------------+ | Fedora 41 | PASS | PASS | PASS | SKIPPED | SKIPPED | +---------------------+--------------------+-------------------+------------------+-------------------------+----------------------+ | Fedora 41 (Clang) | PASS | PASS | PASS | SKIPPED | SKIPPED | +---------------------+--------------------+-------------------+------------------+-------------------------+----------------------+ | RHEL9 | PASS | SKIPPED | SKIPPED | SKIPPED | SKIPPED | +---------------------+--------------------+-------------------+------------------+-------------------------+----------------------+ | Ubuntu 20.04 | PASS | SKIPPED | SKIPPED | SKIPPED | SKIPPED | +---------------------+--------------------+-------------------+------------------+-------------------------+----------------------+ | Ubuntu 22.04 | PASS | PASS | SKIPPED | SKIPPED | SKIPPED | +---------------------+--------------------+-------------------+------------------+-------------------------+----------------------+ | Ubuntu 24.04 | PASS | PASS | PASS | SKIPPED | SKIPPED | +---------------------+--------------------+-------------------+------------------+-------------------------+----------------------+ | Alpine | PASS | SKIPPED | SKIPPED | SKIPPED | SKIPPED | +---------------------+--------------------+-------------------+------------------+-------------------------+----------------------+ | FreeBSD 13.4 | PASS | SKIPPED | SKIPPED | SKIPPED | SKIPPED | +---------------------+--------------------+-------------------+------------------+-------------------------+----------------------+ | FreeBSD 14.2 | PASS | SKIPPED | SKIPPED | SKIPPED | SKIPPED | +---------------------+--------------------+-------------------+------------------+-------------------------+----------------------+ | Windows Server 2022 | SKIPPED | SKIPPED | SKIPPED | PASS | PASS | +---------------------+--------------------+-------------------+------------------+-------------------------+----------------------+ CentOS Stream 9 Kernel: Depends on container host Compiler: gcc 11.5.0 20240719 (Red Hat 11.5.0-2) CentOS Stream 10 Kernel: Depends on container host Compiler: gcc 14.2.1 20241104 (Red Hat 14.2.1-6) Debian Bullseye Kernel: Depends on container host Compiler: gcc (Debian 10.2.1-6) 10.2.1 20210110 Debian 12 Kernel: Depends on container host Compiler: gcc (Debian 12.2.0-14) 12.2.0 Fedora 40 (Clang) Kernel: Depends on container host Compiler: clang 18.1.8 (Fedora 18.1.8-1.fc40) Fedora 40 Kernel: Depends on container host Compiler: gcc 14.2.1 20240912 (Red Hat 14.2.1-3) RHEL8 Kernel: Depends on container host Compiler: gcc 8.5.0 20210514 (Red Hat 8.5.0-22) openSUSE Leap 15 Kernel: Depends on container host Compiler: gcc (SUSE Linux) 7.5.0 Fedora 41 Kernel: Depends on container host Compiler: gcc 14.2.1 20240912 (Red Hat 14.2.1-3) Fedora 41 (Clang) Kernel: Depends on container host Compiler: clang 19.1.5 (Fedora 19.1.5-1.fc41) RHEL9 Kernel: Depends on container host Compiler: gcc 11.5.0 20240719 (Red Hat 11.5.0-2) Ubuntu 20.04 Kernel: Depends on container host Compiler: gcc (Ubuntu 9.4.0-1ubuntu1~20.04.2) 9.4.0 Ubuntu 22.04 Kernel: Depends on container host Compiler: gcc (Ubuntu 11.4.0-1ubuntu1~22.04) 11.4.0 Ubuntu 24.04 Kernel: Depends on container host Compiler: gcc (Ubuntu 13.3.0-6ubuntu2~24.04) 13.3.0 Alpine Kernel: Depends on container host Compiler: gcc (Alpine 14.2.0) 14.2.0 FreeBSD 13.4 Kernel: 13.4-RELEASE-p1 Compiler: clang 18.1.6 FreeBSD 14.2 Kernel: 14.2-RELEASE Compiler: clang 18.1.6 Windows Server 2022 Kernel: 10.0.20348.2031 Compiler: clang 15.0.7, gcc 14.1.0 (MinGW), and MSVC VS 19.39.33521 To view detailed results, visit: https://lab.dpdk.org/results/dashboard/patchsets/32670/ UNH-IOL DPDK Community Lab To manage your email subscriptions, visit: https://lab.dpdk.org/results/dashboard/preferences/subscriptions/