From mboxrd@z Thu Jan 1 00:00:00 1970 Return-Path: Received: from mails.dpdk.org (mails.dpdk.org [217.70.189.124]) by inbox.dpdk.org (Postfix) with ESMTP id 34516462B3 for ; Tue, 25 Feb 2025 02:15:47 +0100 (CET) Received: from mails.dpdk.org (localhost [127.0.0.1]) by mails.dpdk.org (Postfix) with ESMTP id 300DA40662; Tue, 25 Feb 2025 02:15:47 +0100 (CET) Received: from mail-pj1-f97.google.com (mail-pj1-f97.google.com [209.85.216.97]) by mails.dpdk.org (Postfix) with ESMTP id 8CCCA402B1 for ; Tue, 25 Feb 2025 02:15:45 +0100 (CET) Received: by mail-pj1-f97.google.com with SMTP id 98e67ed59e1d1-2fc20e0f0ceso7696770a91.3 for ; Mon, 24 Feb 2025 17:15:45 -0800 (PST) DKIM-Signature: v=1; a=rsa-sha256; c=relaxed/relaxed; d=iol.unh.edu; s=unh-iol; t=1740446145; x=1741050945; darn=dpdk.org; h=references:in-reply-to:cc:to:from:subject:message-id:date:from:to :cc:subject:date:message-id:reply-to; bh=q+cPI89OSxfNLy7wdrRdqoJQfbZCMYRn8bICfH6pmGs=; b=E1zUfd//98vW1dhJCfIRlWZ/F1uG/WJ7VpfYMSMcmuo+0NaIN8agVGZHThDj4Hbbss qX2q7qtRxzqAG/LvQHMMSpGzzxX1dNDfPWZPInDRVk5qcVQeAQX2h0onqyBIHJ0w64EY ntc7ld81XehKLKKc8aomhxnRYI8vOkzhyH50c= X-Google-DKIM-Signature: v=1; a=rsa-sha256; c=relaxed/relaxed; d=1e100.net; s=20230601; t=1740446145; x=1741050945; h=references:in-reply-to:cc:to:from:subject:message-id:date :x-gm-message-state:from:to:cc:subject:date:message-id:reply-to; bh=q+cPI89OSxfNLy7wdrRdqoJQfbZCMYRn8bICfH6pmGs=; b=Z5GwDyAqP2N3UATTeT+qBS82n9c6PrxIB2x5DwBK2FzAMl+TOuMBtxZWoTEITGu9CA ERhHFCa2mMQl0lmtUaCjQBNYFJ1TanKtD8Pfcxl/GEZyjF8F4j1elUVIS4Y9usSQnWjR 8oLFhBoIbDMveQYILk0OslnDSYS9iAePsk220j94TEBTz5MgLlDc7ZWNAYBo/zR/vM5R v4Ti2fmj0l+/ENXd7V6RWz0ulZ1l62Hq/114KHnIvzsCQbiSJvXYedmLDUMGN2klOUZh 3C0X8konjA0iDTO+cUc8scPdikMlRx7oWbvjm56+Mfn/OK2sLd5pyd7+X9t/UsGST+nG DKNQ== X-Gm-Message-State: AOJu0YzWoyj7MBqqX+s2BQ7vQ8wEf4NLXRgj5QxhitSA5skf1GVomPWo 13tiFJwZx25sPCaJlp0ptSMkfl4IscM+EIvLU2Eh+pUrKH6O7RytqtG2PaMWbb6qWbHFqNQlE35 aHKuqlswu+bJTb3SOtJ7Y0T788okZIOLU/MlN9M4h X-Gm-Gg: ASbGncsbw1GnM0aZipO6Sb7lmj331r6Rjoz/a4gBuNHQdOft/849HlNay7pPYktyBrh d4nn0ki6MyqK8+uAsnAUEtjKIfU9Ygs/z8rQW3MvpN68b6DrL0qPFxNAf+6fNaq5lSrd4vUClIW 3V7z9olfN9/NkpttdNvAB1t7wqF1SD/NlxtdGjR9CZA7gInZPaH1wWk6sN3t8AsSdhyBNricGzV RUhoUWwgtXyjXs9ZXn0VYt5QXWA+WyKz1mX7TOQ5Dp/HKF7oDoDiL/2PabPHBGJ10NY5OkkhNQE 2IAYVtjWJegfoWVy6r5HxyakeyVndbZsYGHyYPqW X-Google-Smtp-Source: AGHT+IGsP7sjbhIOgnIdQFGcYgkTjXeUAIQBjN8IJDIzN8WR8Z3/9RJc0H51g0xFxCNKICrPBV2K7rXW6vOz X-Received: by 2002:a17:90b:1f8c:b0:2ee:e317:69ab with SMTP id 98e67ed59e1d1-2fce75eb4f0mr30831139a91.0.1740446144736; Mon, 24 Feb 2025 17:15:44 -0800 (PST) Received: from postal.iol.unh.edu (postal.iol.unh.edu. [132.177.123.84]) by smtp-relay.gmail.com with ESMTPS id d9443c01a7336-2230a000419sm196965ad.13.2025.02.24.17.15.44 (version=TLS1_2 cipher=ECDHE-ECDSA-AES128-GCM-SHA256 bits=128/128); Mon, 24 Feb 2025 17:15:44 -0800 (PST) X-Relaying-Domain: iol.unh.edu Date: Mon, 24 Feb 2025 17:15:44 -0800 (PST) Message-ID: <67bd19c0.170a0220.3ca408.12c8SMTPIN_ADDED_MISSING@mx.google.com> Received: from [172.21.0.7] (unknown [172.18.0.240]) by postal.iol.unh.edu (Postfix) with ESMTP id DE3A26052471; Mon, 24 Feb 2025 20:15:43 -0500 (EST) Subject: |SUCCESS| pw151953-151958 [PATCH] [6/6] dts: restore TG setup and te From: dpdklab@iol.unh.edu To: Test Report Cc: dpdk-test-reports@iol.unh.edu In-Reply-To: <20250224132823.196509-7-luca.vizzarro@arm.com> References: <20250224132823.196509-7-luca.vizzarro@arm.com> Content-Type: text/plain X-BeenThere: test-report@dpdk.org X-Mailman-Version: 2.1.29 Precedence: list List-Id: automatic DPDK test reports List-Unsubscribe: , List-Archive: List-Post: List-Help: List-Subscribe: , Errors-To: test-report-bounces@dpdk.org Test-Label: iol-compile-amd64-testing Test-Status: SUCCESS http://dpdk.org/patch/151958 _Testing PASS_ Submitter: Luca Vizzarro Date: Monday, February 24 2025 13:28:23 DPDK git baseline: Repo:dpdk Branch: master CommitID:bdc023381a2c719fa6cb0e1c60aebd9c8c4afa21 151953-151958 --> testing pass Upstream job id: Generic-DPDK-Compile-Meson#364831 Test environment and result as below: +-------------------+--------------------+-------------------+------------------+ | Environment | dpdk_meson_compile | dpdk_compile_spdk | dpdk_compile_ovs | +===================+====================+===================+==================+ | CentOS Stream 9 | PASS | PASS | SKIPPED | +-------------------+--------------------+-------------------+------------------+ | CentOS Stream 10 | PASS | SKIPPED | SKIPPED | +-------------------+--------------------+-------------------+------------------+ | Fedora 40 (Clang) | PASS | PASS | SKIPPED | +-------------------+--------------------+-------------------+------------------+ | Fedora 40 | PASS | PASS | SKIPPED | +-------------------+--------------------+-------------------+------------------+ | Debian 12 | PASS | PASS | SKIPPED | +-------------------+--------------------+-------------------+------------------+ | Debian Bullseye | PASS | PASS | SKIPPED | +-------------------+--------------------+-------------------+------------------+ | Fedora 41 (Clang) | PASS | PASS | PASS | +-------------------+--------------------+-------------------+------------------+ | openSUSE Leap 15 | PASS | SKIPPED | SKIPPED | +-------------------+--------------------+-------------------+------------------+ | RHEL9 | PASS | SKIPPED | SKIPPED | +-------------------+--------------------+-------------------+------------------+ | Fedora 41 | PASS | PASS | PASS | +-------------------+--------------------+-------------------+------------------+ | RHEL8 | PASS | SKIPPED | SKIPPED | +-------------------+--------------------+-------------------+------------------+ | Ubuntu 20.04 | PASS | SKIPPED | SKIPPED | +-------------------+--------------------+-------------------+------------------+ | Ubuntu 22.04 | PASS | PASS | SKIPPED | +-------------------+--------------------+-------------------+------------------+ | Ubuntu 24.04 | PASS | PASS | PASS | +-------------------+--------------------+-------------------+------------------+ | Alpine | PASS | SKIPPED | SKIPPED | +-------------------+--------------------+-------------------+------------------+ | FreeBSD 13.4 | PASS | SKIPPED | SKIPPED | +-------------------+--------------------+-------------------+------------------+ | FreeBSD 14.2 | PASS | SKIPPED | SKIPPED | +-------------------+--------------------+-------------------+------------------+ CentOS Stream 9 Kernel: Depends on container host Compiler: gcc 11.5.0 20240719 (Red Hat 11.5.0-2) CentOS Stream 10 Kernel: Depends on container host Compiler: gcc 14.2.1 20241104 (Red Hat 14.2.1-6) Fedora 40 (Clang) Kernel: Depends on container host Compiler: clang 18.1.8 (Fedora 18.1.8-1.fc40) Fedora 40 Kernel: Depends on container host Compiler: gcc 14.2.1 20240912 (Red Hat 14.2.1-3) Debian 12 Kernel: Depends on container host Compiler: gcc (Debian 12.2.0-14) 12.2.0 Debian Bullseye Kernel: Depends on container host Compiler: gcc (Debian 10.2.1-6) 10.2.1 20210110 Fedora 41 (Clang) Kernel: Depends on container host Compiler: clang 19.1.5 (Fedora 19.1.5-1.fc41) openSUSE Leap 15 Kernel: Depends on container host Compiler: gcc (SUSE Linux) 7.5.0 RHEL9 Kernel: Depends on container host Compiler: gcc 11.5.0 20240719 (Red Hat 11.5.0-2) Fedora 41 Kernel: Depends on container host Compiler: gcc 14.2.1 20240912 (Red Hat 14.2.1-3) RHEL8 Kernel: Depends on container host Compiler: gcc 8.5.0 20210514 (Red Hat 8.5.0-22) Ubuntu 20.04 Kernel: Depends on container host Compiler: gcc (Ubuntu 9.4.0-1ubuntu1~20.04.2) 9.4.0 Ubuntu 22.04 Kernel: Depends on container host Compiler: gcc (Ubuntu 11.4.0-1ubuntu1~22.04) 11.4.0 Ubuntu 24.04 Kernel: Depends on container host Compiler: gcc (Ubuntu 13.3.0-6ubuntu2~24.04) 13.3.0 Alpine Kernel: Depends on container host Compiler: gcc (Alpine 14.2.0) 14.2.0 FreeBSD 13.4 Kernel: 13.4-RELEASE-p1 Compiler: clang 18.1.6 FreeBSD 14.2 Kernel: 14.2-RELEASE Compiler: clang 18.1.6 To view detailed results, visit: https://lab.dpdk.org/results/dashboard/patchsets/32665/ UNH-IOL DPDK Community Lab To manage your email subscriptions, visit: https://lab.dpdk.org/results/dashboard/preferences/subscriptions/