From mboxrd@z Thu Jan 1 00:00:00 1970 Return-Path: Received: from mails.dpdk.org (mails.dpdk.org [217.70.189.124]) by inbox.dpdk.org (Postfix) with ESMTP id 47536462B3 for ; Tue, 25 Feb 2025 02:15:53 +0100 (CET) Received: from mails.dpdk.org (localhost [127.0.0.1]) by mails.dpdk.org (Postfix) with ESMTP id 3E38140662; Tue, 25 Feb 2025 02:15:53 +0100 (CET) Received: from mail-vk1-f226.google.com (mail-vk1-f226.google.com [209.85.221.226]) by mails.dpdk.org (Postfix) with ESMTP id 0620B402B1 for ; Tue, 25 Feb 2025 02:15:50 +0100 (CET) Received: by mail-vk1-f226.google.com with SMTP id 71dfb90a1353d-520b9dc56afso1186632e0c.1 for ; Mon, 24 Feb 2025 17:15:49 -0800 (PST) DKIM-Signature: v=1; a=rsa-sha256; c=relaxed/relaxed; d=iol.unh.edu; s=unh-iol; t=1740446149; x=1741050949; darn=dpdk.org; h=references:in-reply-to:cc:to:from:subject:message-id:date:from:to :cc:subject:date:message-id:reply-to; bh=nt85e3/owmPVu9zzuMaXx2OKCxB8gJbCZbaJDcjLf8w=; b=GlWftkTjzjsZohfYh2y15IXuDNzO2mkBYyg72OQFiXcjeTNUrEO9CXi4TZJlkgX85k PIeExoLP6tO0NYW89S91Cs4QO0JKxkXkmMET8eRLOq4OSZkPvKpn1KT4+IXAf11hqE6Y bwkKiAnbqbsCdLaNMbVmH0YWaLMdpZpwOjQ4A= X-Google-DKIM-Signature: v=1; a=rsa-sha256; c=relaxed/relaxed; d=1e100.net; s=20230601; t=1740446149; x=1741050949; h=references:in-reply-to:cc:to:from:subject:message-id:date :x-gm-message-state:from:to:cc:subject:date:message-id:reply-to; bh=nt85e3/owmPVu9zzuMaXx2OKCxB8gJbCZbaJDcjLf8w=; b=EjC3IrM/4YpiT1usKdvpirhzDvYSgMfLe3cWjwPSz+k8JtUnM2hG+HItLX/0jjL7xQ cn3M61taQ1E9YqKr4aSEeoBvAml12ACnIeh8B5fd65hLc+8f4UTtNcnV3jy2WknbQftM KwsRK4k9b3ze2qbJWS0ezbEBIBQqIlW7w7toPGwMdMBqsQKiI1sYR6LsZP17PzjLGPXs 6uix4gXX0jQEGaKOg7ASvy8lQdKjyjROzC3II5NZ8BBzhpu/4VGICmfa2xygCCjlrLN5 Leh5ut4LKawKXYDpUXGqGWSOuWsov4eg0eurKSkBA46m8NQJaT1R9nGt3dSc+6kVP/Fq WWnQ== X-Gm-Message-State: AOJu0YwW+XAvuMJYxnWjmGAqNxU2bhLd3YhQBmEf1AF429nOkr2nPZdA fAn6o+ZKlUMKoYPLBGyr4JE8q93x/OhTp41cyV0R29OTU0XxG+2ql6EJFYRCmelQTbcVdeM8tEX ex0QBURtwoXSkFnFVlfQdiTIaBwft7F7ry/argVP3sZHy5zuTsQIsHlTY X-Gm-Gg: ASbGncuz59Ap9dMoYFt/jeSa4QyRN4gEhbr+BsgukUTNA199QMOmQy6T6U+VDfhlYBi 3ExSzCtfhuOlncjBYkvOH2u0X8SLt0PSdxnFTY8dDCIMGNB05rxucRG+vPV+dASROaFOD9/8dp7 UsCYMnvuslaYlQ6pB5rTmael1pqPrXvyShwYaJjVfPZTElIxjNluv8U4wkTmIIhJEpIWn8VAf6I CuAGylvBwltN3omTm9qq1ZwXMssHHIMc771BUS2myur9ble78PAPkBepBiikRP9yAfGGdBNfB3z /W/IiJW/wHhccn3w/5oMWYiZRCctsvuyn32ExGuM2gXlschkiu96 X-Google-Smtp-Source: AGHT+IHVIwB9eNxNBgsZs8YY4gK9xRiOzsPSdgrPTkunxj4vn2HxBfDxe/0s9zyrPVOKVznxTNraJGoaquY2 X-Received: by 2002:a05:6122:1986:b0:520:652b:cdf9 with SMTP id 71dfb90a1353d-5223cc37acamr589796e0c.5.1740446149408; Mon, 24 Feb 2025 17:15:49 -0800 (PST) Received: from postal.iol.unh.edu (postal.iol.unh.edu. [2606:4100:3880:1234::84]) by smtp-relay.gmail.com with ESMTPS id 71dfb90a1353d-5223e170107sm15560e0c.8.2025.02.24.17.15.49 (version=TLS1_2 cipher=ECDHE-ECDSA-AES128-GCM-SHA256 bits=128/128); Mon, 24 Feb 2025 17:15:49 -0800 (PST) X-Relaying-Domain: iol.unh.edu Date: Mon, 24 Feb 2025 17:15:49 -0800 (PST) Message-ID: <67bd19c5.050a0220.14229f.0f2eSMTPIN_ADDED_MISSING@mx.google.com> Received: from [172.21.0.9] (unknown [172.18.0.240]) by postal.iol.unh.edu (Postfix) with ESMTP id D5D176052471; Mon, 24 Feb 2025 20:15:48 -0500 (EST) Subject: |SUCCESS| pw151953-151958 [PATCH] [6/6] dts: restore TG setup and te From: dpdklab@iol.unh.edu To: Test Report Cc: dpdk-test-reports@iol.unh.edu In-Reply-To: <20250224132823.196509-7-luca.vizzarro@arm.com> References: <20250224132823.196509-7-luca.vizzarro@arm.com> Content-Type: text/plain X-BeenThere: test-report@dpdk.org X-Mailman-Version: 2.1.29 Precedence: list List-Id: automatic DPDK test reports List-Unsubscribe: , List-Archive: List-Post: List-Help: List-Subscribe: , Errors-To: test-report-bounces@dpdk.org Test-Label: iol-compile-amd64-testing Test-Status: SUCCESS http://dpdk.org/patch/151958 _Testing PASS_ Submitter: Luca Vizzarro Date: Monday, February 24 2025 13:28:23 DPDK git baseline: Repo:dpdk Branch: master CommitID:bdc023381a2c719fa6cb0e1c60aebd9c8c4afa21 151953-151958 --> testing pass Upstream job id: Generic-DPDK-Compile-Meson#364833 Test environment and result as below: +-------------------+--------------------+-------------------+------------------+ | Environment | dpdk_meson_compile | dpdk_compile_spdk | dpdk_compile_ovs | +===================+====================+===================+==================+ | CentOS Stream 9 | PASS | PASS | SKIPPED | +-------------------+--------------------+-------------------+------------------+ | CentOS Stream 10 | PASS | SKIPPED | SKIPPED | +-------------------+--------------------+-------------------+------------------+ | Fedora 40 (Clang) | PASS | PASS | SKIPPED | +-------------------+--------------------+-------------------+------------------+ | Fedora 40 | PASS | PASS | SKIPPED | +-------------------+--------------------+-------------------+------------------+ | Debian 12 | PASS | PASS | SKIPPED | +-------------------+--------------------+-------------------+------------------+ | Debian Bullseye | PASS | PASS | SKIPPED | +-------------------+--------------------+-------------------+------------------+ | Fedora 41 (Clang) | PASS | PASS | PASS | +-------------------+--------------------+-------------------+------------------+ | openSUSE Leap 15 | PASS | SKIPPED | SKIPPED | +-------------------+--------------------+-------------------+------------------+ | RHEL9 | PASS | SKIPPED | SKIPPED | +-------------------+--------------------+-------------------+------------------+ | Fedora 41 | PASS | PASS | PASS | +-------------------+--------------------+-------------------+------------------+ | RHEL8 | PASS | SKIPPED | SKIPPED | +-------------------+--------------------+-------------------+------------------+ | Ubuntu 20.04 | PASS | SKIPPED | SKIPPED | +-------------------+--------------------+-------------------+------------------+ | Ubuntu 22.04 | PASS | PASS | SKIPPED | +-------------------+--------------------+-------------------+------------------+ | Ubuntu 24.04 | PASS | PASS | PASS | +-------------------+--------------------+-------------------+------------------+ | Alpine | PASS | SKIPPED | SKIPPED | +-------------------+--------------------+-------------------+------------------+ | FreeBSD 13.4 | PASS | SKIPPED | SKIPPED | +-------------------+--------------------+-------------------+------------------+ | FreeBSD 14.2 | PASS | SKIPPED | SKIPPED | +-------------------+--------------------+-------------------+------------------+ CentOS Stream 9 Kernel: Depends on container host Compiler: gcc 11.5.0 20240719 (Red Hat 11.5.0-2) CentOS Stream 10 Kernel: Depends on container host Compiler: gcc 14.2.1 20241104 (Red Hat 14.2.1-6) Fedora 40 (Clang) Kernel: Depends on container host Compiler: clang 18.1.8 (Fedora 18.1.8-1.fc40) Fedora 40 Kernel: Depends on container host Compiler: gcc 14.2.1 20240912 (Red Hat 14.2.1-3) Debian 12 Kernel: Depends on container host Compiler: gcc (Debian 12.2.0-14) 12.2.0 Debian Bullseye Kernel: Depends on container host Compiler: gcc (Debian 10.2.1-6) 10.2.1 20210110 Fedora 41 (Clang) Kernel: Depends on container host Compiler: clang 19.1.5 (Fedora 19.1.5-1.fc41) openSUSE Leap 15 Kernel: Depends on container host Compiler: gcc (SUSE Linux) 7.5.0 RHEL9 Kernel: Depends on container host Compiler: gcc 11.5.0 20240719 (Red Hat 11.5.0-2) Fedora 41 Kernel: Depends on container host Compiler: gcc 14.2.1 20240912 (Red Hat 14.2.1-3) RHEL8 Kernel: Depends on container host Compiler: gcc 8.5.0 20210514 (Red Hat 8.5.0-22) Ubuntu 20.04 Kernel: Depends on container host Compiler: gcc (Ubuntu 9.4.0-1ubuntu1~20.04.2) 9.4.0 Ubuntu 22.04 Kernel: Depends on container host Compiler: gcc (Ubuntu 11.4.0-1ubuntu1~22.04) 11.4.0 Ubuntu 24.04 Kernel: Depends on container host Compiler: gcc (Ubuntu 13.3.0-6ubuntu2~24.04) 13.3.0 Alpine Kernel: Depends on container host Compiler: gcc (Alpine 14.2.0) 14.2.0 FreeBSD 13.4 Kernel: 13.4-RELEASE-p1 Compiler: clang 18.1.6 FreeBSD 14.2 Kernel: 14.2-RELEASE Compiler: clang 18.1.6 To view detailed results, visit: https://lab.dpdk.org/results/dashboard/patchsets/32665/ UNH-IOL DPDK Community Lab To manage your email subscriptions, visit: https://lab.dpdk.org/results/dashboard/preferences/subscriptions/