From mboxrd@z Thu Jan 1 00:00:00 1970 Return-Path: Received: from mails.dpdk.org (mails.dpdk.org [217.70.189.124]) by inbox.dpdk.org (Postfix) with ESMTP id BC88B462B3 for ; Tue, 25 Feb 2025 02:30:37 +0100 (CET) Received: from mails.dpdk.org (localhost [127.0.0.1]) by mails.dpdk.org (Postfix) with ESMTP id B781740662; Tue, 25 Feb 2025 02:30:37 +0100 (CET) Received: from mail-pl1-f226.google.com (mail-pl1-f226.google.com [209.85.214.226]) by mails.dpdk.org (Postfix) with ESMTP id 1FC26402B1 for ; Tue, 25 Feb 2025 02:30:37 +0100 (CET) Received: by mail-pl1-f226.google.com with SMTP id d9443c01a7336-22128b7d587so97601475ad.3 for ; Mon, 24 Feb 2025 17:30:37 -0800 (PST) DKIM-Signature: v=1; a=rsa-sha256; c=relaxed/relaxed; d=iol.unh.edu; s=unh-iol; t=1740447036; x=1741051836; darn=dpdk.org; h=references:in-reply-to:cc:to:from:subject:message-id:date:from:to :cc:subject:date:message-id:reply-to; bh=fiCXURdrzV0D/bPuQriz6zoxFSS2a78O3i0suerZo14=; b=W+LhoUFRQueS/sRPrlzP9siHL5VhHG5EeUEhW4nVPfaYyToHb8PWiHSenCE1Gy+QUA 0VzwHafEaQpjAVAbprrV9Xan1QLMTVExVF7bJoxxcTbN8qHrV9O1+s0Q2A+euhDPy1CG GKCAa9FZAcRUTGqeDyU8zYyFZdDjj5/zMrASk= X-Google-DKIM-Signature: v=1; a=rsa-sha256; c=relaxed/relaxed; d=1e100.net; s=20230601; t=1740447036; x=1741051836; h=references:in-reply-to:cc:to:from:subject:message-id:date :x-gm-message-state:from:to:cc:subject:date:message-id:reply-to; bh=fiCXURdrzV0D/bPuQriz6zoxFSS2a78O3i0suerZo14=; b=As4/XP25PLeo2fIVDT4Oix1wufTVGyPzODUPFOs0qIl/vpRXjjcvLKWirWBDWKKRlL LUbwfP/O0mJc7Jh52cCjSp/9xAcD7KtGoe529OWC0cmKCqA7HXesJQysRi5yMnPWYVp9 25hxQb9Q7RQMP37FrxzxyPgAgiQIOXRM094Keyk4xwTaAddJsT2SzAQ9wnZxjA1TIWCG obNBp9PRsLl5d+PU+PGhfbgobut9vV1j8FHzjgv+T3ZWa009ukCaoSxF8HVVFjbUUob6 0ocMp3KNq1X+a0GB0kuDDuyM39pw2arXlt8o8W7g0DbExsiCFHbt2Pnf108EpQUHss5N 1lwg== X-Gm-Message-State: AOJu0YzrvLcgyYfxTMheAzZZD9XkJQA61gP80U1RoQkm5+6CEyKiyO4v E68lYgSC6T5hwWRvlG3mlGqEFoa6gVQoeUnq5q3WP+NBu7kgQ+lzFvJX3N8y3bkVx5IGjB/Yh8X GhFlGubFu0oYCpUlIOGDvs1X5F9W/PKPtnXbKUX8jZUt9eAF/hK/AOwPx X-Gm-Gg: ASbGncvISCsm3TeSwQwiEkZWV29g6sQfsl+ZiBd9XnVwIvoanxdrel1jGeXmUXOzXRB 68gLLVFo7VPq5jhu2QLaZ5Wfn3hiXuuM79d/DCv+tOyKQaimkpCqQ5Mv2N28H7DjLM3OZ1nM9NG 9k9KKS7GltxrckRZS/zXr5Ns0ZAGsV7KzJ0vrZ0x+vJ+gA1FcOLLMES0eQ+z+J9+iAQ2MgtSvbn rxd5kSGDKaxa5IjohQV+79fSqu+Y/tir4zZ32OtWg8mpMwBr3+iGGou6P1F9o9+3k2LKi2GF38u Wq5Dzn2k6dDMltreWrTCi3u+d5qZozEOE0fh+zWuht3c67yH+4cz X-Google-Smtp-Source: AGHT+IF7ae+PTmRo6f9UdgTGLDquI4aSDlUF71iaA24HqhpAkOxHM0guyWxCBjiVZfWwFQ3Mg3fjckyxaEi+ X-Received: by 2002:a05:6a20:c891:b0:1ee:8435:6b6d with SMTP id adf61e73a8af0-1eef3c490bdmr23613350637.5.1740447036130; Mon, 24 Feb 2025 17:30:36 -0800 (PST) Received: from postal.iol.unh.edu (postal.iol.unh.edu. [2606:4100:3880:1234::84]) by smtp-relay.gmail.com with ESMTPS id 41be03b00d2f7-aedaa161e3esm26573a12.28.2025.02.24.17.30.36 (version=TLS1_2 cipher=ECDHE-ECDSA-AES128-GCM-SHA256 bits=128/128); Mon, 24 Feb 2025 17:30:36 -0800 (PST) X-Relaying-Domain: iol.unh.edu Date: Mon, 24 Feb 2025 17:30:36 -0800 (PST) Message-ID: <67bd1d3c.630a0220.16c470.1ef3SMTPIN_ADDED_MISSING@mx.google.com> Received: from [172.21.0.8] (unknown [172.18.0.240]) by postal.iol.unh.edu (Postfix) with ESMTP id 3E1906052471; Mon, 24 Feb 2025 20:30:35 -0500 (EST) Subject: |SUCCESS| pw151973 [PATCH] [v3,1/1] pcapng: fix null dereference in From: dpdklab@iol.unh.edu To: Test Report Cc: dpdk-test-reports@iol.unh.edu In-Reply-To: <20250224164031.587829-2-ariel.otilibili@6wind.com> References: <20250224164031.587829-2-ariel.otilibili@6wind.com> Content-Type: text/plain X-BeenThere: test-report@dpdk.org X-Mailman-Version: 2.1.29 Precedence: list List-Id: automatic DPDK test reports List-Unsubscribe: , List-Archive: List-Post: List-Help: List-Subscribe: , Errors-To: test-report-bounces@dpdk.org Test-Label: iol-compile-amd64-testing Test-Status: SUCCESS http://dpdk.org/patch/151973 _Testing PASS_ Submitter: Ariel Otilibili Date: Monday, February 24 2025 16:40:31 DPDK git baseline: Repo:dpdk Branch: master CommitID:fab31a03ba98e7457284df95dd9eef2223a4ccaa 151973 --> testing pass Upstream job id: Generic-DPDK-Compile-Meson#364881 Test environment and result as below: +-------------------+--------------------+-------------------+------------------+ | Environment | dpdk_meson_compile | dpdk_compile_spdk | dpdk_compile_ovs | +===================+====================+===================+==================+ | CentOS Stream 9 | PASS | PASS | SKIPPED | +-------------------+--------------------+-------------------+------------------+ | CentOS Stream 10 | PASS | SKIPPED | SKIPPED | +-------------------+--------------------+-------------------+------------------+ | Debian 12 | PASS | PASS | SKIPPED | +-------------------+--------------------+-------------------+------------------+ | Debian Bullseye | PASS | PASS | SKIPPED | +-------------------+--------------------+-------------------+------------------+ | Fedora 40 (Clang) | PASS | PASS | SKIPPED | +-------------------+--------------------+-------------------+------------------+ | Fedora 41 | PASS | PASS | PASS | +-------------------+--------------------+-------------------+------------------+ | openSUSE Leap 15 | PASS | SKIPPED | SKIPPED | +-------------------+--------------------+-------------------+------------------+ | RHEL8 | PASS | SKIPPED | SKIPPED | +-------------------+--------------------+-------------------+------------------+ | Fedora 41 (Clang) | PASS | PASS | PASS | +-------------------+--------------------+-------------------+------------------+ | Fedora 40 | PASS | PASS | SKIPPED | +-------------------+--------------------+-------------------+------------------+ | RHEL9 | PASS | SKIPPED | SKIPPED | +-------------------+--------------------+-------------------+------------------+ | Ubuntu 20.04 | PASS | SKIPPED | SKIPPED | +-------------------+--------------------+-------------------+------------------+ | Ubuntu 22.04 | PASS | PASS | SKIPPED | +-------------------+--------------------+-------------------+------------------+ | Ubuntu 24.04 | PASS | PASS | PASS | +-------------------+--------------------+-------------------+------------------+ | Alpine | PASS | SKIPPED | SKIPPED | +-------------------+--------------------+-------------------+------------------+ | FreeBSD 13.4 | PASS | SKIPPED | SKIPPED | +-------------------+--------------------+-------------------+------------------+ | FreeBSD 14.2 | PASS | SKIPPED | SKIPPED | +-------------------+--------------------+-------------------+------------------+ CentOS Stream 9 Kernel: Depends on container host Compiler: gcc 11.5.0 20240719 (Red Hat 11.5.0-2) CentOS Stream 10 Kernel: Depends on container host Compiler: gcc 14.2.1 20241104 (Red Hat 14.2.1-6) Debian 12 Kernel: Depends on container host Compiler: gcc (Debian 12.2.0-14) 12.2.0 Debian Bullseye Kernel: Depends on container host Compiler: gcc (Debian 10.2.1-6) 10.2.1 20210110 Fedora 40 (Clang) Kernel: Depends on container host Compiler: clang 18.1.8 (Fedora 18.1.8-1.fc40) Fedora 41 Kernel: Depends on container host Compiler: gcc 14.2.1 20240912 (Red Hat 14.2.1-3) openSUSE Leap 15 Kernel: Depends on container host Compiler: gcc (SUSE Linux) 7.5.0 RHEL8 Kernel: Depends on container host Compiler: gcc 8.5.0 20210514 (Red Hat 8.5.0-22) Fedora 41 (Clang) Kernel: Depends on container host Compiler: clang 19.1.5 (Fedora 19.1.5-1.fc41) Fedora 40 Kernel: Depends on container host Compiler: gcc 14.2.1 20240912 (Red Hat 14.2.1-3) RHEL9 Kernel: Depends on container host Compiler: gcc 11.5.0 20240719 (Red Hat 11.5.0-2) Ubuntu 20.04 Kernel: Depends on container host Compiler: gcc (Ubuntu 9.4.0-1ubuntu1~20.04.2) 9.4.0 Ubuntu 22.04 Kernel: Depends on container host Compiler: gcc (Ubuntu 11.4.0-1ubuntu1~22.04) 11.4.0 Ubuntu 24.04 Kernel: Depends on container host Compiler: gcc (Ubuntu 13.3.0-6ubuntu2~24.04) 13.3.0 Alpine Kernel: Depends on container host Compiler: gcc (Alpine 14.2.0) 14.2.0 FreeBSD 13.4 Kernel: 13.4-RELEASE-p1 Compiler: clang 18.1.6 FreeBSD 14.2 Kernel: 14.2-RELEASE Compiler: clang 18.1.6 To view detailed results, visit: https://lab.dpdk.org/results/dashboard/patchsets/32669/ UNH-IOL DPDK Community Lab To manage your email subscriptions, visit: https://lab.dpdk.org/results/dashboard/preferences/subscriptions/