From mboxrd@z Thu Jan 1 00:00:00 1970 Return-Path: Received: from mails.dpdk.org (mails.dpdk.org [217.70.189.124]) by inbox.dpdk.org (Postfix) with ESMTP id 3DF72462B3 for ; Tue, 25 Feb 2025 02:31:45 +0100 (CET) Received: from mails.dpdk.org (localhost [127.0.0.1]) by mails.dpdk.org (Postfix) with ESMTP id 3270540662; Tue, 25 Feb 2025 02:31:45 +0100 (CET) Received: from mail-pl1-f226.google.com (mail-pl1-f226.google.com [209.85.214.226]) by mails.dpdk.org (Postfix) with ESMTP id 05CDA402B1 for ; Tue, 25 Feb 2025 02:31:44 +0100 (CET) Received: by mail-pl1-f226.google.com with SMTP id d9443c01a7336-221050f3f00so114329195ad.2 for ; Mon, 24 Feb 2025 17:31:43 -0800 (PST) DKIM-Signature: v=1; a=rsa-sha256; c=relaxed/relaxed; d=iol.unh.edu; s=unh-iol; t=1740447103; x=1741051903; darn=dpdk.org; h=references:in-reply-to:cc:to:from:subject:message-id:date:from:to :cc:subject:date:message-id:reply-to; bh=0hHFVe4cPlMR+vUmKCDUm4R9x64ETcvFhvL3hVXPuCI=; b=Pu0l9gnIlpBhDe9yJFd3Kdlkl1AEf3h8IVqXF+JxbMFaNntxQxXWP9wur0FgL5zvbk zFIdXnUuKHUWrtRNITRKRJEnXEUTEvtyqmLHbQPO4PzB2JdnxP60fSqpMqotXR0lFn5H sayuOz6+IAQo2r5y/UVdcvZHz7dJ6LOTztGAc= X-Google-DKIM-Signature: v=1; a=rsa-sha256; c=relaxed/relaxed; d=1e100.net; s=20230601; t=1740447103; x=1741051903; h=references:in-reply-to:cc:to:from:subject:message-id:date :x-gm-message-state:from:to:cc:subject:date:message-id:reply-to; bh=0hHFVe4cPlMR+vUmKCDUm4R9x64ETcvFhvL3hVXPuCI=; b=N9ZaaNIr9gZMcbVyI2mfttkxRRJAj0/6H2AR4worDHZ0QgZ8QcmMSrSs00jrYkGvef YMddNK9eaTXCH7uG+E1f2K1gWyCOBQg91nttwOYjrP235ikJiTIa1tinVdGbXuyNj4kF a3z4KB2C+mcG91jRHd7TLDSGukFhTfA9u2F3EmbtK3ZlRWtjoGL6dLWhA9S9pxpxhSpa TZ4PTK2E8yE/jdgPZ1cfn4Cm38t2HUA9w3m3/eJle1MJdhLIIMum829IyaXkEoYe2tyD 3nQpLE23I+YiyRSpRnkh/ICClQOCF+WRX/G3Ip9aloYKF3Vdf+oUmj8s/qIwE7v/fwwr 7zSw== X-Gm-Message-State: AOJu0YwqEle351Rsj3X5gKzAg84AVGsrtIj9A65e2Li2BKIghIeAlWwB G7I11b++xbiAcn+5g0aanDeMh9dXLxEZd/6jMwJixv6gAqt0WivxSH03pMupV0MOIdoWP/Ct+Iq 4QQiDfEDMAsDqR/fC17PSivkSlL5Ra7mzaKSx9oGr4wc2TcSKwi1prHzV X-Gm-Gg: ASbGncundOyVz8brgRJ3Ek6J7TW8kiaJ+9bkc8z2UEZcjYiUwsh4NOxNXkcy48sL8TU grf3FxjpVsrXHHVU4VcPzyTw4XEpuyBAsKtVFaSjKl//Xg1vzMZlrK9vdtFlUfQIiQF/F2ILeIo wlJDGMaoK8k48YFDZu+s/pJ+7yRQdCGdsW8bcNOkTm4Os0jvpalG7ENZ8tCOTTqkIiCtb8BNRC5 qTRKcvANH/mhx46GwJ7cfR2Z9LDO6ER1EO+pdJ6db7awVsOeC7ltvrZlgzm+42ck2Nj85lnsgyT +/Ukr+ps1ZcwzMXOeIWUJBu1sCjV9AIRczfyuOmNsZLaZXNbZpmQ X-Google-Smtp-Source: AGHT+IHej7kqHwyFM6T5RpcB6IfxNwAgNlxNPKLLMSQ1Mv+dsR+D7xPGxFFvHuzt+Imdkd/UfTRw5mnDuUfU X-Received: by 2002:a17:902:e847:b0:215:9d58:6f35 with SMTP id d9443c01a7336-22307b4558dmr21869515ad.1.1740447103148; Mon, 24 Feb 2025 17:31:43 -0800 (PST) Received: from postal.iol.unh.edu (postal.iol.unh.edu. [2606:4100:3880:1234::84]) by smtp-relay.gmail.com with ESMTPS id d9443c01a7336-2230a00032asm217985ad.15.2025.02.24.17.31.43 (version=TLS1_2 cipher=ECDHE-ECDSA-AES128-GCM-SHA256 bits=128/128); Mon, 24 Feb 2025 17:31:43 -0800 (PST) X-Relaying-Domain: iol.unh.edu Date: Mon, 24 Feb 2025 17:31:43 -0800 (PST) Message-ID: <67bd1d7f.170a0220.c3c06.14e1SMTPIN_ADDED_MISSING@mx.google.com> Received: from [172.21.0.9] (unknown [172.18.0.240]) by postal.iol.unh.edu (Postfix) with ESMTP id 8E7F86052471; Mon, 24 Feb 2025 20:31:42 -0500 (EST) Subject: |SUCCESS| pw151973 [PATCH] [v3,1/1] pcapng: fix null dereference in From: dpdklab@iol.unh.edu To: Test Report Cc: dpdk-test-reports@iol.unh.edu In-Reply-To: <20250224164031.587829-2-ariel.otilibili@6wind.com> References: <20250224164031.587829-2-ariel.otilibili@6wind.com> Content-Type: text/plain X-BeenThere: test-report@dpdk.org X-Mailman-Version: 2.1.29 Precedence: list List-Id: automatic DPDK test reports List-Unsubscribe: , List-Archive: List-Post: List-Help: List-Subscribe: , Errors-To: test-report-bounces@dpdk.org Test-Label: iol-compile-amd64-testing Test-Status: SUCCESS http://dpdk.org/patch/151973 _Testing PASS_ Submitter: Ariel Otilibili Date: Monday, February 24 2025 16:40:31 DPDK git baseline: Repo:dpdk Branch: master CommitID:fab31a03ba98e7457284df95dd9eef2223a4ccaa 151973 --> testing pass Upstream job id: Generic-DPDK-Compile-Meson#364874 Test environment and result as below: +-------------------+--------------------+-------------------+------------------+ | Environment | dpdk_meson_compile | dpdk_compile_spdk | dpdk_compile_ovs | +===================+====================+===================+==================+ | CentOS Stream 9 | PASS | PASS | SKIPPED | +-------------------+--------------------+-------------------+------------------+ | CentOS Stream 10 | PASS | SKIPPED | SKIPPED | +-------------------+--------------------+-------------------+------------------+ | Debian 12 | PASS | PASS | SKIPPED | +-------------------+--------------------+-------------------+------------------+ | Debian Bullseye | PASS | PASS | SKIPPED | +-------------------+--------------------+-------------------+------------------+ | Fedora 40 (Clang) | PASS | PASS | SKIPPED | +-------------------+--------------------+-------------------+------------------+ | Fedora 41 | PASS | PASS | PASS | +-------------------+--------------------+-------------------+------------------+ | openSUSE Leap 15 | PASS | SKIPPED | SKIPPED | +-------------------+--------------------+-------------------+------------------+ | RHEL8 | PASS | SKIPPED | SKIPPED | +-------------------+--------------------+-------------------+------------------+ | Fedora 41 (Clang) | PASS | PASS | PASS | +-------------------+--------------------+-------------------+------------------+ | Fedora 40 | PASS | PASS | SKIPPED | +-------------------+--------------------+-------------------+------------------+ | RHEL9 | PASS | SKIPPED | SKIPPED | +-------------------+--------------------+-------------------+------------------+ | Ubuntu 20.04 | PASS | SKIPPED | SKIPPED | +-------------------+--------------------+-------------------+------------------+ | Ubuntu 22.04 | PASS | PASS | SKIPPED | +-------------------+--------------------+-------------------+------------------+ | Ubuntu 24.04 | PASS | PASS | PASS | +-------------------+--------------------+-------------------+------------------+ | Alpine | PASS | SKIPPED | SKIPPED | +-------------------+--------------------+-------------------+------------------+ | FreeBSD 13.4 | PASS | SKIPPED | SKIPPED | +-------------------+--------------------+-------------------+------------------+ | FreeBSD 14.2 | PASS | SKIPPED | SKIPPED | +-------------------+--------------------+-------------------+------------------+ CentOS Stream 9 Kernel: Depends on container host Compiler: gcc 11.5.0 20240719 (Red Hat 11.5.0-2) CentOS Stream 10 Kernel: Depends on container host Compiler: gcc 14.2.1 20241104 (Red Hat 14.2.1-6) Debian 12 Kernel: Depends on container host Compiler: gcc (Debian 12.2.0-14) 12.2.0 Debian Bullseye Kernel: Depends on container host Compiler: gcc (Debian 10.2.1-6) 10.2.1 20210110 Fedora 40 (Clang) Kernel: Depends on container host Compiler: clang 18.1.8 (Fedora 18.1.8-1.fc40) Fedora 41 Kernel: Depends on container host Compiler: gcc 14.2.1 20240912 (Red Hat 14.2.1-3) openSUSE Leap 15 Kernel: Depends on container host Compiler: gcc (SUSE Linux) 7.5.0 RHEL8 Kernel: Depends on container host Compiler: gcc 8.5.0 20210514 (Red Hat 8.5.0-22) Fedora 41 (Clang) Kernel: Depends on container host Compiler: clang 19.1.5 (Fedora 19.1.5-1.fc41) Fedora 40 Kernel: Depends on container host Compiler: gcc 14.2.1 20240912 (Red Hat 14.2.1-3) RHEL9 Kernel: Depends on container host Compiler: gcc 11.5.0 20240719 (Red Hat 11.5.0-2) Ubuntu 20.04 Kernel: Depends on container host Compiler: gcc (Ubuntu 9.4.0-1ubuntu1~20.04.2) 9.4.0 Ubuntu 22.04 Kernel: Depends on container host Compiler: gcc (Ubuntu 11.4.0-1ubuntu1~22.04) 11.4.0 Ubuntu 24.04 Kernel: Depends on container host Compiler: gcc (Ubuntu 13.3.0-6ubuntu2~24.04) 13.3.0 Alpine Kernel: Depends on container host Compiler: gcc (Alpine 14.2.0) 14.2.0 FreeBSD 13.4 Kernel: 13.4-RELEASE-p1 Compiler: clang 18.1.6 FreeBSD 14.2 Kernel: 14.2-RELEASE Compiler: clang 18.1.6 To view detailed results, visit: https://lab.dpdk.org/results/dashboard/patchsets/32669/ UNH-IOL DPDK Community Lab To manage your email subscriptions, visit: https://lab.dpdk.org/results/dashboard/preferences/subscriptions/