From mboxrd@z Thu Jan 1 00:00:00 1970 Return-Path: Received: from mails.dpdk.org (mails.dpdk.org [217.70.189.124]) by inbox.dpdk.org (Postfix) with ESMTP id 2FFDF462B3 for ; Tue, 25 Feb 2025 02:58:09 +0100 (CET) Received: from mails.dpdk.org (localhost [127.0.0.1]) by mails.dpdk.org (Postfix) with ESMTP id 0694540662; Tue, 25 Feb 2025 02:58:09 +0100 (CET) Received: from mail-il1-f226.google.com (mail-il1-f226.google.com [209.85.166.226]) by mails.dpdk.org (Postfix) with ESMTP id C46C7402B1 for ; Tue, 25 Feb 2025 02:58:07 +0100 (CET) Received: by mail-il1-f226.google.com with SMTP id e9e14a558f8ab-3d2b6ed8128so19064695ab.0 for ; Mon, 24 Feb 2025 17:58:07 -0800 (PST) DKIM-Signature: v=1; a=rsa-sha256; c=relaxed/relaxed; d=iol.unh.edu; s=unh-iol; t=1740448687; x=1741053487; darn=dpdk.org; h=references:in-reply-to:cc:to:from:subject:message-id:date:from:to :cc:subject:date:message-id:reply-to; bh=SaiVfZrHUWUyKeZxjtDj/g+4+4j2qUhIfApUaDMOmC8=; b=DVUAKqDtxu/EgbV/oESFEzItkth0cwcBI+HDopFwjZYi+3dbL2kDUpBmPM7gr+t5OI dgM3aiUJGKjlyLQi9vOHjMR6c8cNmCDVnsVkBEpHPUsjCj/2J51SflA4iPUtESYuRfmO DAE0r1QviJnFIvVuMHBuPoUGDhBa6W/+DkmsU= X-Google-DKIM-Signature: v=1; a=rsa-sha256; c=relaxed/relaxed; d=1e100.net; s=20230601; t=1740448687; x=1741053487; h=references:in-reply-to:cc:to:from:subject:message-id:date :x-gm-message-state:from:to:cc:subject:date:message-id:reply-to; bh=SaiVfZrHUWUyKeZxjtDj/g+4+4j2qUhIfApUaDMOmC8=; b=t+I4NIlDcxDSQ4etg/023HvrdfkmkbEFV2hHJ2udT9nVTAC+NCJpe0OGurYFJqmKSt 3E+bX7f5wrDmbdI5LnBw93he4ARV66l+xJ1RGqhScBt4uxbP7mqHoV1a0Lgx2v9vvFMb EIuTdUy0HQx2UalIyLD59jzoeIZRYi3HLs+qRExIGoMjTYebmOzrwM8VzgyRbOofVw72 n14wHMKxygWv3FAatWuCMIxjWcsCAwIHsRtBBz67n1cup9KeQ04lhxnwbq/O/Qoqop4V wlLr9CbDGx9rC7kKGIVl/I6l1ONM1GycjdWi3H2r+vJ5z9IPKHmVXHkpdlSU9ZqZYFd/ 06rw== X-Gm-Message-State: AOJu0Yxn7o8LJDD10LNNI7SlZHPAKGMWchPwtyttvTbYO+bNmuL7SijK 0cBX2JR7RH4L+ld62pcc3SYYXjBedwq0ronrB6uJzQGTWrqqCV8mNvuqSvVcwT4eQN1DEsNoJrP sy8LdaF1lq9Hbu35hU2i5t86dQEG8+Xvs1enEHN9c X-Gm-Gg: ASbGncuY0dkC/dF8mV08yR4zXxahNPRgWesd7oU7DDywu/mOIQZD1JzSG9LDVomxCZH bUfO15D+uwwwklH2N95XiP2GUFFNzL+cRTGPev+afHx+uK6fxloPntjZQesfuJueq1yZe6Yye/d JH6iw6xZsR1XwWTb0vT3/hhaZNN3xLCfF4j5R0y2UPBgMETVKa/onpUQHDCKhdSux7BPoTwAaLu 4yOazQM7XPyrw3B0lFfKbLJUftybH46Ul4P+zqgINzT0cdplBy7H8vi6ONI0QtlyLOzWT6ytPAH 0/kNGdRll21QnVx06pvc3z/mqbxQxafbPdahDyBi X-Google-Smtp-Source: AGHT+IHOHuFXdfgZJYtKBn5IYm0a6irJYFXL6kCXLVJNAy+JJ7LWbnKGdnZgZg14gka4H2XhGBOjJUC3stG6 X-Received: by 2002:a05:6e02:1522:b0:3d2:ed3c:67a8 with SMTP id e9e14a558f8ab-3d2ed3c67c1mr38005325ab.4.1740448687046; Mon, 24 Feb 2025 17:58:07 -0800 (PST) Received: from postal.iol.unh.edu (postal.iol.unh.edu. [132.177.123.84]) by smtp-relay.gmail.com with ESMTPS id 8926c6da1cb9f-4f0475309d5sm39698173.46.2025.02.24.17.58.06 (version=TLS1_2 cipher=ECDHE-ECDSA-AES128-GCM-SHA256 bits=128/128); Mon, 24 Feb 2025 17:58:07 -0800 (PST) X-Relaying-Domain: iol.unh.edu Date: Mon, 24 Feb 2025 17:58:07 -0800 (PST) Message-ID: <67bd23af.050a0220.88930.275fSMTPIN_ADDED_MISSING@mx.google.com> Received: from [172.21.0.9] (unknown [172.18.0.240]) by postal.iol.unh.edu (Postfix) with ESMTP id 68E0B6052471; Mon, 24 Feb 2025 20:58:06 -0500 (EST) Subject: |SUCCESS| pw151973 [PATCH] [v3,1/1] pcapng: fix null dereference in From: dpdklab@iol.unh.edu To: Test Report Cc: dpdk-test-reports@iol.unh.edu In-Reply-To: <20250224164031.587829-2-ariel.otilibili@6wind.com> References: <20250224164031.587829-2-ariel.otilibili@6wind.com> Content-Type: text/plain X-BeenThere: test-report@dpdk.org X-Mailman-Version: 2.1.29 Precedence: list List-Id: automatic DPDK test reports List-Unsubscribe: , List-Archive: List-Post: List-Help: List-Subscribe: , Errors-To: test-report-bounces@dpdk.org Test-Label: iol-sample-apps-testing Test-Status: SUCCESS http://dpdk.org/patch/151973 _Testing PASS_ Submitter: Ariel Otilibili Date: Monday, February 24 2025 16:40:31 DPDK git baseline: Repo:dpdk Branch: master CommitID:fab31a03ba98e7457284df95dd9eef2223a4ccaa 151973 --> testing pass Upstream job id: ACVP-FIPS-testing#9033 Test environment and result as below: +--------------------+----------------------+----------------------+ | Environment | compressdev_zlib_pmd | dpdk_fips_validation | +====================+======================+======================+ | Ubuntu 22.04 (ARM) | PASS | SKIPPED | +--------------------+----------------------+----------------------+ | Ubuntu 22.04 | PASS | SKIPPED | +--------------------+----------------------+----------------------+ | Ubuntu 20.04 | SKIPPED | PASS | +--------------------+----------------------+----------------------+ Ubuntu 22.04 (ARM) Kernel: 5.15.0-97-generic Compiler: gcc gcc (Ubuntu 11.4.0-1ubuntu1~22.04) 11.4.0 Ubuntu 22.04 Kernel: 5.15.0-100-generic Compiler: gcc gcc (Ubuntu 11.4.0-1ubuntu1~22.04) 11.4.0 Ubuntu 20.04 Kernel: Depends on container host Compiler: gcc (Ubuntu 9.4.0-1ubuntu1~20.04.2) 9.4.0 To view detailed results, visit: https://lab.dpdk.org/results/dashboard/patchsets/32669/ UNH-IOL DPDK Community Lab To manage your email subscriptions, visit: https://lab.dpdk.org/results/dashboard/preferences/subscriptions/