From mboxrd@z Thu Jan 1 00:00:00 1970 Return-Path: Received: from mails.dpdk.org (mails.dpdk.org [217.70.189.124]) by inbox.dpdk.org (Postfix) with ESMTP id DBB0C462B3 for ; Tue, 25 Feb 2025 03:19:42 +0100 (CET) Received: from mails.dpdk.org (localhost [127.0.0.1]) by mails.dpdk.org (Postfix) with ESMTP id D518740662; Tue, 25 Feb 2025 03:19:42 +0100 (CET) Received: from mail-yw1-f226.google.com (mail-yw1-f226.google.com [209.85.128.226]) by mails.dpdk.org (Postfix) with ESMTP id EDA22402B1 for ; Tue, 25 Feb 2025 03:19:41 +0100 (CET) Received: by mail-yw1-f226.google.com with SMTP id 00721157ae682-6fb7c373416so40903407b3.0 for ; Mon, 24 Feb 2025 18:19:41 -0800 (PST) DKIM-Signature: v=1; a=rsa-sha256; c=relaxed/relaxed; d=iol.unh.edu; s=unh-iol; t=1740449981; x=1741054781; darn=dpdk.org; h=references:in-reply-to:cc:to:from:subject:message-id:date:from:to :cc:subject:date:message-id:reply-to; bh=DIf3x23OtD/tHuRqNVf0nf0doacV38T4DdDtPLF/xLA=; b=PAJsXd4xivdu9yfPS2z9ULxmbe5hRz5O4w6lmNm1ksJyns1oYkABwxpMxyTJ6DaQx+ TQNBzO5imxZUQTcN1/8zDgaNWLpA7Q5axlC2056+6yRbgNiCM78UMWh52sa0D8g3P52T q2JH1uTJxtrf1NlG4ws9W8w42RnEv5rfnNFPA= X-Google-DKIM-Signature: v=1; a=rsa-sha256; c=relaxed/relaxed; d=1e100.net; s=20230601; t=1740449981; x=1741054781; h=references:in-reply-to:cc:to:from:subject:message-id:date :x-gm-message-state:from:to:cc:subject:date:message-id:reply-to; bh=DIf3x23OtD/tHuRqNVf0nf0doacV38T4DdDtPLF/xLA=; b=R2pY7FcW2o4LgizQgVbNZdwbvLDGQ1sNxgiVX7ILMQpOhpFIxSoDPZpA4bl7ZJvQk3 pFM1quq34RnC9FuJR352OBJxCAslfblVfboYI9zehySPzpex15Be2KDUC1a9I7OciPwd tBFys0BAnxCWTWsJY7949kI7klYpo9koGNd/LnPfQNHbx+kBrODcQi5X0Qweu9AYsHf2 mlvwe2O0w/gY94eAqNhGDdZIyVH28V6/ppsC+W+b6l3qz3OEE+ypVP7alaA2RfWLBpuS dE7MyF0QdNIBr2VhgMhH9QmDyvVE598l7geYR9/W0PeG99JBelb+zW/hcv4giUqnbfBY fkIw== X-Gm-Message-State: AOJu0Yz1V09um7H0rT7JkBp5/qoOLDZVVOuv2tv8fdt/bjJy/BmfYW99 pwp09PnxIdsoCsj4iabvbsQgiArjaMtmzzJsFO0a/fyV9H9c0KK6h5O2loCJS8WoBseogm7ozJI cBkE8EILMVia4OYditOHHUbcbsKIfo+XjQzPwFm/g X-Gm-Gg: ASbGncuynmRX5tX0Lb50PRsp975oyaAr9H0WEzEz1+8t4XES25iSoMpB5YzNRnxIX9d Xg7smxHeGaK/uA2883GqK5YPehN2RMBjsLxMVtU4h/cDL/DcL9VFA7ogsWDSZMdhzOh30bDbdBN tvhuhmLjmDwbDFY3PyyJ4nYuYWMu5O996RymwS1GiGuN41xdYn8jATtdWdDjTpdp4cBmYnut+1y 0SL1hn4/rJ41/sMxHablwVXSfYEhWUW3CZlJW3YX4OfvQh2LHFnA7AYFvSpzZ/VFBti2YGIIvNE Y/uXejIQ7XXjs42Q8Lt/CNQsQEY57sjITmVZAWmE X-Google-Smtp-Source: AGHT+IGQXXuh9eR2QIDBuzoyEzJ+y9Fgc4azLs6VO7XEU5xDoFsdmn5ss/MvaJlzyz0/G/dTt2S5JSEXqND8 X-Received: by 2002:a05:690c:650f:b0:6fb:46dc:d9c4 with SMTP id 00721157ae682-6fbcc235cc0mr113543437b3.12.1740449981323; Mon, 24 Feb 2025 18:19:41 -0800 (PST) Received: from postal.iol.unh.edu (postal.iol.unh.edu. [132.177.123.84]) by smtp-relay.gmail.com with ESMTPS id 00721157ae682-6fd116a2783sm378777b3.20.2025.02.24.18.19.41 (version=TLS1_2 cipher=ECDHE-ECDSA-AES128-GCM-SHA256 bits=128/128); Mon, 24 Feb 2025 18:19:41 -0800 (PST) X-Relaying-Domain: iol.unh.edu Date: Mon, 24 Feb 2025 18:19:41 -0800 (PST) Message-ID: <67bd28bd.0d0a0220.5837d.2365SMTPIN_ADDED_MISSING@mx.google.com> Received: from [172.21.0.8] (unknown [172.18.0.240]) by postal.iol.unh.edu (Postfix) with ESMTP id A85D56052471; Mon, 24 Feb 2025 21:19:40 -0500 (EST) Subject: |SUCCESS| pw151973 [PATCH] [v3,1/1] pcapng: fix null dereference in From: dpdklab@iol.unh.edu To: Test Report Cc: dpdk-test-reports@iol.unh.edu In-Reply-To: <20250224164031.587829-2-ariel.otilibili@6wind.com> References: <20250224164031.587829-2-ariel.otilibili@6wind.com> Content-Type: text/plain X-BeenThere: test-report@dpdk.org X-Mailman-Version: 2.1.29 Precedence: list List-Id: automatic DPDK test reports List-Unsubscribe: , List-Archive: List-Post: List-Help: List-Subscribe: , Errors-To: test-report-bounces@dpdk.org Test-Label: iol-abi-testing Test-Status: SUCCESS http://dpdk.org/patch/151973 _Testing PASS_ Submitter: Ariel Otilibili Date: Monday, February 24 2025 16:40:31 DPDK git baseline: Repo:dpdk Branch: master CommitID:fab31a03ba98e7457284df95dd9eef2223a4ccaa 151973 --> testing pass Upstream job id: Generic-DPDK-Compile-ABI#117583 Test environment and result as below: +-------------------+----------+ | Environment | abi_test | +===================+==========+ | CentOS Stream 9 | PASS | +-------------------+----------+ | Debian Bullseye | PASS | +-------------------+----------+ | Debian 12 | PASS | +-------------------+----------+ | CentOS Stream 10 | PASS | +-------------------+----------+ | Fedora 41 (Clang) | PASS | +-------------------+----------+ | Fedora 41 | PASS | +-------------------+----------+ | Fedora 40 | PASS | +-------------------+----------+ | Fedora 40 (Clang) | PASS | +-------------------+----------+ | RHEL9 | PASS | +-------------------+----------+ | RHEL8 | PASS | +-------------------+----------+ | Ubuntu 22.04 | PASS | +-------------------+----------+ | Ubuntu 24.04 | PASS | +-------------------+----------+ | openSUSE Leap 15 | PASS | +-------------------+----------+ CentOS Stream 9 Kernel: Depends on container host Compiler: gcc 11.5.0 20240719 (Red Hat 11.5.0-2) Debian Bullseye Kernel: Depends on container host Compiler: gcc (Debian 10.2.1-6) 10.2.1 20210110 Debian 12 Kernel: Depends on container host Compiler: gcc (Debian 12.2.0-14) 12.2.0 CentOS Stream 10 Kernel: Depends on container host Compiler: gcc 14.2.1 20241104 (Red Hat 14.2.1-6) Fedora 41 (Clang) Kernel: Depends on container host Compiler: clang 19.1.5 (Fedora 19.1.5-1.fc41) Fedora 41 Kernel: Depends on container host Compiler: gcc 14.2.1 20240912 (Red Hat 14.2.1-3) Fedora 40 Kernel: Depends on container host Compiler: gcc 14.2.1 20240912 (Red Hat 14.2.1-3) Fedora 40 (Clang) Kernel: Depends on container host Compiler: clang 18.1.8 (Fedora 18.1.8-1.fc40) RHEL9 Kernel: Depends on container host Compiler: gcc 11.5.0 20240719 (Red Hat 11.5.0-2) RHEL8 Kernel: Depends on container host Compiler: gcc 8.5.0 20210514 (Red Hat 8.5.0-22) Ubuntu 22.04 Kernel: Depends on container host Compiler: gcc (Ubuntu 11.4.0-1ubuntu1~22.04) 11.4.0 Ubuntu 24.04 Kernel: Depends on container host Compiler: gcc (Ubuntu 13.3.0-6ubuntu2~24.04) 13.3.0 openSUSE Leap 15 Kernel: Depends on container host Compiler: gcc (SUSE Linux) 7.5.0 To view detailed results, visit: https://lab.dpdk.org/results/dashboard/patchsets/32669/ UNH-IOL DPDK Community Lab To manage your email subscriptions, visit: https://lab.dpdk.org/results/dashboard/preferences/subscriptions/