From mboxrd@z Thu Jan 1 00:00:00 1970 Return-Path: Received: from mails.dpdk.org (mails.dpdk.org [217.70.189.124]) by inbox.dpdk.org (Postfix) with ESMTP id DFC45462B3 for ; Tue, 25 Feb 2025 03:28:10 +0100 (CET) Received: from mails.dpdk.org (localhost [127.0.0.1]) by mails.dpdk.org (Postfix) with ESMTP id B889540662; Tue, 25 Feb 2025 03:28:10 +0100 (CET) Received: from mail-yw1-f227.google.com (mail-yw1-f227.google.com [209.85.128.227]) by mails.dpdk.org (Postfix) with ESMTP id 18756402B1 for ; Tue, 25 Feb 2025 03:28:09 +0100 (CET) Received: by mail-yw1-f227.google.com with SMTP id 00721157ae682-6f88509dad2so43227567b3.3 for ; Mon, 24 Feb 2025 18:28:09 -0800 (PST) DKIM-Signature: v=1; a=rsa-sha256; c=relaxed/relaxed; d=iol.unh.edu; s=unh-iol; t=1740450488; x=1741055288; darn=dpdk.org; h=references:in-reply-to:cc:to:from:subject:message-id:date:from:to :cc:subject:date:message-id:reply-to; bh=KLGGRtwf6SNqmsEdr5jlgCo4sCf1wQwqcp4QspZeihM=; b=gnMlUZq0DluGY4oOIKVctmqHnJCvEUfXHg1wLrA28AXIxEcFtjGMTIAc/ptwfrsoYV 80A7XYD6MleGEimyTeK0oCIxGzv6MPkC7SOJmf5S+eH+hKFmEOVybaoFMA8mRfzvdTUT Xb0oY910riZn3yDmDMWTWPPeqFL5rpDp376MU= X-Google-DKIM-Signature: v=1; a=rsa-sha256; c=relaxed/relaxed; d=1e100.net; s=20230601; t=1740450488; x=1741055288; h=references:in-reply-to:cc:to:from:subject:message-id:date :x-gm-message-state:from:to:cc:subject:date:message-id:reply-to; bh=KLGGRtwf6SNqmsEdr5jlgCo4sCf1wQwqcp4QspZeihM=; b=XZ/pg67v32ktQ+o6D9m3E1Ot3e825MZz2l6cJw9nz1P+PqyC272mVThebGECAIyAJQ 2jxSRCBMtbVmavZULGXH7kg7kkpJ3mzwXv5BRSjFDsCK7mO0WH+RCr+lvagDWLU7sY1m 7+Z6FzC8HKYLDTwoK8lNGYJP8xDUd5bGy2N9381+yGLbT72zgPJStebPVGcqt9KPxykE hidtNbb7GRIb4EvjzfputFjd4ZoxiuWNck9niuW2BZ/kD/CGLEV1ST8iZ/ymLE8hLOG6 WzS3gkxTqSsr5ATUNE4bdYbIqjZn36Fi/Bh++KWD1UYzcFNVovw9nClEd/t5nFcUhKvU X8ew== X-Gm-Message-State: AOJu0YyoeZMlPJZJ+oPHASOjq037D+V+igeb6s31kXzMOPmsuGogCsT3 w0/Rn6HtmEAHmvURK2mqP/A4Psqp02U5lN9PLaHVCNA4ziqkl249w7AVH8HXvYOoi/k2bFM+h+5 TvJuHCamvlu9hZUsZL+ZZ/iCMEOV9JhFGmdzmSbB40XpgAV+lqXkM9/QI X-Gm-Gg: ASbGncu6qZHoE0hmROFcrafPYUJVjGaG2Jeo+ugRIGsgb0YSEq3mB8DkRkQsIO4TCqu KiJm+UKIBerRwfDC9ZAR1MKVrNzfYNnrJ6RuI8xjkrLMlVH30YQl0B8E2zjZixf0rFpd3I14swp SQWr+L6bVufl2B9NTcYZJDh+8sumEEwRRmkmyHzxVa4H9WTPJo2z1DEqhJ9wfVzC+uGeIRzVSCv Oo7iHKBOkJDSicuglJEpNBx+iFApdtM1w7fiKG3A6QLRsu5L0EbGdlIp4/YtXBE2ifgo5o2wkWs QSsHYpJMvW9anKfuFV//K+cliWGuyp8NOvQgmtdWymXPwRRJaDw1 X-Google-Smtp-Source: AGHT+IHKIZpCgVa3H775KBPFkG4l99p4lkPM3Xe15/+BBIS3MX0+uYwAi59jxyoeRoiwuXap4VzK9LYCmcbm X-Received: by 2002:a05:690c:6301:b0:6f6:d405:7010 with SMTP id 00721157ae682-6fbcc81787amr137689187b3.29.1740450488399; Mon, 24 Feb 2025 18:28:08 -0800 (PST) Received: from postal.iol.unh.edu (postal.iol.unh.edu. [2606:4100:3880:1234::84]) by smtp-relay.gmail.com with ESMTPS id 00721157ae682-6fd11661e02sm386687b3.5.2025.02.24.18.28.08 (version=TLS1_2 cipher=ECDHE-ECDSA-AES128-GCM-SHA256 bits=128/128); Mon, 24 Feb 2025 18:28:08 -0800 (PST) X-Relaying-Domain: iol.unh.edu Date: Mon, 24 Feb 2025 18:28:08 -0800 (PST) Message-ID: <67bd2ab8.0d0a0220.3b4ce1.2b0aSMTPIN_ADDED_MISSING@mx.google.com> Received: from [172.21.0.8] (unknown [172.18.0.240]) by postal.iol.unh.edu (Postfix) with ESMTP id E4A0A6052471; Mon, 24 Feb 2025 21:28:07 -0500 (EST) Subject: |SUCCESS| pw151964-151971 [PATCH] [v6,10/10] app: enable app directo From: dpdklab@iol.unh.edu To: Test Report Cc: dpdk-test-reports@iol.unh.edu In-Reply-To: <1740414265-12217-11-git-send-email-andremue@linux.microsoft.com> References: <1740414265-12217-11-git-send-email-andremue@linux.microsoft.com> Content-Type: text/plain X-BeenThere: test-report@dpdk.org X-Mailman-Version: 2.1.29 Precedence: list List-Id: automatic DPDK test reports List-Unsubscribe: , List-Archive: List-Post: List-Help: List-Subscribe: , Errors-To: test-report-bounces@dpdk.org Test-Label: iol-unit-amd64-testing Test-Status: SUCCESS http://dpdk.org/patch/151971 _Testing PASS_ Submitter: Andre Muezerie Date: Monday, February 24 2025 16:24:25 DPDK git baseline: Repo:dpdk Branch: master CommitID:fab31a03ba98e7457284df95dd9eef2223a4ccaa 151964-151971 --> testing pass Upstream job id: Generic-Unit-Test-DPDK#318050 Test environment and result as below: +---------------------+----------------+ | Environment | dpdk_unit_test | +=====================+================+ | CentOS Stream 9 | PASS | +---------------------+----------------+ | CentOS Stream 10 | PASS | +---------------------+----------------+ | Debian Bullseye | PASS | +---------------------+----------------+ | Debian 12 | PASS | +---------------------+----------------+ | Fedora 40 | PASS | +---------------------+----------------+ | Fedora 41 | PASS | +---------------------+----------------+ | Fedora 41 (Clang) | PASS | +---------------------+----------------+ | Fedora 40 (Clang) | PASS | +---------------------+----------------+ | RHEL8 | PASS | +---------------------+----------------+ | Ubuntu 22.04 | PASS | +---------------------+----------------+ | RHEL9 | PASS | +---------------------+----------------+ | Ubuntu 20.04 | PASS | +---------------------+----------------+ | Ubuntu 24.04 | PASS | +---------------------+----------------+ | Windows Server 2022 | PASS | +---------------------+----------------+ CentOS Stream 9 Kernel: Depends on container host Compiler: gcc 11.5.0 20240719 (Red Hat 11.5.0-2) CentOS Stream 10 Kernel: Depends on container host Compiler: gcc 14.2.1 20241104 (Red Hat 14.2.1-6) Debian Bullseye Kernel: Depends on container host Compiler: gcc (Debian 10.2.1-6) 10.2.1 20210110 Debian 12 Kernel: Depends on container host Compiler: gcc (Debian 12.2.0-14) 12.2.0 Fedora 40 Kernel: Depends on container host Compiler: gcc 14.2.1 20240912 (Red Hat 14.2.1-3) Fedora 41 Kernel: Depends on container host Compiler: gcc 14.2.1 20240912 (Red Hat 14.2.1-3) Fedora 41 (Clang) Kernel: Depends on container host Compiler: clang 19.1.5 (Fedora 19.1.5-1.fc41) Fedora 40 (Clang) Kernel: Depends on container host Compiler: clang 18.1.8 (Fedora 18.1.8-1.fc40) RHEL8 Kernel: Depends on container host Compiler: gcc 8.5.0 20210514 (Red Hat 8.5.0-22) Ubuntu 22.04 Kernel: Depends on container host Compiler: gcc (Ubuntu 11.4.0-1ubuntu1~22.04) 11.4.0 RHEL9 Kernel: Depends on container host Compiler: gcc 11.5.0 20240719 (Red Hat 11.5.0-2) Ubuntu 20.04 Kernel: Depends on container host Compiler: gcc (Ubuntu 9.4.0-1ubuntu1~20.04.2) 9.4.0 Ubuntu 24.04 Kernel: Depends on container host Compiler: gcc (Ubuntu 13.3.0-6ubuntu2~24.04) 13.3.0 Windows Server 2022 Kernel: 10.0.20348.2031 Compiler: clang 15.0.7, gcc 14.1.0 (MinGW), and MSVC VS 19.39.33521 To view detailed results, visit: https://lab.dpdk.org/results/dashboard/patchsets/32668/ UNH-IOL DPDK Community Lab To manage your email subscriptions, visit: https://lab.dpdk.org/results/dashboard/preferences/subscriptions/