From mboxrd@z Thu Jan 1 00:00:00 1970 Return-Path: Received: from mails.dpdk.org (mails.dpdk.org [217.70.189.124]) by inbox.dpdk.org (Postfix) with ESMTP id 3FA2F462B3 for ; Tue, 25 Feb 2025 03:41:02 +0100 (CET) Received: from mails.dpdk.org (localhost [127.0.0.1]) by mails.dpdk.org (Postfix) with ESMTP id 1859C40662; Tue, 25 Feb 2025 03:41:02 +0100 (CET) Received: from mail-qk1-f228.google.com (mail-qk1-f228.google.com [209.85.222.228]) by mails.dpdk.org (Postfix) with ESMTP id 1911F402B1 for ; Tue, 25 Feb 2025 03:41:01 +0100 (CET) Received: by mail-qk1-f228.google.com with SMTP id af79cd13be357-7c0155af484so754486985a.0 for ; Mon, 24 Feb 2025 18:41:00 -0800 (PST) DKIM-Signature: v=1; a=rsa-sha256; c=relaxed/relaxed; d=iol.unh.edu; s=unh-iol; t=1740451260; x=1741056060; darn=dpdk.org; h=references:in-reply-to:cc:to:from:subject:message-id:date:from:to :cc:subject:date:message-id:reply-to; bh=8KGeXu7nl9ANoU/cyu88RLKIcU66fMr1eV9tNfWbpoQ=; b=BtnSGBHiu065JbzfBxW28X+82l8DnZgpWBbrFMv+Y5PMiKeZhWfXSjtnKAGJ8KGwYI AKaus0nv/hOk8wsjbMk+7j3oJNF4FcbAULPkPSkdwkNym/57l0foBu9ZPg0/eoL4Tyuh qR8/mMSSD3k6AET7thDSUbqDy7EPZNuv5GuGc= X-Google-DKIM-Signature: v=1; a=rsa-sha256; c=relaxed/relaxed; d=1e100.net; s=20230601; t=1740451260; x=1741056060; h=references:in-reply-to:cc:to:from:subject:message-id:date :x-gm-message-state:from:to:cc:subject:date:message-id:reply-to; bh=8KGeXu7nl9ANoU/cyu88RLKIcU66fMr1eV9tNfWbpoQ=; b=o7gVYx+KNfok6ZdZ6FEWeqAcgAuPWqT7P2JtOJnwjLqVm371AvzBwdeuO56itzvuhI LrTg7+bm6ImnnjddRaoQGohNAoHyrfJBz+lZroCyp5rqQEEOpRqoBgqGv/b8dib7VY/4 atijW88RTrCOpCDKAU0cv9VLyoLJFI++udR6HivT8lhJuQgkEQ6lGnYaBi6uHyECWsZw xKRu4xbrYaB/kfuBeVg3AGlVmiJabv1tIh9StimKMuEHBNAwF73c4DD+iy3WGtEvF5Vc Vak+dtk0P4L+m1X8f/h02bXyfcsotX6nILfUD3rcT/latndixcmO00cgfS3WJ2LRebP7 lGGA== X-Gm-Message-State: AOJu0YyKd6OyAWn0hcPwuw1uCCiKIPLgfgvzh7mcF4iH5HyJ86jmSvtc NoRvO8RGczQslC/+qWWfJJvnGIvF59kQutmsgCEtIYpjsMJVji1nbAb2x3oscvJoZZnDelzJJC+ U/Y29ajCBeAugBwNH8y8QO0/mpzZaVARV2AU+0st05srdT0VMWms7/qjZ X-Gm-Gg: ASbGncsYi57/FWN2a17ynMkA/jOw2YJpjL2rp/mRPVp3urjaB4Dk2Mgsdj5GofnKzMY SsHKWESBekXJ3XBNYrQ+aDqIatDBjgHo83VrCakOVE4hWh2OIVUp7e7wVS34g1kxXyt5D2rbbRu Y2pWiW2jF8b+PtplFsu7P89MnM39mcgX/lLajc3Gb5ESNvR6RxL6CMiFWHIS7cDJjsjlLPSWftM wftmR8nWskeA0OfRljrxBmyIgPhU6ArItt821JRa5B7+BDcGd1WE8D38WMUKfKEYw7Kwzs250MB fN398gtWp6CnsuQJYG85lrOZgivYWSQWTvtxhkRCePS+T2VkuELW X-Google-Smtp-Source: AGHT+IGzR3mxnnK9pLcymvL+rqKRRuskFGebs3oNGOXq3Xcf0RkEc3N3P+e3fuLQ9dspf0oKA303r0KVk6LL X-Received: by 2002:a05:620a:f04:b0:7c0:c201:1e0b with SMTP id af79cd13be357-7c23be113aemr179936785a.17.1740451260309; Mon, 24 Feb 2025 18:41:00 -0800 (PST) Received: from postal.iol.unh.edu (postal.iol.unh.edu. [2606:4100:3880:1234::84]) by smtp-relay.gmail.com with ESMTPS id 6a1803df08f44-6e87b0da371sm349796d6.51.2025.02.24.18.41.00 (version=TLS1_2 cipher=ECDHE-ECDSA-AES128-GCM-SHA256 bits=128/128); Mon, 24 Feb 2025 18:41:00 -0800 (PST) X-Relaying-Domain: iol.unh.edu Date: Mon, 24 Feb 2025 18:41:00 -0800 (PST) Message-ID: <67bd2dbc.050a0220.279684.21c8SMTPIN_ADDED_MISSING@mx.google.com> Received: from [172.17.0.5] (unknown [172.18.0.217]) by postal.iol.unh.edu (Postfix) with ESMTP id C5E9B6052471; Mon, 24 Feb 2025 21:40:59 -0500 (EST) Subject: |SUCCESS| pw151964-151971 [PATCH] [v6,10/10] app: enable app directo From: dpdklab@iol.unh.edu To: Test Report Cc: dpdk-test-reports@iol.unh.edu In-Reply-To: <1740414265-12217-11-git-send-email-andremue@linux.microsoft.com> References: <1740414265-12217-11-git-send-email-andremue@linux.microsoft.com> Content-Type: text/plain X-BeenThere: test-report@dpdk.org X-Mailman-Version: 2.1.29 Precedence: list List-Id: automatic DPDK test reports List-Unsubscribe: , List-Archive: List-Post: List-Help: List-Subscribe: , Errors-To: test-report-bounces@dpdk.org Test-Label: iol-unit-arm64-testing Test-Status: SUCCESS http://dpdk.org/patch/151971 _Testing PASS_ Submitter: Andre Muezerie Date: Monday, February 24 2025 16:24:25 DPDK git baseline: Repo:dpdk Branch: master CommitID:fab31a03ba98e7457284df95dd9eef2223a4ccaa 151964-151971 --> testing pass Upstream job id: Generic-Unit-Test-DPDK#318051 Test environment and result as below: +-----------------------------+----------------+--------------+------------------------------+---------------------------+ | Environment | dpdk_unit_test | lpm_autotest | cryptodev_sw_snow3g_autotest | cryptodev_sw_zuc_autotest | +=============================+================+==============+==============================+===========================+ | CentOS Stream 9 (ARM) | PASS | SKIPPED | SKIPPED | SKIPPED | +-----------------------------+----------------+--------------+------------------------------+---------------------------+ | Debian 12 (arm) | PASS | SKIPPED | PASS | PASS | +-----------------------------+----------------+--------------+------------------------------+---------------------------+ | CentOS Stream 10 (ARM) | PASS | SKIPPED | SKIPPED | SKIPPED | +-----------------------------+----------------+--------------+------------------------------+---------------------------+ | Debian 11 (Buster) (ARM) | PASS | SKIPPED | SKIPPED | SKIPPED | +-----------------------------+----------------+--------------+------------------------------+---------------------------+ | Fedora 41 (ARM) | PASS | SKIPPED | SKIPPED | SKIPPED | +-----------------------------+----------------+--------------+------------------------------+---------------------------+ | 32-bit Ubuntu 22.04.4 (ARM) | PASS | SKIPPED | SKIPPED | SKIPPED | +-----------------------------+----------------+--------------+------------------------------+---------------------------+ | Fedora 40 (ARM) | PASS | SKIPPED | SKIPPED | SKIPPED | +-----------------------------+----------------+--------------+------------------------------+---------------------------+ | Fedora 40 (ARM Clang) | PASS | SKIPPED | SKIPPED | SKIPPED | +-----------------------------+----------------+--------------+------------------------------+---------------------------+ | RHEL9 (ARM) | PASS | SKIPPED | SKIPPED | SKIPPED | +-----------------------------+----------------+--------------+------------------------------+---------------------------+ | Ubuntu 20.04 (ARM) | PASS | SKIPPED | SKIPPED | SKIPPED | +-----------------------------+----------------+--------------+------------------------------+---------------------------+ | Fedora 41 (ARM Clang) | PASS | SKIPPED | SKIPPED | SKIPPED | +-----------------------------+----------------+--------------+------------------------------+---------------------------+ | Ubuntu 22.04 (ARM) | PASS | SKIPPED | SKIPPED | SKIPPED | +-----------------------------+----------------+--------------+------------------------------+---------------------------+ | Ubuntu 24.04 (ARM) | PASS | SKIPPED | SKIPPED | SKIPPED | +-----------------------------+----------------+--------------+------------------------------+---------------------------+ | Ubuntu 20.04 ARM SVE | SKIPPED | PASS | SKIPPED | SKIPPED | +-----------------------------+----------------+--------------+------------------------------+---------------------------+ CentOS Stream 9 (ARM) Kernel: Depends on container host Compiler: gcc 11.5.0 20240719 (Red Hat 11.5.0-2) Debian 12 (arm) Kernel: Depends on container host Compiler: gcc (Debian 12.2.0-14) 12.2.0 CentOS Stream 10 (ARM) Kernel: Depends on container host Compiler: gcc 14.2.1 20241104 (Red Hat 14.2.1-6) Debian 11 (Buster) (ARM) Kernel: Depends on container host Compiler: gcc (Debian 10.2.1-6) 10.2.1 20210110 Fedora 41 (ARM) Kernel: Depends on container host Compiler: gcc 14.2.1 20240912 (Red Hat 14.2.1-3) 32-bit Ubuntu 22.04.4 (ARM) Kernel: 5.15.83+ aarch64 Compiler: gcc (Ubuntu 11.4.0-1ubuntu1~22.04) 11.4.0 Fedora 40 (ARM) Kernel: Depends on container host Compiler: gcc 14.2.1 20240912 (Red Hat 14.2.1-3) Fedora 40 (ARM Clang) Kernel: Depends on container host Compiler: clang 18.1.8 (Fedora 18.1.8-1.fc40) RHEL9 (ARM) Kernel: Depends on container host Compiler: gcc 11.5.0 20240719 (Red Hat 11.5.0-2) Ubuntu 20.04 (ARM) Kernel: Depends on container host Compiler: gcc (Ubuntu 9.4.0-1ubuntu1~20.04.2) 9.4.0 Fedora 41 (ARM Clang) Kernel: Depends on container host Compiler: clang 19.1.5 (Fedora 19.1.5-1.fc41) Ubuntu 22.04 (ARM) Kernel: Depends on container host Compiler: gcc (Ubuntu 11.4.0-1ubuntu1~22.04) 11.4.0 Ubuntu 24.04 (ARM) Kernel: Depends on container host Compiler: gcc (Ubuntu 13.3.0-6ubuntu2~24.04) 13.3.0 Ubuntu 20.04 ARM SVE Kernel: Depends on container host Compiler: gcc (Ubuntu 10.5.0-1ubuntu1~20.04) 10.5.0 To view detailed results, visit: https://lab.dpdk.org/results/dashboard/patchsets/32668/ UNH-IOL DPDK Community Lab To manage your email subscriptions, visit: https://lab.dpdk.org/results/dashboard/preferences/subscriptions/