From mboxrd@z Thu Jan 1 00:00:00 1970 Return-Path: Received: from mails.dpdk.org (mails.dpdk.org [217.70.189.124]) by inbox.dpdk.org (Postfix) with ESMTP id 7A5AA462B3 for ; Tue, 25 Feb 2025 03:52:03 +0100 (CET) Received: from mails.dpdk.org (localhost [127.0.0.1]) by mails.dpdk.org (Postfix) with ESMTP id 73C4440662; Tue, 25 Feb 2025 03:52:03 +0100 (CET) Received: from mail-yw1-f227.google.com (mail-yw1-f227.google.com [209.85.128.227]) by mails.dpdk.org (Postfix) with ESMTP id C2A5F402B1 for ; Tue, 25 Feb 2025 03:52:02 +0100 (CET) Received: by mail-yw1-f227.google.com with SMTP id 00721157ae682-6fbaa0582a6so43016987b3.1 for ; Mon, 24 Feb 2025 18:52:02 -0800 (PST) DKIM-Signature: v=1; a=rsa-sha256; c=relaxed/relaxed; d=iol.unh.edu; s=unh-iol; t=1740451922; x=1741056722; darn=dpdk.org; h=references:in-reply-to:cc:to:from:subject:message-id:date:from:to :cc:subject:date:message-id:reply-to; bh=banIWhlfqQ/Xw8KGUbgBZ5+148TdQOWFPhXOoylvv/0=; b=UZFMHl7TGN/xNg9oXtG9j51SoLLJDiWa1YmW12WGPhfvj1qIg7y0/b5l8lujB7umIX J1QLKZ3soDaTGVxa5rpGoVYdSzpp2K6DK9E07vNX6GI58PzASlt5Wwu2vuQcpY60kuE4 2rE+qyPctXugk533L3PQU4ATH8f7noqLmR6Sw= X-Google-DKIM-Signature: v=1; a=rsa-sha256; c=relaxed/relaxed; d=1e100.net; s=20230601; t=1740451922; x=1741056722; h=references:in-reply-to:cc:to:from:subject:message-id:date :x-gm-message-state:from:to:cc:subject:date:message-id:reply-to; bh=banIWhlfqQ/Xw8KGUbgBZ5+148TdQOWFPhXOoylvv/0=; b=JQgyC0EiE2YDAs67WcFGtMvIlocAmm/Be0la7o83no4OPagvVBTCGnlDci8j0zumWK uiZH9MpVzLR3KVw/m1Djns+eJbfLTv7hooQJpyuF5YoInLS2RbW+HfKI/RbhJb9DADKv owwQ24Ohmy4ewE8DioPtkvWdZJvHt1ph+RnVBxlShiyzX8UxcSd/1OLxz90EDY2jubxS CkbOgpuYBx0ibK+Scup2e9RIPzVT70nh7VttShsAsJw+PKzTQp00yabdV3mKzEPqe89j WtdkSKRO4uFlWdOyDAtFqh5lFLyLJAyPEnh314krt2vC2hzCU2K+IiyedkD0Rs68fLBT xmPg== X-Gm-Message-State: AOJu0Yzqo0Fghfd3aeX+7ze4+10obAxUyMkQWx1DLfcdZaTFdEXaXZC7 KuWCvd5jKLdITaPXjJVfDFLDSTCOneGaSBV4GTQZBBCsRmbjG3NrNfepHW0BuUVdjV9HWRYuCkh nopRWTjjr/2j0O+pDDIiismpara0NiJ7K2F6LXPtUlzzrvIxB787wj9I3 X-Gm-Gg: ASbGncu0sfrwuZ3uvIqNe8yopzKt6hG8xh9L+N5Ux+2l4F1wCbL9O2ki8AULskRTKvr aarKKsJpQ5Uam7wvIkpxKOcxNB5leIzm84s15pU+c0TP6BmSRAPpiLASjx3mkBEUA3937Ff69Zk goLJA5oXuRUkSlCGlzBxZXlqGuMoR3gyCM3Ru1CKBdmGKCQ+AENwINNBmAmRnmbTPq2k+yPZ8Bz W3RhXCtJJ2as89VFV8a0J2lwBynvnAZUYO7R1jqe81G4Cv2aTVzg/PvhLqiau1swmnnFdczLchs /YRizO/t7GXqogHyJPaM3+e3gbnBXOk4riPPlCf6HoRa6uSw9A2U X-Google-Smtp-Source: AGHT+IGjahBlQzqy+N17FyoPGG0TRjV0oU+J335G+XdMqF2RAofWF20arjarBh/jMYiWjMVmN/x37yKNu4kM X-Received: by 2002:a05:6902:a84:b0:e5d:cd86:752e with SMTP id 3f1490d57ef6-e5e19252e3bmr17611572276.21.1740451921949; Mon, 24 Feb 2025 18:52:01 -0800 (PST) Received: from postal.iol.unh.edu (postal.iol.unh.edu. [2606:4100:3880:1234::84]) by smtp-relay.gmail.com with ESMTPS id 3f1490d57ef6-e607b3f14aasm26847276.10.2025.02.24.18.52.01 (version=TLS1_2 cipher=ECDHE-ECDSA-AES128-GCM-SHA256 bits=128/128); Mon, 24 Feb 2025 18:52:01 -0800 (PST) X-Relaying-Domain: iol.unh.edu Date: Mon, 24 Feb 2025 18:52:01 -0800 (PST) Message-ID: <67bd3051.250a0220.58194.18a2SMTPIN_ADDED_MISSING@mx.google.com> Received: from [172.21.0.7] (unknown [172.18.0.240]) by postal.iol.unh.edu (Postfix) with ESMTP id 8AA336052471; Mon, 24 Feb 2025 21:52:01 -0500 (EST) Subject: |SUCCESS| pw151953-151958 [PATCH] [6/6] dts: restore TG setup and te From: dpdklab@iol.unh.edu To: Test Report Cc: dpdk-test-reports@iol.unh.edu In-Reply-To: <20250224132823.196509-7-luca.vizzarro@arm.com> References: <20250224132823.196509-7-luca.vizzarro@arm.com> Content-Type: text/plain X-BeenThere: test-report@dpdk.org X-Mailman-Version: 2.1.29 Precedence: list List-Id: automatic DPDK test reports List-Unsubscribe: , List-Archive: List-Post: List-Help: List-Subscribe: , Errors-To: test-report-bounces@dpdk.org Test-Label: iol-compile-amd64-testing Test-Status: SUCCESS http://dpdk.org/patch/151958 _Testing PASS_ Submitter: Luca Vizzarro Date: Monday, February 24 2025 13:28:23 DPDK git baseline: Repo:dpdk Branch: master CommitID:bdc023381a2c719fa6cb0e1c60aebd9c8c4afa21 151953-151958 --> testing pass Upstream job id: Windows-Compile-DPDK-Native#26886 Test environment and result as below: +---------------------+--------------------+-------------------+------------------+-------------------------+----------------------+ | Environment | dpdk_meson_compile | dpdk_compile_spdk | dpdk_compile_ovs | dpdk_llvm_clang_compile | dpdk_mingw64_compile | +=====================+====================+===================+==================+=========================+======================+ | CentOS Stream 9 | PASS | PASS | SKIPPED | SKIPPED | SKIPPED | +---------------------+--------------------+-------------------+------------------+-------------------------+----------------------+ | CentOS Stream 10 | PASS | SKIPPED | SKIPPED | SKIPPED | SKIPPED | +---------------------+--------------------+-------------------+------------------+-------------------------+----------------------+ | Fedora 40 (Clang) | PASS | PASS | SKIPPED | SKIPPED | SKIPPED | +---------------------+--------------------+-------------------+------------------+-------------------------+----------------------+ | Fedora 40 | PASS | PASS | SKIPPED | SKIPPED | SKIPPED | +---------------------+--------------------+-------------------+------------------+-------------------------+----------------------+ | Debian 12 | PASS | PASS | SKIPPED | SKIPPED | SKIPPED | +---------------------+--------------------+-------------------+------------------+-------------------------+----------------------+ | Debian Bullseye | PASS | PASS | SKIPPED | SKIPPED | SKIPPED | +---------------------+--------------------+-------------------+------------------+-------------------------+----------------------+ | Fedora 41 (Clang) | PASS | PASS | PASS | SKIPPED | SKIPPED | +---------------------+--------------------+-------------------+------------------+-------------------------+----------------------+ | openSUSE Leap 15 | PASS | SKIPPED | SKIPPED | SKIPPED | SKIPPED | +---------------------+--------------------+-------------------+------------------+-------------------------+----------------------+ | RHEL9 | PASS | SKIPPED | SKIPPED | SKIPPED | SKIPPED | +---------------------+--------------------+-------------------+------------------+-------------------------+----------------------+ | Fedora 41 | PASS | PASS | PASS | SKIPPED | SKIPPED | +---------------------+--------------------+-------------------+------------------+-------------------------+----------------------+ | RHEL8 | PASS | SKIPPED | SKIPPED | SKIPPED | SKIPPED | +---------------------+--------------------+-------------------+------------------+-------------------------+----------------------+ | Ubuntu 20.04 | PASS | SKIPPED | SKIPPED | SKIPPED | SKIPPED | +---------------------+--------------------+-------------------+------------------+-------------------------+----------------------+ | Ubuntu 22.04 | PASS | PASS | SKIPPED | SKIPPED | SKIPPED | +---------------------+--------------------+-------------------+------------------+-------------------------+----------------------+ | Ubuntu 24.04 | PASS | PASS | PASS | SKIPPED | SKIPPED | +---------------------+--------------------+-------------------+------------------+-------------------------+----------------------+ | Alpine | PASS | SKIPPED | SKIPPED | SKIPPED | SKIPPED | +---------------------+--------------------+-------------------+------------------+-------------------------+----------------------+ | FreeBSD 13.4 | PASS | SKIPPED | SKIPPED | SKIPPED | SKIPPED | +---------------------+--------------------+-------------------+------------------+-------------------------+----------------------+ | FreeBSD 14.2 | PASS | SKIPPED | SKIPPED | SKIPPED | SKIPPED | +---------------------+--------------------+-------------------+------------------+-------------------------+----------------------+ | Windows Server 2022 | SKIPPED | SKIPPED | SKIPPED | PASS | PASS | +---------------------+--------------------+-------------------+------------------+-------------------------+----------------------+ CentOS Stream 9 Kernel: Depends on container host Compiler: gcc 11.5.0 20240719 (Red Hat 11.5.0-2) CentOS Stream 10 Kernel: Depends on container host Compiler: gcc 14.2.1 20241104 (Red Hat 14.2.1-6) Fedora 40 (Clang) Kernel: Depends on container host Compiler: clang 18.1.8 (Fedora 18.1.8-1.fc40) Fedora 40 Kernel: Depends on container host Compiler: gcc 14.2.1 20240912 (Red Hat 14.2.1-3) Debian 12 Kernel: Depends on container host Compiler: gcc (Debian 12.2.0-14) 12.2.0 Debian Bullseye Kernel: Depends on container host Compiler: gcc (Debian 10.2.1-6) 10.2.1 20210110 Fedora 41 (Clang) Kernel: Depends on container host Compiler: clang 19.1.5 (Fedora 19.1.5-1.fc41) openSUSE Leap 15 Kernel: Depends on container host Compiler: gcc (SUSE Linux) 7.5.0 RHEL9 Kernel: Depends on container host Compiler: gcc 11.5.0 20240719 (Red Hat 11.5.0-2) Fedora 41 Kernel: Depends on container host Compiler: gcc 14.2.1 20240912 (Red Hat 14.2.1-3) RHEL8 Kernel: Depends on container host Compiler: gcc 8.5.0 20210514 (Red Hat 8.5.0-22) Ubuntu 20.04 Kernel: Depends on container host Compiler: gcc (Ubuntu 9.4.0-1ubuntu1~20.04.2) 9.4.0 Ubuntu 22.04 Kernel: Depends on container host Compiler: gcc (Ubuntu 11.4.0-1ubuntu1~22.04) 11.4.0 Ubuntu 24.04 Kernel: Depends on container host Compiler: gcc (Ubuntu 13.3.0-6ubuntu2~24.04) 13.3.0 Alpine Kernel: Depends on container host Compiler: gcc (Alpine 14.2.0) 14.2.0 FreeBSD 13.4 Kernel: 13.4-RELEASE-p1 Compiler: clang 18.1.6 FreeBSD 14.2 Kernel: 14.2-RELEASE Compiler: clang 18.1.6 Windows Server 2022 Kernel: 10.0.20348.2031 Compiler: clang 15.0.7, gcc 14.1.0 (MinGW), and MSVC VS 19.39.33521 To view detailed results, visit: https://lab.dpdk.org/results/dashboard/patchsets/32665/ UNH-IOL DPDK Community Lab To manage your email subscriptions, visit: https://lab.dpdk.org/results/dashboard/preferences/subscriptions/