From mboxrd@z Thu Jan 1 00:00:00 1970 Return-Path: Received: from mails.dpdk.org (mails.dpdk.org [217.70.189.124]) by inbox.dpdk.org (Postfix) with ESMTP id DEFD1462B3 for ; Tue, 25 Feb 2025 04:00:02 +0100 (CET) Received: from mails.dpdk.org (localhost [127.0.0.1]) by mails.dpdk.org (Postfix) with ESMTP id 413DC40662; Tue, 25 Feb 2025 04:00:02 +0100 (CET) Received: from mail-qt1-f225.google.com (mail-qt1-f225.google.com [209.85.160.225]) by mails.dpdk.org (Postfix) with ESMTP id C39CD402B1 for ; Tue, 25 Feb 2025 04:00:00 +0100 (CET) Received: by mail-qt1-f225.google.com with SMTP id d75a77b69052e-46fa764aac2so45694081cf.1 for ; Mon, 24 Feb 2025 19:00:00 -0800 (PST) DKIM-Signature: v=1; a=rsa-sha256; c=relaxed/relaxed; d=iol.unh.edu; s=unh-iol; t=1740452400; x=1741057200; darn=dpdk.org; h=references:in-reply-to:cc:to:from:subject:message-id:date:from:to :cc:subject:date:message-id:reply-to; bh=XVZn80omu3ELfM1B8S+ORJohJPAOSoKp4tdwVZlVRwo=; b=D4eB8RsWPvXtYR4gAAvWsY2p13X/c0mV2uRwmxLN0wGhFrruF/CHy7pMF5NP3Ajsq0 xiEb2MTZECDTwcI/oDpTivhJnQ9Eaw+n1BE/XUv+v5t3jlX+ExR6GOGur0AeP4fjMl7h ab3wawZ3t0pfWEOU7/WB8cLrplXL5SHibVyn8= X-Google-DKIM-Signature: v=1; a=rsa-sha256; c=relaxed/relaxed; d=1e100.net; s=20230601; t=1740452400; x=1741057200; h=references:in-reply-to:cc:to:from:subject:message-id:date :x-gm-message-state:from:to:cc:subject:date:message-id:reply-to; bh=XVZn80omu3ELfM1B8S+ORJohJPAOSoKp4tdwVZlVRwo=; b=kvbcHxbLCGLteHhhhligSlAYNlqSEp1GOGKaPCq2D/WxusBdpE1AHYsSueiedF/g2b UGUlYRST7MDcJiq7mr5wFnI0pAU+YJTG+J85yGXnQ9lezsIAdGq2g3e9+OH+CsWivT03 PPb45oubMbeOsROva0BG1cXGjAJ4DtLuhBEhuJwIkuTuAA3EaxnV1SYPEI0QPSnXN0Td EYEgwtU9ycGmfHadpfuBHtxUA4QHO8GC5jVJK3FkyHPYvGJoi+od5OfrSA9/GVfvlqse Wuk9obzlKE0hgFnMVPuCOQ1hkk8snTy4lcHGwUQy72VR+CJj4CXhyK60J8nJmtkO1yZ1 A1yQ== X-Gm-Message-State: AOJu0YzxPhY6ZHVlXOLSUe63e5MG2el9BsCNYQUtgdo+PX8ttenSI0tw ewDhtwaJVU1Rsr1C05GDvJIU3PnV6ptcluf+3PxTM4tfrHcXB7NV7rMYaN+1f28ghK2CY6Kr9fu QMy1sWM2Gqu/PRl8LC/2Lw+t4lgYYLtuSDs2uyOgu X-Gm-Gg: ASbGncu/JF+TgNAJjMH2temV5+6RosVEaHI3ntsloS5KjEfwhBlvRHHxUHPMMqPqjUj W4zWQ6DLd46wZkBz02fbj9ce9bDKJMoCjm9o1TXWhl+Ckvhzah1/RKJXbtAzm5X15CIxhUceBUG uCeGI2HuE4tvGnY00rj7qZWHltt1JtVQjQZ/6cz0AIda50FMn7SsMGPHR0c+KN2oerpNNdhkjmj 32A7G2uyal0u2Jh2Iti9/BD1DLJRMyuk27/RXlhHrDkn29AEfyyj++EwtVFE3r8zgBc00DktWU3 VM0QYry2KC+ZOwD5LFaIeH+hR+RULt1BiguZ12fQ X-Google-Smtp-Source: AGHT+IESUuo4ouHB87KZccidUXh7keCoV0VNRKmBN6HL7xtzP3Aum9yAHOxQ/SrrlGslhuLONUrlO5LF4aV+ X-Received: by 2002:a05:622a:1a95:b0:472:1e5:d576 with SMTP id d75a77b69052e-4737725c474mr24316891cf.32.1740452400096; Mon, 24 Feb 2025 19:00:00 -0800 (PST) Received: from postal.iol.unh.edu (postal.iol.unh.edu. [132.177.123.84]) by smtp-relay.gmail.com with ESMTPS id d75a77b69052e-4737805e0b0sm314931cf.16.2025.02.24.19.00.00 (version=TLS1_2 cipher=ECDHE-ECDSA-AES128-GCM-SHA256 bits=128/128); Mon, 24 Feb 2025 19:00:00 -0800 (PST) X-Relaying-Domain: iol.unh.edu Date: Mon, 24 Feb 2025 19:00:00 -0800 (PST) Message-ID: <67bd3230.050a0220.71a33.1dceSMTPIN_ADDED_MISSING@mx.google.com> Received: from [172.21.0.7] (unknown [172.18.0.240]) by postal.iol.unh.edu (Postfix) with ESMTP id 897486052471; Mon, 24 Feb 2025 21:59:59 -0500 (EST) Subject: |SUCCESS| pw151973 [PATCH] [v3,1/1] pcapng: fix null dereference in From: dpdklab@iol.unh.edu To: Test Report Cc: dpdk-test-reports@iol.unh.edu In-Reply-To: <20250224164031.587829-2-ariel.otilibili@6wind.com> References: <20250224164031.587829-2-ariel.otilibili@6wind.com> Content-Type: text/plain X-BeenThere: test-report@dpdk.org X-Mailman-Version: 2.1.29 Precedence: list List-Id: automatic DPDK test reports List-Unsubscribe: , List-Archive: List-Post: List-Help: List-Subscribe: , Errors-To: test-report-bounces@dpdk.org Test-Label: iol-unit-arm64-testing Test-Status: SUCCESS http://dpdk.org/patch/151973 _Testing PASS_ Submitter: Ariel Otilibili Date: Monday, February 24 2025 16:40:31 DPDK git baseline: Repo:dpdk Branch: master CommitID:fab31a03ba98e7457284df95dd9eef2223a4ccaa 151973 --> testing pass Upstream job id: Generic-Unit-Test-DPDK#318082 Test environment and result as below: +-----------------------------+----------------+--------------+------------------------------+---------------------------+ | Environment | dpdk_unit_test | lpm_autotest | cryptodev_sw_snow3g_autotest | cryptodev_sw_zuc_autotest | +=============================+================+==============+==============================+===========================+ | CentOS Stream 10 (ARM) | PASS | SKIPPED | SKIPPED | SKIPPED | +-----------------------------+----------------+--------------+------------------------------+---------------------------+ | CentOS Stream 9 (ARM) | PASS | SKIPPED | SKIPPED | SKIPPED | +-----------------------------+----------------+--------------+------------------------------+---------------------------+ | Debian 11 (Buster) (ARM) | PASS | SKIPPED | SKIPPED | SKIPPED | +-----------------------------+----------------+--------------+------------------------------+---------------------------+ | Debian 12 (arm) | PASS | SKIPPED | PASS | PASS | +-----------------------------+----------------+--------------+------------------------------+---------------------------+ | Fedora 40 (ARM) | PASS | SKIPPED | SKIPPED | SKIPPED | +-----------------------------+----------------+--------------+------------------------------+---------------------------+ | Fedora 40 (ARM Clang) | PASS | SKIPPED | SKIPPED | SKIPPED | +-----------------------------+----------------+--------------+------------------------------+---------------------------+ | Fedora 41 (ARM) | PASS | SKIPPED | SKIPPED | SKIPPED | +-----------------------------+----------------+--------------+------------------------------+---------------------------+ | RHEL9 (ARM) | PASS | SKIPPED | SKIPPED | SKIPPED | +-----------------------------+----------------+--------------+------------------------------+---------------------------+ | Fedora 41 (ARM Clang) | PASS | SKIPPED | SKIPPED | SKIPPED | +-----------------------------+----------------+--------------+------------------------------+---------------------------+ | Ubuntu 22.04 (ARM) | PASS | SKIPPED | SKIPPED | SKIPPED | +-----------------------------+----------------+--------------+------------------------------+---------------------------+ | Ubuntu 24.04 (ARM) | PASS | SKIPPED | SKIPPED | SKIPPED | +-----------------------------+----------------+--------------+------------------------------+---------------------------+ | Ubuntu 20.04 (ARM) | PASS | SKIPPED | SKIPPED | SKIPPED | +-----------------------------+----------------+--------------+------------------------------+---------------------------+ | 32-bit Ubuntu 22.04.4 (ARM) | PASS | SKIPPED | SKIPPED | SKIPPED | +-----------------------------+----------------+--------------+------------------------------+---------------------------+ | Ubuntu 20.04 ARM SVE | SKIPPED | PASS | SKIPPED | SKIPPED | +-----------------------------+----------------+--------------+------------------------------+---------------------------+ CentOS Stream 10 (ARM) Kernel: Depends on container host Compiler: gcc 14.2.1 20241104 (Red Hat 14.2.1-6) CentOS Stream 9 (ARM) Kernel: Depends on container host Compiler: gcc 11.5.0 20240719 (Red Hat 11.5.0-2) Debian 11 (Buster) (ARM) Kernel: Depends on container host Compiler: gcc (Debian 10.2.1-6) 10.2.1 20210110 Debian 12 (arm) Kernel: Depends on container host Compiler: gcc (Debian 12.2.0-14) 12.2.0 Fedora 40 (ARM) Kernel: Depends on container host Compiler: gcc 14.2.1 20240912 (Red Hat 14.2.1-3) Fedora 40 (ARM Clang) Kernel: Depends on container host Compiler: clang 18.1.8 (Fedora 18.1.8-1.fc40) Fedora 41 (ARM) Kernel: Depends on container host Compiler: gcc 14.2.1 20240912 (Red Hat 14.2.1-3) RHEL9 (ARM) Kernel: Depends on container host Compiler: gcc 11.5.0 20240719 (Red Hat 11.5.0-2) Fedora 41 (ARM Clang) Kernel: Depends on container host Compiler: clang 19.1.5 (Fedora 19.1.5-1.fc41) Ubuntu 22.04 (ARM) Kernel: Depends on container host Compiler: gcc (Ubuntu 11.4.0-1ubuntu1~22.04) 11.4.0 Ubuntu 24.04 (ARM) Kernel: Depends on container host Compiler: gcc (Ubuntu 13.3.0-6ubuntu2~24.04) 13.3.0 Ubuntu 20.04 (ARM) Kernel: Depends on container host Compiler: gcc (Ubuntu 9.4.0-1ubuntu1~20.04.2) 9.4.0 32-bit Ubuntu 22.04.4 (ARM) Kernel: 5.15.83+ aarch64 Compiler: gcc (Ubuntu 11.4.0-1ubuntu1~22.04) 11.4.0 Ubuntu 20.04 ARM SVE Kernel: Depends on container host Compiler: gcc (Ubuntu 10.5.0-1ubuntu1~20.04) 10.5.0 To view detailed results, visit: https://lab.dpdk.org/results/dashboard/patchsets/32669/ UNH-IOL DPDK Community Lab To manage your email subscriptions, visit: https://lab.dpdk.org/results/dashboard/preferences/subscriptions/