From mboxrd@z Thu Jan 1 00:00:00 1970 Return-Path: Received: from mails.dpdk.org (mails.dpdk.org [217.70.189.124]) by inbox.dpdk.org (Postfix) with ESMTP id 00C4E462B4 for ; Tue, 25 Feb 2025 04:04:05 +0100 (CET) Received: from mails.dpdk.org (localhost [127.0.0.1]) by mails.dpdk.org (Postfix) with ESMTP id D527E40662; Tue, 25 Feb 2025 04:04:05 +0100 (CET) Received: from mail-pl1-f227.google.com (mail-pl1-f227.google.com [209.85.214.227]) by mails.dpdk.org (Postfix) with ESMTP id D9200402B1 for ; Tue, 25 Feb 2025 04:04:03 +0100 (CET) Received: by mail-pl1-f227.google.com with SMTP id d9443c01a7336-219f8263ae0so107436245ad.0 for ; Mon, 24 Feb 2025 19:04:03 -0800 (PST) DKIM-Signature: v=1; a=rsa-sha256; c=relaxed/relaxed; d=iol.unh.edu; s=unh-iol; t=1740452643; x=1741057443; darn=dpdk.org; h=references:in-reply-to:cc:to:from:subject:message-id:date:from:to :cc:subject:date:message-id:reply-to; bh=1HOnFcKsg6z4/wByDGK1mDs5ort8VlmTdAq/ydDebBQ=; b=QKDXosofu18PMjdiXlZIgr12fL1ZnQtLXeZeiNX/H+83A4wKvz2wbDGeVCd02RtFp5 +UobQqZzR21Kg2k2oMX53+XpJJiLv0e4HKXiVH1Stp8Nii0udtCVTStUhs6HAhgCDXH/ YkYvIt2ChQwh62pq+hA1z7rRkqvpbZMbJnSss= X-Google-DKIM-Signature: v=1; a=rsa-sha256; c=relaxed/relaxed; d=1e100.net; s=20230601; t=1740452643; x=1741057443; h=references:in-reply-to:cc:to:from:subject:message-id:date :x-gm-message-state:from:to:cc:subject:date:message-id:reply-to; bh=1HOnFcKsg6z4/wByDGK1mDs5ort8VlmTdAq/ydDebBQ=; b=dEHcDiOz0kDZrLI2oDb6VwELSuqV3aQBKNdkO+8Wh1F0HFyGWaNm9910O2/LHRCN/r MnaU+9SLwe8avygLMPFn9msA0KnCT9ghZbDs8buBt7NnCD3IG66GZaeOP1uteWvBfm+/ MpR4ypQXM+m3Ah4NxJ9pWzCBSw+t6wJVv13WlX4dp1djvif8cjYstroLo/7D/C+xNag4 ES1H+Ho7E7CVRmBv8HYir00nRPuJ2skZq+raGYEw3GGLjt9Mbpx/oBmQ2aX7ktMFzhNt Q/qjWS6lFskiSREsO44ltEzSCeWoS39LfrGHqI2m5SVegqDGKy/e/WD5ygsA9KQJ7KoT hAeQ== X-Gm-Message-State: AOJu0Yx9p63yWBfXGCSMctHlOheEXo5hUAL53S6mtdXNvAI27qysTURf 3w6LlV7r4350xAsoLyzDiaTmlN6Jy8i1onyGJcg1jODXS6xZzKZeMMKBV3d2PEYzaYqCpBtpfgh HJEkscDY2A3ppaz7M9LpeUucLZ0bk39Sx3/Wsu3Z9lZXNjKXC8wSpZTKL X-Gm-Gg: ASbGncuEscZa8fty/SEP2x4Bn2w/QT+I5u2+FO50hIiu3mf4jThS8pLhEizgDZbr44v 0DTnOOvuSIfc5nc9X38ZsnF25YBGdNt1QBoyrAmYEpYEM/jp4O4pGljKZ3Fi8U60NIpc/AMImDR +F1F2zfc3zDfWjyOzHVzgjeeNsZlBCEzUc3qW5I8usI1pdvY1i1W4ogtRCvv8u6rLqZjUWXUzGn wbCODEkObjHeWN+zoZlKESFJgCf/AX4CLeNSuRPCRaUtsPlnC0m80NoY0mCFGQtbbSReAukczdD n2KWpRcycK8uRi1mxz7IXHdRxGDLPq2vEeJ5B+NJb/ym3sJnFsw+ X-Google-Smtp-Source: AGHT+IEdQqPDAS6ogLecRJK93Kz5CVyjLcbMXNoS7x9gkC2938CY0dkXiD99r3GnKSnDsiNoKrYhvdo6mQFP X-Received: by 2002:a17:902:d485:b0:21f:6dca:6932 with SMTP id d9443c01a7336-221a11b9122mr262782735ad.43.1740452642994; Mon, 24 Feb 2025 19:04:02 -0800 (PST) Received: from postal.iol.unh.edu (postal.iol.unh.edu. [2606:4100:3880:1234::84]) by smtp-relay.gmail.com with ESMTPS id d9443c01a7336-2230a098851sm299165ad.116.2025.02.24.19.04.02 (version=TLS1_2 cipher=ECDHE-ECDSA-AES128-GCM-SHA256 bits=128/128); Mon, 24 Feb 2025 19:04:02 -0800 (PST) X-Relaying-Domain: iol.unh.edu Date: Mon, 24 Feb 2025 19:04:02 -0800 (PST) Message-ID: <67bd3322.170a0220.3cedcd.1b71SMTPIN_ADDED_MISSING@mx.google.com> Received: from [172.21.0.7] (unknown [172.18.0.240]) by postal.iol.unh.edu (Postfix) with ESMTP id 142FE6052471; Mon, 24 Feb 2025 22:04:02 -0500 (EST) Subject: |SUCCESS| pw151974-151976 [PATCH] [v5,3/3] app/test: add SM4 GCM tes From: dpdklab@iol.unh.edu To: Test Report Cc: dpdk-test-reports@iol.unh.edu In-Reply-To: <20250224165939.717714-3-brian.dooley@intel.com> References: <20250224165939.717714-3-brian.dooley@intel.com> Content-Type: text/plain X-BeenThere: test-report@dpdk.org X-Mailman-Version: 2.1.29 Precedence: list List-Id: automatic DPDK test reports List-Unsubscribe: , List-Archive: List-Post: List-Help: List-Subscribe: , Errors-To: test-report-bounces@dpdk.org Test-Label: iol-abi-testing Test-Status: SUCCESS http://dpdk.org/patch/151976 _Testing PASS_ Submitter: Brian Dooley Date: Monday, February 24 2025 16:59:39 DPDK git baseline: Repo:dpdk Branch: master CommitID:fab31a03ba98e7457284df95dd9eef2223a4ccaa 151974-151976 --> testing pass Upstream job id: Generic-DPDK-Compile-ABI#117600 Test environment and result as below: +-------------------+----------+ | Environment | abi_test | +===================+==========+ | CentOS Stream 10 | PASS | +-------------------+----------+ | Debian Bullseye | PASS | +-------------------+----------+ | Debian 12 | PASS | +-------------------+----------+ | Fedora 40 (Clang) | PASS | +-------------------+----------+ | Fedora 40 | PASS | +-------------------+----------+ | Fedora 41 (Clang) | PASS | +-------------------+----------+ | Fedora 41 | PASS | +-------------------+----------+ | openSUSE Leap 15 | PASS | +-------------------+----------+ | RHEL8 | PASS | +-------------------+----------+ | RHEL9 | PASS | +-------------------+----------+ | Ubuntu 22.04 | PASS | +-------------------+----------+ | Ubuntu 24.04 | PASS | +-------------------+----------+ CentOS Stream 10 Kernel: Depends on container host Compiler: gcc 14.2.1 20241104 (Red Hat 14.2.1-6) Debian Bullseye Kernel: Depends on container host Compiler: gcc (Debian 10.2.1-6) 10.2.1 20210110 Debian 12 Kernel: Depends on container host Compiler: gcc (Debian 12.2.0-14) 12.2.0 Fedora 40 (Clang) Kernel: Depends on container host Compiler: clang 18.1.8 (Fedora 18.1.8-1.fc40) Fedora 40 Kernel: Depends on container host Compiler: gcc 14.2.1 20240912 (Red Hat 14.2.1-3) Fedora 41 (Clang) Kernel: Depends on container host Compiler: clang 19.1.5 (Fedora 19.1.5-1.fc41) Fedora 41 Kernel: Depends on container host Compiler: gcc 14.2.1 20240912 (Red Hat 14.2.1-3) openSUSE Leap 15 Kernel: Depends on container host Compiler: gcc (SUSE Linux) 7.5.0 RHEL8 Kernel: Depends on container host Compiler: gcc 8.5.0 20210514 (Red Hat 8.5.0-22) RHEL9 Kernel: Depends on container host Compiler: gcc 11.5.0 20240719 (Red Hat 11.5.0-2) Ubuntu 22.04 Kernel: Depends on container host Compiler: gcc (Ubuntu 11.4.0-1ubuntu1~22.04) 11.4.0 Ubuntu 24.04 Kernel: Depends on container host Compiler: gcc (Ubuntu 13.3.0-6ubuntu2~24.04) 13.3.0 To view detailed results, visit: https://lab.dpdk.org/results/dashboard/patchsets/32670/ UNH-IOL DPDK Community Lab To manage your email subscriptions, visit: https://lab.dpdk.org/results/dashboard/preferences/subscriptions/