From mboxrd@z Thu Jan 1 00:00:00 1970 Return-Path: Received: from mails.dpdk.org (mails.dpdk.org [217.70.189.124]) by inbox.dpdk.org (Postfix) with ESMTP id 18203462B4 for ; Tue, 25 Feb 2025 04:30:47 +0100 (CET) Received: from mails.dpdk.org (localhost [127.0.0.1]) by mails.dpdk.org (Postfix) with ESMTP id 12B9F40662; Tue, 25 Feb 2025 04:30:47 +0100 (CET) Received: from mail-il1-f228.google.com (mail-il1-f228.google.com [209.85.166.228]) by mails.dpdk.org (Postfix) with ESMTP id 4D2DB402B1 for ; Tue, 25 Feb 2025 04:30:45 +0100 (CET) Received: by mail-il1-f228.google.com with SMTP id e9e14a558f8ab-3cfc79a8a95so14962875ab.2 for ; Mon, 24 Feb 2025 19:30:45 -0800 (PST) DKIM-Signature: v=1; a=rsa-sha256; c=relaxed/relaxed; d=iol.unh.edu; s=unh-iol; t=1740454244; x=1741059044; darn=dpdk.org; h=references:in-reply-to:cc:to:from:subject:message-id:date:from:to :cc:subject:date:message-id:reply-to; bh=b1B1uTS0WF6h1RCaCT6T8wzZ9/AN7KFnLGk77etDTEY=; b=Fk3D9BPO7mWG6VYjcGOPf6DcbcNXb4XQjBQpCdSygLU3sQiAOdpgw2O13ITcgIUnl2 lFK9IUe2rdnO9+3rr3UUfZ7ltKRubN5JyuuEgTmcNsvXyhKIdH8HTyovVRShUNv4NUn0 ZnnXjRZaGImk47nEfyNmcT8plBrq6CZF0+46I= X-Google-DKIM-Signature: v=1; a=rsa-sha256; c=relaxed/relaxed; d=1e100.net; s=20230601; t=1740454244; x=1741059044; h=references:in-reply-to:cc:to:from:subject:message-id:date :x-gm-message-state:from:to:cc:subject:date:message-id:reply-to; bh=b1B1uTS0WF6h1RCaCT6T8wzZ9/AN7KFnLGk77etDTEY=; b=JMnNsPHY46/ePGaugAHqIyuJw/z8twfYCuesPvcGfoqOfEUqTfe2c7eYYdW295XeK3 5m3bH3gC7YxgHkG2dOE158nLq0lcJ627iJx8JdkGEqIfzQcgWDfmRuUXcTmpdeiKzKBP JJwZX/ilpfTWR5PbnglN3jaitEreRylcrRlq6zcjvghjuxMP9qROXO+Rql+8E/cjwQtQ a3vGL3fW9ZnFNASamdTMWo7dpEoQ6tp/cdqkjad+SHk8Q/u966MGmBzb4+t4nBhnTJo9 Uhirh6eovUzH3Q2zMrj0SanCbI26AHUfP2aGAMnkwmiqI+BLxOzKJHDh0mA4NYwU6gpb Md4w== X-Gm-Message-State: AOJu0YyJVCgW/rn2VtgrnITBCKxumZI6PRWSd8BWmUSsUcNPkUep6N6c obzwYEqM/i6g7Zo1G0ZhTBUtRHs7Qfv7goSWXhT/wMx9w3uFP2tTaK3jM0RZhyBqlQBXAOpj2Cd FC91OYEfudi4V7Kcfb8JFfLkDBlZteoyRkYrLuyjM X-Gm-Gg: ASbGncsTEQwbvSORyWWpS5nA6n1Gu2CzOrFQFTDmCTBa9+b5yyGb6NSrule2rqvCVJ4 c0C1l5eMwPPur6fmSFnn9/xGJbB0HSra1YNiFSuKMItuT0uJOhw+Huw6Gh+66ifKD7uSaG7FkQC O8/lUT5985E9X44hQZhyuF/5tDRVDrG4uJAMR83dM0A4E+hvwY42TtsbwFbc0uuMv43ISvC2xTs N2nDN5b8uf3rrty+saVDWFxnogme9yhaBGlJlodP7rcp8exzmu5wkvt8r9kE02x1VSiM7gdP0sF o6P/qzjKkefGc/Lq06XHjr2woOMcJ9OlqgBZE7TJ X-Google-Smtp-Source: AGHT+IHs4CDdfnosjFZmRtat0vbMHpOuD1yjTGgllA8q1r//yL6jwxmgVnoDafOht5Eru4FdI/YUhxYXlVM5 X-Received: by 2002:a05:6e02:1448:b0:3d0:10a6:99b9 with SMTP id e9e14a558f8ab-3d2cae474a7mr133864465ab.3.1740454244624; Mon, 24 Feb 2025 19:30:44 -0800 (PST) Received: from postal.iol.unh.edu (postal.iol.unh.edu. [132.177.123.84]) by smtp-relay.gmail.com with ESMTPS id 8926c6da1cb9f-4f047530611sm42224173.48.2025.02.24.19.30.44 (version=TLS1_2 cipher=ECDHE-ECDSA-AES128-GCM-SHA256 bits=128/128); Mon, 24 Feb 2025 19:30:44 -0800 (PST) X-Relaying-Domain: iol.unh.edu Date: Mon, 24 Feb 2025 19:30:44 -0800 (PST) Message-ID: <67bd3964.050a0220.38619.2844SMTPIN_ADDED_MISSING@mx.google.com> Received: from [172.21.0.7] (unknown [172.18.0.240]) by postal.iol.unh.edu (Postfix) with ESMTP id 12A3C6052471; Mon, 24 Feb 2025 22:30:44 -0500 (EST) Subject: |SUCCESS| pw151974-151976 [PATCH] [v5,3/3] app/test: add SM4 GCM tes From: dpdklab@iol.unh.edu To: Test Report Cc: dpdk-test-reports@iol.unh.edu In-Reply-To: <20250224165939.717714-3-brian.dooley@intel.com> References: <20250224165939.717714-3-brian.dooley@intel.com> Content-Type: text/plain X-BeenThere: test-report@dpdk.org X-Mailman-Version: 2.1.29 Precedence: list List-Id: automatic DPDK test reports List-Unsubscribe: , List-Archive: List-Post: List-Help: List-Subscribe: , Errors-To: test-report-bounces@dpdk.org Test-Label: iol-unit-amd64-testing Test-Status: SUCCESS http://dpdk.org/patch/151976 _Testing PASS_ Submitter: Brian Dooley Date: Monday, February 24 2025 16:59:39 DPDK git baseline: Repo:dpdk Branch: master CommitID:fab31a03ba98e7457284df95dd9eef2223a4ccaa 151974-151976 --> testing pass Upstream job id: Generic-Unit-Test-DPDK#318093 Test environment and result as below: +-------------------+----------------+ | Environment | dpdk_unit_test | +===================+================+ | Debian Bullseye | PASS | +-------------------+----------------+ | CentOS Stream 9 | PASS | +-------------------+----------------+ | CentOS Stream 10 | PASS | +-------------------+----------------+ | Debian 12 | PASS | +-------------------+----------------+ | Fedora 40 (Clang) | PASS | +-------------------+----------------+ | Fedora 40 | PASS | +-------------------+----------------+ | Fedora 41 | PASS | +-------------------+----------------+ | RHEL8 | PASS | +-------------------+----------------+ | RHEL9 | PASS | +-------------------+----------------+ | Fedora 41 (Clang) | PASS | +-------------------+----------------+ | Ubuntu 20.04 | PASS | +-------------------+----------------+ | Ubuntu 24.04 | PASS | +-------------------+----------------+ | Ubuntu 22.04 | PASS | +-------------------+----------------+ Debian Bullseye Kernel: Depends on container host Compiler: gcc (Debian 10.2.1-6) 10.2.1 20210110 CentOS Stream 9 Kernel: Depends on container host Compiler: gcc 11.5.0 20240719 (Red Hat 11.5.0-2) CentOS Stream 10 Kernel: Depends on container host Compiler: gcc 14.2.1 20241104 (Red Hat 14.2.1-6) Debian 12 Kernel: Depends on container host Compiler: gcc (Debian 12.2.0-14) 12.2.0 Fedora 40 (Clang) Kernel: Depends on container host Compiler: clang 18.1.8 (Fedora 18.1.8-1.fc40) Fedora 40 Kernel: Depends on container host Compiler: gcc 14.2.1 20240912 (Red Hat 14.2.1-3) Fedora 41 Kernel: Depends on container host Compiler: gcc 14.2.1 20240912 (Red Hat 14.2.1-3) RHEL8 Kernel: Depends on container host Compiler: gcc 8.5.0 20210514 (Red Hat 8.5.0-22) RHEL9 Kernel: Depends on container host Compiler: gcc 11.5.0 20240719 (Red Hat 11.5.0-2) Fedora 41 (Clang) Kernel: Depends on container host Compiler: clang 19.1.5 (Fedora 19.1.5-1.fc41) Ubuntu 20.04 Kernel: Depends on container host Compiler: gcc (Ubuntu 9.4.0-1ubuntu1~20.04.2) 9.4.0 Ubuntu 24.04 Kernel: Depends on container host Compiler: gcc (Ubuntu 13.3.0-6ubuntu2~24.04) 13.3.0 Ubuntu 22.04 Kernel: Depends on container host Compiler: gcc (Ubuntu 11.4.0-1ubuntu1~22.04) 11.4.0 To view detailed results, visit: https://lab.dpdk.org/results/dashboard/patchsets/32670/ UNH-IOL DPDK Community Lab To manage your email subscriptions, visit: https://lab.dpdk.org/results/dashboard/preferences/subscriptions/