From mboxrd@z Thu Jan 1 00:00:00 1970 Return-Path: Received: from mails.dpdk.org (mails.dpdk.org [217.70.189.124]) by inbox.dpdk.org (Postfix) with ESMTP id 8E60E462B4 for ; Tue, 25 Feb 2025 05:17:42 +0100 (CET) Received: from mails.dpdk.org (localhost [127.0.0.1]) by mails.dpdk.org (Postfix) with ESMTP id 60EF540662; Tue, 25 Feb 2025 05:17:42 +0100 (CET) Received: from mail-yw1-f227.google.com (mail-yw1-f227.google.com [209.85.128.227]) by mails.dpdk.org (Postfix) with ESMTP id B5C93402B1 for ; Tue, 25 Feb 2025 05:17:40 +0100 (CET) Received: by mail-yw1-f227.google.com with SMTP id 00721157ae682-6fb9dae0125so43007347b3.1 for ; Mon, 24 Feb 2025 20:17:40 -0800 (PST) DKIM-Signature: v=1; a=rsa-sha256; c=relaxed/relaxed; d=iol.unh.edu; s=unh-iol; t=1740457060; x=1741061860; darn=dpdk.org; h=references:in-reply-to:cc:to:from:subject:message-id:date:from:to :cc:subject:date:message-id:reply-to; bh=LEIzjNw9her/cbAB/OGf9HBZuh1OTaS9rGe45UYLpAk=; b=cBk5ag0FBLOFyrm9mDocvXWZN+oM1014sIL29jXQCRwyoEq2w8cEayXWT2MjmupyXz 1ZlsXomjTivM+K68xR1GocU2RpC1verJFq5zmtCRqndF8WP/PpjLIUECHTXykzip4Hb4 57BIbHLzxDynYItXcuN6MHzYq5ShYLSr7D0x4= X-Google-DKIM-Signature: v=1; a=rsa-sha256; c=relaxed/relaxed; d=1e100.net; s=20230601; t=1740457060; x=1741061860; h=references:in-reply-to:cc:to:from:subject:message-id:date :x-gm-message-state:from:to:cc:subject:date:message-id:reply-to; bh=LEIzjNw9her/cbAB/OGf9HBZuh1OTaS9rGe45UYLpAk=; b=K0EBPSyWyZQ3ZE3B04RYBDUof21xAe8BqtpMIL/rTWzBwR/+vFAcj2VE5xp1sqFMKg mYYWXVup5F9dBhy5kPwNSVsp5oKb2peqOAEFHZNa8coDLGthN1va2dl3QrSULngsoHbC FW1lDsU517IYoiQ8tU/dTTOF8msId7sxz1n5yrMXenAerm8m8kvVs0icZX5cBOKI6oQQ Ew7cb8UziGk9Ai26xilN0xufgwqWUfMXXJXYo+ZxXgWUMmsppqVh2JmdZMu5IInDifQ0 FUYd6mr2YabkxHIClLfwBd4y7XyTuk2Z8bocFeSzI4aZfQtGHVNkhTy+75nTw9/MpB++ XRvw== X-Gm-Message-State: AOJu0Yy7E2+arFFF+Q/6iPSt/dE0UOIkk7QaAipTUMFWXYDj3+rKRg2B VeO3DghevG9EoHxgHDYq+lSbTOxGrQHNtq3mgR7c3rPbtlcI1pNx1N67yR7k1Go+1bPMsZijmar oO+kczMHnmUdmC/4kMTt3zbSuKX64t8YxM9fSAeMo6/bGJCVRJLlbDXrf X-Gm-Gg: ASbGncuhJFayU4cpJT3R9XxNZXARhjhlJyyljLsVmXut+yPDmd7u9ylyEAkIAzFu+WY Fc03fs113bX2+u7HVtW+kPUFijzWjKvA+2KoTeDsgNqNKji7LSisIUF2wjDaazDsXa2XbY+vsWC 6vqkJ0h8rJdOi6sAirZJ3xwUPJ4WuMcXgFZWJVb+H1zVW8C2uguoPHoKaaVtTWqfsygXAH7CRMo 9gpmwmoS8l4X2ruQErAD/8JSpuB5L79RfdkCmu7kcHSqRkokhHzQAugEmkbCtRoLTulv3SvoE0C K+wdfhHWH9dCNrK9xgZZEKEBjDArgR0vRE6nhcm+acooZPGmx4RW X-Google-Smtp-Source: AGHT+IGqgxuT3qMPyrOxO8Mdt79ARLsGXKCiWiPXwp+FUTNnfs5cb0vV7M0CSYwX9ifThCJvq6WU2jjsdCrF X-Received: by 2002:a05:690c:6f85:b0:6f9:7b99:8a29 with SMTP id 00721157ae682-6fbcc3a3ee3mr135195907b3.34.1740457060045; Mon, 24 Feb 2025 20:17:40 -0800 (PST) Received: from postal.iol.unh.edu (postal.iol.unh.edu. [2606:4100:3880:1234::84]) by smtp-relay.gmail.com with ESMTPS id 00721157ae682-6fd116a3c0bsm269117b3.23.2025.02.24.20.17.39 (version=TLS1_2 cipher=ECDHE-ECDSA-AES128-GCM-SHA256 bits=128/128); Mon, 24 Feb 2025 20:17:40 -0800 (PST) X-Relaying-Domain: iol.unh.edu Date: Mon, 24 Feb 2025 20:17:40 -0800 (PST) Message-ID: <67bd4464.050a0220.2500ff.18acSMTPIN_ADDED_MISSING@mx.google.com> Received: from [172.21.0.10] (unknown [172.18.0.240]) by postal.iol.unh.edu (Postfix) with ESMTP id 6DE796052471; Mon, 24 Feb 2025 23:17:39 -0500 (EST) Subject: |SUCCESS| pw151974-151976 [PATCH] [v5,3/3] app/test: add SM4 GCM tes From: dpdklab@iol.unh.edu To: Test Report Cc: dpdk-test-reports@iol.unh.edu In-Reply-To: <20250224165939.717714-3-brian.dooley@intel.com> References: <20250224165939.717714-3-brian.dooley@intel.com> Content-Type: text/plain X-BeenThere: test-report@dpdk.org X-Mailman-Version: 2.1.29 Precedence: list List-Id: automatic DPDK test reports List-Unsubscribe: , List-Archive: List-Post: List-Help: List-Subscribe: , Errors-To: test-report-bounces@dpdk.org Test-Label: iol-unit-arm64-testing Test-Status: SUCCESS http://dpdk.org/patch/151976 _Testing PASS_ Submitter: Brian Dooley Date: Monday, February 24 2025 16:59:39 DPDK git baseline: Repo:dpdk Branch: master CommitID:fab31a03ba98e7457284df95dd9eef2223a4ccaa 151974-151976 --> testing pass Upstream job id: Generic-Unit-Test-DPDK#318110 Test environment and result as below: +-----------------------------+----------------+---------------------------+--------------+------------------------------+ | Environment | dpdk_unit_test | cryptodev_sw_zuc_autotest | lpm_autotest | cryptodev_sw_snow3g_autotest | +=============================+================+===========================+==============+==============================+ | CentOS Stream 9 (ARM) | PASS | SKIPPED | SKIPPED | SKIPPED | +-----------------------------+----------------+---------------------------+--------------+------------------------------+ | CentOS Stream 10 (ARM) | PASS | SKIPPED | SKIPPED | SKIPPED | +-----------------------------+----------------+---------------------------+--------------+------------------------------+ | Debian 11 (Buster) (ARM) | PASS | SKIPPED | SKIPPED | SKIPPED | +-----------------------------+----------------+---------------------------+--------------+------------------------------+ | Debian 12 (arm) | PASS | PASS | SKIPPED | PASS | +-----------------------------+----------------+---------------------------+--------------+------------------------------+ | 32-bit Ubuntu 22.04.4 (ARM) | PASS | SKIPPED | SKIPPED | SKIPPED | +-----------------------------+----------------+---------------------------+--------------+------------------------------+ | Fedora 40 (ARM) | PASS | SKIPPED | SKIPPED | SKIPPED | +-----------------------------+----------------+---------------------------+--------------+------------------------------+ | Fedora 40 (ARM Clang) | PASS | SKIPPED | SKIPPED | SKIPPED | +-----------------------------+----------------+---------------------------+--------------+------------------------------+ | Fedora 41 (ARM) | PASS | SKIPPED | SKIPPED | SKIPPED | +-----------------------------+----------------+---------------------------+--------------+------------------------------+ | Fedora 41 (ARM Clang) | PASS | SKIPPED | SKIPPED | SKIPPED | +-----------------------------+----------------+---------------------------+--------------+------------------------------+ | RHEL9 (ARM) | PASS | SKIPPED | SKIPPED | SKIPPED | +-----------------------------+----------------+---------------------------+--------------+------------------------------+ | Ubuntu 24.04 (ARM) | PASS | SKIPPED | SKIPPED | SKIPPED | +-----------------------------+----------------+---------------------------+--------------+------------------------------+ | Ubuntu 20.04 (ARM) | PASS | SKIPPED | SKIPPED | SKIPPED | +-----------------------------+----------------+---------------------------+--------------+------------------------------+ | Ubuntu 22.04 (ARM) | PASS | SKIPPED | SKIPPED | SKIPPED | +-----------------------------+----------------+---------------------------+--------------+------------------------------+ | Ubuntu 20.04 ARM SVE | SKIPPED | SKIPPED | PASS | SKIPPED | +-----------------------------+----------------+---------------------------+--------------+------------------------------+ CentOS Stream 9 (ARM) Kernel: Depends on container host Compiler: gcc 11.5.0 20240719 (Red Hat 11.5.0-2) CentOS Stream 10 (ARM) Kernel: Depends on container host Compiler: gcc 14.2.1 20241104 (Red Hat 14.2.1-6) Debian 11 (Buster) (ARM) Kernel: Depends on container host Compiler: gcc (Debian 10.2.1-6) 10.2.1 20210110 Debian 12 (arm) Kernel: Depends on container host Compiler: gcc (Debian 12.2.0-14) 12.2.0 32-bit Ubuntu 22.04.4 (ARM) Kernel: 5.15.83+ aarch64 Compiler: gcc (Ubuntu 11.4.0-1ubuntu1~22.04) 11.4.0 Fedora 40 (ARM) Kernel: Depends on container host Compiler: gcc 14.2.1 20240912 (Red Hat 14.2.1-3) Fedora 40 (ARM Clang) Kernel: Depends on container host Compiler: clang 18.1.8 (Fedora 18.1.8-1.fc40) Fedora 41 (ARM) Kernel: Depends on container host Compiler: gcc 14.2.1 20240912 (Red Hat 14.2.1-3) Fedora 41 (ARM Clang) Kernel: Depends on container host Compiler: clang 19.1.5 (Fedora 19.1.5-1.fc41) RHEL9 (ARM) Kernel: Depends on container host Compiler: gcc 11.5.0 20240719 (Red Hat 11.5.0-2) Ubuntu 24.04 (ARM) Kernel: Depends on container host Compiler: gcc (Ubuntu 13.3.0-6ubuntu2~24.04) 13.3.0 Ubuntu 20.04 (ARM) Kernel: Depends on container host Compiler: gcc (Ubuntu 9.4.0-1ubuntu1~20.04.2) 9.4.0 Ubuntu 22.04 (ARM) Kernel: Depends on container host Compiler: gcc (Ubuntu 11.4.0-1ubuntu1~22.04) 11.4.0 Ubuntu 20.04 ARM SVE Kernel: Depends on container host Compiler: gcc (Ubuntu 10.5.0-1ubuntu1~20.04) 10.5.0 To view detailed results, visit: https://lab.dpdk.org/results/dashboard/patchsets/32670/ UNH-IOL DPDK Community Lab To manage your email subscriptions, visit: https://lab.dpdk.org/results/dashboard/preferences/subscriptions/