From mboxrd@z Thu Jan 1 00:00:00 1970 Return-Path: Received: from mails.dpdk.org (mails.dpdk.org [217.70.189.124]) by inbox.dpdk.org (Postfix) with ESMTP id 13A51462B4 for ; Tue, 25 Feb 2025 05:20:54 +0100 (CET) Received: from mails.dpdk.org (localhost [127.0.0.1]) by mails.dpdk.org (Postfix) with ESMTP id DF64140662; Tue, 25 Feb 2025 05:20:53 +0100 (CET) Received: from mail-il1-f226.google.com (mail-il1-f226.google.com [209.85.166.226]) by mails.dpdk.org (Postfix) with ESMTP id 80BF5402B1 for ; Tue, 25 Feb 2025 05:20:52 +0100 (CET) Received: by mail-il1-f226.google.com with SMTP id e9e14a558f8ab-3d1987cce10so40930785ab.3 for ; Mon, 24 Feb 2025 20:20:52 -0800 (PST) DKIM-Signature: v=1; a=rsa-sha256; c=relaxed/relaxed; d=iol.unh.edu; s=unh-iol; t=1740457252; x=1741062052; darn=dpdk.org; h=references:in-reply-to:cc:to:from:subject:message-id:date:from:to :cc:subject:date:message-id:reply-to; bh=HwEhsM37PHPPGGL4M4YvaSaHCbPPecZ0Ba1ui+Aobbc=; b=QbaC5IFh2qopbEUPVJUiFsNLlyx6wRKeiW1aq53dxpZfWkj6HqgCT9fpHo2QyMJ/9z y+Gq/Gp1tAc6MysgRvpMwg9naXq9Eviuvg5y1sQ01L4ePRnr8i/7w7Axv0IhrcLh5jBx o+JPvzuJaJhMxNeWabAhp71/h/SSc5hbm8JJg= X-Google-DKIM-Signature: v=1; a=rsa-sha256; c=relaxed/relaxed; d=1e100.net; s=20230601; t=1740457252; x=1741062052; h=references:in-reply-to:cc:to:from:subject:message-id:date :x-gm-message-state:from:to:cc:subject:date:message-id:reply-to; bh=HwEhsM37PHPPGGL4M4YvaSaHCbPPecZ0Ba1ui+Aobbc=; b=Kd0ZhELeWRNFtaY6Q8HOGyz6eb8BPq5YATxrGwoup4u9rdahL4aCEB1sE+Edz+ncbM jXWFxq6QAg91PbsoERMVtCb1qEM5BTPTqaFB7Vf9kAX4OuzmlpcfvV3k/OL7bX/K4Vsg /hBhNdg1OYA9aPv/jjnS6epblX6g1TVY43tVPw8axwPBOnddrOQ6OIDoHNCexkBGrTTx IWRL/8cwquXZvPhgjmU6tKmrooFeyEEjr/JLsdANMqrF39HwhXVGKMxMmblCGHXogq0P zrWUZLqp0AR09Mg16I+r206qE56KKtvW/sZxJH1JQCDUTQpke268cN0hxnxjpLKBGoIA tuzg== X-Gm-Message-State: AOJu0YyJvFaHJTkf5anddBB/PET/l5ZnEbtdUEZZYQhTxkeRi0Lhmgt4 pNOryaWqBhbO2Wgj7NbZZOvuUvcOjRpQra3V0JOuh2NG+d5thg31mUR1dpYYTlwe49LQq3sFbnv Jfiql9id1Cf2nkm4nWAYvNxdb1vmFgNXWoUOpFXOY X-Gm-Gg: ASbGnctU7sKxFOfBSIYzmAlbe+myywxujYwyCSEntcPgoxeo8pjf0vQszfo7Ky8ibAy /wEp0nqtZmpYfAkFMfobvI3ihqArh2yEA/Ya+fXV/By/XDcDGm50zcsWWecoVCnYxd0/O1yPDEe YZXmbO5EQtFTOaThQ2AD6rNgCjIo8V3Fw4un7cp/Hv1HbCB46lTiWTFgSgTx4ENctJm1NLs2Uxt QwGBLu6cfNywDQnzRulGz5KG9NmghkcHkI9XX4szGJjNsEqnPQrhHSU2PPDfpsbFQAFgypE3iuI 4tF86HJ7h7+uC0ewLBA6fBOABF8FJqMwfidGGsqD X-Google-Smtp-Source: AGHT+IEXWeE3YrOmXlbbG6p0g4RxQV/dMTGdPc7TCKZNCh20A5OseWj/1oRRQfSSSrnhN5o2WwRXtvZ+K8Lj X-Received: by 2002:a05:6e02:1706:b0:3d2:b6e0:79b4 with SMTP id e9e14a558f8ab-3d2cae6b5a4mr147855105ab.8.1740457251851; Mon, 24 Feb 2025 20:20:51 -0800 (PST) Received: from postal.iol.unh.edu (postal.iol.unh.edu. [132.177.123.84]) by smtp-relay.gmail.com with ESMTPS id e9e14a558f8ab-3d361641784sm431115ab.3.2025.02.24.20.20.51 (version=TLS1_2 cipher=ECDHE-ECDSA-AES128-GCM-SHA256 bits=128/128); Mon, 24 Feb 2025 20:20:51 -0800 (PST) X-Relaying-Domain: iol.unh.edu Date: Mon, 24 Feb 2025 20:20:51 -0800 (PST) Message-ID: <67bd4523.050a0220.3a272d.27faSMTPIN_ADDED_MISSING@mx.google.com> Received: from [172.21.0.8] (unknown [172.18.0.240]) by postal.iol.unh.edu (Postfix) with ESMTP id 4BADF6052471; Mon, 24 Feb 2025 23:20:51 -0500 (EST) Subject: |SUCCESS| pw151973 [PATCH] [v3,1/1] pcapng: fix null dereference in From: dpdklab@iol.unh.edu To: Test Report Cc: dpdk-test-reports@iol.unh.edu In-Reply-To: <20250224164031.587829-2-ariel.otilibili@6wind.com> References: <20250224164031.587829-2-ariel.otilibili@6wind.com> Content-Type: text/plain X-BeenThere: test-report@dpdk.org X-Mailman-Version: 2.1.29 Precedence: list List-Id: automatic DPDK test reports List-Unsubscribe: , List-Archive: List-Post: List-Help: List-Subscribe: , Errors-To: test-report-bounces@dpdk.org Test-Label: iol-compile-arm64-testing Test-Status: SUCCESS http://dpdk.org/patch/151973 _Testing PASS_ Submitter: Ariel Otilibili Date: Monday, February 24 2025 16:40:31 DPDK git baseline: Repo:dpdk Branch: master CommitID:fab31a03ba98e7457284df95dd9eef2223a4ccaa 151973 --> testing pass Upstream job id: Generic-DPDK-Compile-Meson#364888 Test environment and result as below: +----------------------------------------+--------------------+ | Environment | dpdk_meson_compile | +========================================+====================+ | RHEL9 (ARM) | PASS | +----------------------------------------+--------------------+ | Ubuntu 20.04 ARM GCC Cross Compile | PASS | +----------------------------------------+--------------------+ | Debian 12 with MUSDK | PASS | +----------------------------------------+--------------------+ | Ubuntu 20.04 ARM SVE | PASS | +----------------------------------------+--------------------+ | Fedora 40 (ARM) | PASS | +----------------------------------------+--------------------+ | Fedora 41 (ARM) | PASS | +----------------------------------------+--------------------+ | Fedora 41 (ARM Clang) | PASS | +----------------------------------------+--------------------+ | Ubuntu 22.04 (ARM) | PASS | +----------------------------------------+--------------------+ | Ubuntu 20.04 (ARM) | PASS | +----------------------------------------+--------------------+ | Ubuntu 24.04 (ARM) | PASS | +----------------------------------------+--------------------+ | CentOS Stream 9 (ARM) | PASS | +----------------------------------------+--------------------+ | CentOS Stream 10 (ARM) | PASS | +----------------------------------------+--------------------+ | Debian 11 (Buster) (ARM) | PASS | +----------------------------------------+--------------------+ | Ubuntu 20.04 ARM Clang Cross Compile | PASS | +----------------------------------------+--------------------+ | Ubuntu 20.04 aarch32 GCC Cross Compile | PASS | +----------------------------------------+--------------------+ | Debian 12 (arm) | PASS | +----------------------------------------+--------------------+ | Fedora 40 (ARM Clang) | PASS | +----------------------------------------+--------------------+ RHEL9 (ARM) Kernel: Depends on container host Compiler: gcc 11.5.0 20240719 (Red Hat 11.5.0-2) Ubuntu 20.04 ARM GCC Cross Compile Kernel: Depends on container host Compiler: aarch64-linux-gnu-gcc (Ubuntu 9.4.0-1ubuntu1~20.04.2) 9.4.0 Debian 12 with MUSDK Kernel: Depends on container host Compiler: gcc (Debian 12.2.0-14) 12.2.0 Ubuntu 20.04 ARM SVE Kernel: Depends on container host Compiler: gcc (Ubuntu 10.5.0-1ubuntu1~20.04) 10.5.0 Fedora 40 (ARM) Kernel: Depends on container host Compiler: gcc 14.2.1 20240912 (Red Hat 14.2.1-3) Fedora 41 (ARM) Kernel: Depends on container host Compiler: gcc 14.2.1 20240912 (Red Hat 14.2.1-3) Fedora 41 (ARM Clang) Kernel: Depends on container host Compiler: clang 19.1.5 (Fedora 19.1.5-1.fc41) Ubuntu 22.04 (ARM) Kernel: Depends on container host Compiler: gcc (Ubuntu 11.4.0-1ubuntu1~22.04) 11.4.0 Ubuntu 20.04 (ARM) Kernel: Depends on container host Compiler: gcc (Ubuntu 9.4.0-1ubuntu1~20.04.2) 9.4.0 Ubuntu 24.04 (ARM) Kernel: Depends on container host Compiler: gcc (Ubuntu 13.3.0-6ubuntu2~24.04) 13.3.0 CentOS Stream 9 (ARM) Kernel: Depends on container host Compiler: gcc 11.5.0 20240719 (Red Hat 11.5.0-2) CentOS Stream 10 (ARM) Kernel: Depends on container host Compiler: gcc 14.2.1 20241104 (Red Hat 14.2.1-6) Debian 11 (Buster) (ARM) Kernel: Depends on container host Compiler: gcc (Debian 10.2.1-6) 10.2.1 20210110 Ubuntu 20.04 ARM Clang Cross Compile Kernel: Depends on container host Compiler: clang 10.0.0-4ubuntu1 Ubuntu 20.04 aarch32 GCC Cross Compile Kernel: Depends on container host Compiler: gcc 9.4.0 Debian 12 (arm) Kernel: Depends on container host Compiler: gcc (Debian 12.2.0-14) 12.2.0 Fedora 40 (ARM Clang) Kernel: Depends on container host Compiler: clang 18.1.8 (Fedora 18.1.8-1.fc40) To view detailed results, visit: https://lab.dpdk.org/results/dashboard/patchsets/32669/ UNH-IOL DPDK Community Lab To manage your email subscriptions, visit: https://lab.dpdk.org/results/dashboard/preferences/subscriptions/