From mboxrd@z Thu Jan 1 00:00:00 1970 Return-Path: Received: from mails.dpdk.org (mails.dpdk.org [217.70.189.124]) by inbox.dpdk.org (Postfix) with ESMTP id 3814C462B4 for ; Tue, 25 Feb 2025 05:21:49 +0100 (CET) Received: from mails.dpdk.org (localhost [127.0.0.1]) by mails.dpdk.org (Postfix) with ESMTP id 2F93C40662; Tue, 25 Feb 2025 05:21:49 +0100 (CET) Received: from mail-pj1-f98.google.com (mail-pj1-f98.google.com [209.85.216.98]) by mails.dpdk.org (Postfix) with ESMTP id D940A402B1 for ; Tue, 25 Feb 2025 05:21:47 +0100 (CET) Received: by mail-pj1-f98.google.com with SMTP id 98e67ed59e1d1-2fc0026eb79so10519029a91.0 for ; Mon, 24 Feb 2025 20:21:47 -0800 (PST) DKIM-Signature: v=1; a=rsa-sha256; c=relaxed/relaxed; d=iol.unh.edu; s=unh-iol; t=1740457307; x=1741062107; darn=dpdk.org; h=references:in-reply-to:cc:to:from:subject:message-id:date:from:to :cc:subject:date:message-id:reply-to; bh=5K/VEK75D4X5agaADocNl3MfkP929HTFkfiJWMZLryg=; b=YAGR26zAvgrNkjaCeD1naY7Qy6069ms0K6cGER0gD+6bsKWPoGTA66YTg0p8JqSk+M LINHkjQvYunbW+pc3qwVo/Y3Ni2LikvdpY8o7wYEzjqVpA8vXNAO0BfdiDHoc7wO7j9N dhONVZSyngzUruHO+Vd+OOcn9QUGkk5YarsZk= X-Google-DKIM-Signature: v=1; a=rsa-sha256; c=relaxed/relaxed; d=1e100.net; s=20230601; t=1740457307; x=1741062107; h=references:in-reply-to:cc:to:from:subject:message-id:date :x-gm-message-state:from:to:cc:subject:date:message-id:reply-to; bh=5K/VEK75D4X5agaADocNl3MfkP929HTFkfiJWMZLryg=; b=QvmGNVbap1gqeLiXjmu0lYFGmXDluS7WOEGpmwIQbYFmmeOWACEQtj4W/1WZDc9ymQ UgC88I3CfNzjuMu6iUw6A3r/qQBFYnuK4Ie6iW7NOAQty14YDvIRU1kjZpfh0lVmr/sJ Tv+T1/DHCIEZh3gdbigFbXEIdnxY3mb4w+sr5/BQyILYiW4+tLj7C/pt125bWam+Qzf0 W3NOMhPYG4QKOhRWF1HanDyr85Pz5TCcgnWvDmpbgLSnNpLRtC45RRz6wh4JdlbNDIuk GHRVpTYmAxR1WM1A9oQbhWsDDRSvAGwZ2ks1wWUvsWbPCMcxir4dH+ZlhsFX7OO1uimd 4EBA== X-Gm-Message-State: AOJu0YyiyxMCEvJLtVVkhrH+/E2NTncfbht1YfaU8deOtWHamoQgbK2Z jSH3a/K1WfLzUqkngxmxOVDWRTmmemRKjW/d0ou8Yyx4GoacDNuS4KrBoM8IIXsnNiyTNjHAUCU NG4DifU4Xnn8FZcm0FRyO+CbEnvBKrs4m06+7ogro X-Gm-Gg: ASbGncvTnNOzY82r/Wn1xLrqokjMKzGXT3qbRF6791jkRUzWDstTFD2cyaaO7oOK1E6 F595w4VGkauaIrQoP6yS15Hf8tI4cUq+ViRT9MOgZyUvILd8UEcO3stmBupDBLaSVUTsDrvMWR2 TklE8FzEdRmkKVoHmKSyqzVIzpgvZzxPi9xW2JmtohoqGGO4MxzjrlHOH+U9ZyHEdlLdTGIi3UV pewhxeU0yg93JtEGykJQXN/2ifFogeE1QnqON4ckM2NVk5QCrmJkr85riMxlTfkFZJyxq+Z/lo1 t4WernLv/LzefzIgC0W5YM8lxn+1VgqgMRD3n0DF X-Google-Smtp-Source: AGHT+IF4wck4GZSmCDUMq4/pRW/oaiVzd4UPZe9ZUqnpMf9QtyxJpzRQw42QCJ164WxX8bqEZ3fbhQQpYlbx X-Received: by 2002:a17:90b:2e0d:b0:2fa:2124:8782 with SMTP id 98e67ed59e1d1-2fce7b1f6afmr27133499a91.25.1740457306952; Mon, 24 Feb 2025 20:21:46 -0800 (PST) Received: from postal.iol.unh.edu (postal.iol.unh.edu. [132.177.123.84]) by smtp-relay.gmail.com with ESMTPS id 98e67ed59e1d1-2fe6a3f3b51sm43305a91.3.2025.02.24.20.21.46 (version=TLS1_2 cipher=ECDHE-ECDSA-AES128-GCM-SHA256 bits=128/128); Mon, 24 Feb 2025 20:21:46 -0800 (PST) X-Relaying-Domain: iol.unh.edu Date: Mon, 24 Feb 2025 20:21:46 -0800 (PST) Message-ID: <67bd455a.170a0220.197fda.2800SMTPIN_ADDED_MISSING@mx.google.com> Received: from [172.21.0.7] (unknown [172.18.0.240]) by postal.iol.unh.edu (Postfix) with ESMTP id 0D2806052471; Mon, 24 Feb 2025 23:21:46 -0500 (EST) Subject: |SUCCESS| pw151974-151976 [PATCH] [v5,3/3] app/test: add SM4 GCM tes From: dpdklab@iol.unh.edu To: Test Report Cc: dpdk-test-reports@iol.unh.edu In-Reply-To: <20250224165939.717714-3-brian.dooley@intel.com> References: <20250224165939.717714-3-brian.dooley@intel.com> Content-Type: text/plain X-BeenThere: test-report@dpdk.org X-Mailman-Version: 2.1.29 Precedence: list List-Id: automatic DPDK test reports List-Unsubscribe: , List-Archive: List-Post: List-Help: List-Subscribe: , Errors-To: test-report-bounces@dpdk.org Test-Label: iol-compile-amd64-testing Test-Status: SUCCESS http://dpdk.org/patch/151976 _Testing PASS_ Submitter: Brian Dooley Date: Monday, February 24 2025 16:59:39 DPDK git baseline: Repo:dpdk Branch: master CommitID:fab31a03ba98e7457284df95dd9eef2223a4ccaa 151974-151976 --> testing pass Upstream job id: Windows-Compile-DPDK-VS#5031 Test environment and result as below: +---------------------+--------------------+-------------------+------------------+-------------------------+----------------------+-------------------+ | Environment | dpdk_meson_compile | dpdk_compile_spdk | dpdk_compile_ovs | dpdk_llvm_clang_compile | dpdk_mingw64_compile | dpdk_msvc_compile | +=====================+====================+===================+==================+=========================+======================+===================+ | CentOS Stream 9 | PASS | PASS | SKIPPED | SKIPPED | SKIPPED | SKIPPED | +---------------------+--------------------+-------------------+------------------+-------------------------+----------------------+-------------------+ | CentOS Stream 10 | PASS | SKIPPED | SKIPPED | SKIPPED | SKIPPED | SKIPPED | +---------------------+--------------------+-------------------+------------------+-------------------------+----------------------+-------------------+ | Debian Bullseye | PASS | PASS | SKIPPED | SKIPPED | SKIPPED | SKIPPED | +---------------------+--------------------+-------------------+------------------+-------------------------+----------------------+-------------------+ | Debian 12 | PASS | PASS | SKIPPED | SKIPPED | SKIPPED | SKIPPED | +---------------------+--------------------+-------------------+------------------+-------------------------+----------------------+-------------------+ | Fedora 40 (Clang) | PASS | PASS | SKIPPED | SKIPPED | SKIPPED | SKIPPED | +---------------------+--------------------+-------------------+------------------+-------------------------+----------------------+-------------------+ | Fedora 40 | PASS | PASS | SKIPPED | SKIPPED | SKIPPED | SKIPPED | +---------------------+--------------------+-------------------+------------------+-------------------------+----------------------+-------------------+ | RHEL8 | PASS | SKIPPED | SKIPPED | SKIPPED | SKIPPED | SKIPPED | +---------------------+--------------------+-------------------+------------------+-------------------------+----------------------+-------------------+ | openSUSE Leap 15 | PASS | SKIPPED | SKIPPED | SKIPPED | SKIPPED | SKIPPED | +---------------------+--------------------+-------------------+------------------+-------------------------+----------------------+-------------------+ | Fedora 41 | PASS | PASS | PASS | SKIPPED | SKIPPED | SKIPPED | +---------------------+--------------------+-------------------+------------------+-------------------------+----------------------+-------------------+ | Fedora 41 (Clang) | PASS | PASS | PASS | SKIPPED | SKIPPED | SKIPPED | +---------------------+--------------------+-------------------+------------------+-------------------------+----------------------+-------------------+ | RHEL9 | PASS | SKIPPED | SKIPPED | SKIPPED | SKIPPED | SKIPPED | +---------------------+--------------------+-------------------+------------------+-------------------------+----------------------+-------------------+ | Ubuntu 20.04 | PASS | SKIPPED | SKIPPED | SKIPPED | SKIPPED | SKIPPED | +---------------------+--------------------+-------------------+------------------+-------------------------+----------------------+-------------------+ | Ubuntu 22.04 | PASS | PASS | SKIPPED | SKIPPED | SKIPPED | SKIPPED | +---------------------+--------------------+-------------------+------------------+-------------------------+----------------------+-------------------+ | Ubuntu 24.04 | PASS | PASS | PASS | SKIPPED | SKIPPED | SKIPPED | +---------------------+--------------------+-------------------+------------------+-------------------------+----------------------+-------------------+ | Alpine | PASS | SKIPPED | SKIPPED | SKIPPED | SKIPPED | SKIPPED | +---------------------+--------------------+-------------------+------------------+-------------------------+----------------------+-------------------+ | FreeBSD 13.4 | PASS | SKIPPED | SKIPPED | SKIPPED | SKIPPED | SKIPPED | +---------------------+--------------------+-------------------+------------------+-------------------------+----------------------+-------------------+ | FreeBSD 14.2 | PASS | SKIPPED | SKIPPED | SKIPPED | SKIPPED | SKIPPED | +---------------------+--------------------+-------------------+------------------+-------------------------+----------------------+-------------------+ | Windows Server 2022 | SKIPPED | SKIPPED | SKIPPED | PASS | PASS | PASS | +---------------------+--------------------+-------------------+------------------+-------------------------+----------------------+-------------------+ CentOS Stream 9 Kernel: Depends on container host Compiler: gcc 11.5.0 20240719 (Red Hat 11.5.0-2) CentOS Stream 10 Kernel: Depends on container host Compiler: gcc 14.2.1 20241104 (Red Hat 14.2.1-6) Debian Bullseye Kernel: Depends on container host Compiler: gcc (Debian 10.2.1-6) 10.2.1 20210110 Debian 12 Kernel: Depends on container host Compiler: gcc (Debian 12.2.0-14) 12.2.0 Fedora 40 (Clang) Kernel: Depends on container host Compiler: clang 18.1.8 (Fedora 18.1.8-1.fc40) Fedora 40 Kernel: Depends on container host Compiler: gcc 14.2.1 20240912 (Red Hat 14.2.1-3) RHEL8 Kernel: Depends on container host Compiler: gcc 8.5.0 20210514 (Red Hat 8.5.0-22) openSUSE Leap 15 Kernel: Depends on container host Compiler: gcc (SUSE Linux) 7.5.0 Fedora 41 Kernel: Depends on container host Compiler: gcc 14.2.1 20240912 (Red Hat 14.2.1-3) Fedora 41 (Clang) Kernel: Depends on container host Compiler: clang 19.1.5 (Fedora 19.1.5-1.fc41) RHEL9 Kernel: Depends on container host Compiler: gcc 11.5.0 20240719 (Red Hat 11.5.0-2) Ubuntu 20.04 Kernel: Depends on container host Compiler: gcc (Ubuntu 9.4.0-1ubuntu1~20.04.2) 9.4.0 Ubuntu 22.04 Kernel: Depends on container host Compiler: gcc (Ubuntu 11.4.0-1ubuntu1~22.04) 11.4.0 Ubuntu 24.04 Kernel: Depends on container host Compiler: gcc (Ubuntu 13.3.0-6ubuntu2~24.04) 13.3.0 Alpine Kernel: Depends on container host Compiler: gcc (Alpine 14.2.0) 14.2.0 FreeBSD 13.4 Kernel: 13.4-RELEASE-p1 Compiler: clang 18.1.6 FreeBSD 14.2 Kernel: 14.2-RELEASE Compiler: clang 18.1.6 Windows Server 2022 Kernel: 10.0.20348.2031 Compiler: clang 15.0.7, gcc 14.1.0 (MinGW), and MSVC VS 19.39.33521 To view detailed results, visit: https://lab.dpdk.org/results/dashboard/patchsets/32670/ UNH-IOL DPDK Community Lab To manage your email subscriptions, visit: https://lab.dpdk.org/results/dashboard/preferences/subscriptions/