From mboxrd@z Thu Jan 1 00:00:00 1970 Return-Path: Received: from mails.dpdk.org (mails.dpdk.org [217.70.189.124]) by inbox.dpdk.org (Postfix) with ESMTP id 4011A462B4 for ; Tue, 25 Feb 2025 05:43:56 +0100 (CET) Received: from mails.dpdk.org (localhost [127.0.0.1]) by mails.dpdk.org (Postfix) with ESMTP id 17BCD40662; Tue, 25 Feb 2025 05:43:56 +0100 (CET) Received: from mail-io1-f100.google.com (mail-io1-f100.google.com [209.85.166.100]) by mails.dpdk.org (Postfix) with ESMTP id 374E3402B1 for ; Tue, 25 Feb 2025 05:43:54 +0100 (CET) Received: by mail-io1-f100.google.com with SMTP id ca18e2360f4ac-855bb6041a6so127366639f.0 for ; Mon, 24 Feb 2025 20:43:54 -0800 (PST) DKIM-Signature: v=1; a=rsa-sha256; c=relaxed/relaxed; d=iol.unh.edu; s=unh-iol; t=1740458633; x=1741063433; darn=dpdk.org; h=references:in-reply-to:cc:to:from:subject:message-id:date:from:to :cc:subject:date:message-id:reply-to; bh=LAYHuAVWB3dyeRkwsdx4nWBP/kExEPykyRQ5cKuopgI=; b=jVQvl9LT+pPBR+u/6mTlxtjSUgPyRLxb0imeqWFvKYGDJU8ThB2aHpAwHoHWWeAJEV DHObo8CGXPdnX8YSg3LvMhydB0ijQEn33kJfl39I/FMEi6zPcQB8ODECH6TnE9rTZMsc P2VEH/cDjdNGq+A3xOgdmojjoSEKNLEiNKM34= X-Google-DKIM-Signature: v=1; a=rsa-sha256; c=relaxed/relaxed; d=1e100.net; s=20230601; t=1740458633; x=1741063433; h=references:in-reply-to:cc:to:from:subject:message-id:date :x-gm-message-state:from:to:cc:subject:date:message-id:reply-to; bh=LAYHuAVWB3dyeRkwsdx4nWBP/kExEPykyRQ5cKuopgI=; b=RfFdGCxqnw7l+xQHr09nNufmMUed37+CqP2e3HdRFNvhMwDa0s0509MTbV2XdD3nfj 73Hcyr3XmbMI293T5v6BkwFeNUWG87A8ViZj3qtzKkyiEbKYl6mIVw5gcBTf4AwYQWnG y9l23NTl9gy/whu7l93NqESrkwFWK3qQYXB80vWLrIq5iSL51JEJCJXZAw59miZlEynM +FSpmelW8Rbcid5jAteaFyAu3mwvtOj/V0WffQ68F3P7Hidw+gFtsYA6nFoczQ085ZEt 1QDpcs34H67YV4TOqEwUwBxDSZjt/4jEd9TFMiwxjSnhwO85BaxtjDy9TJlbZzNiLSaQ G6dA== X-Gm-Message-State: AOJu0YwOe+wAcjH3tuYhfeXVvow0pcVvdjZNTvDnvIjpbYBzFw8+2hPb OqVw1c+T7CBSkDKl8YnGfXfs1ywwAKGpguSTeTLFo4RBG9UYv6rEv9OHKkkvrUfv2gs2qKLMzDx i2Ud706c3bY6lQDtONxBpBRO1ZyXUrPNQGEK/hcdd X-Gm-Gg: ASbGncu+Nc3ZYLF1LYTe0bKD1bzb9bXSELhvHSUYrdin409l7SCQFQAU8u2M1vn0YQa c201UdQXAbjPhFwWL9RKOxV8Zl2jPBdKL6be/IwlqZ7W/Sq4RNgtHMdTF7T4ka6Znd2k1oRYHyQ pggLNj+m8vJ5/mJmDTmNEdZTkeI1eTlCxOLGc7WZmQioMvrTbZQWrC2PuYpH1pYDvq2fsaZw+/8 FqOFTy58PwxU1UAx8hv5aaxfd/7KvHi+hQcK31Gah9c4XYDZQi5g0EC+rgKjoAdF4bPjAXuThjD JFB0887NV0MpblJ1hu38GosgBEk+T5QfSUPpkkmH X-Google-Smtp-Source: AGHT+IHV7eCCEeWo/m1nXGdUOOJW19FDTOhhFJ4gsbsfq8WOq8vR+MK4XUrkdMUAJm9Ou5BYLUeeAGS/eqWX X-Received: by 2002:a05:6e02:1c0f:b0:3d2:1206:cab4 with SMTP id e9e14a558f8ab-3d2caefdca8mr135324495ab.16.1740458633414; Mon, 24 Feb 2025 20:43:53 -0800 (PST) Received: from postal.iol.unh.edu (postal.iol.unh.edu. [132.177.123.84]) by smtp-relay.gmail.com with ESMTPS id 8926c6da1cb9f-4f04748123fsm52737173.24.2025.02.24.20.43.53 (version=TLS1_2 cipher=ECDHE-ECDSA-AES128-GCM-SHA256 bits=128/128); Mon, 24 Feb 2025 20:43:53 -0800 (PST) X-Relaying-Domain: iol.unh.edu Date: Mon, 24 Feb 2025 20:43:53 -0800 (PST) Message-ID: <67bd4a89.050a0220.6679b.3209SMTPIN_ADDED_MISSING@mx.google.com> Received: from [172.21.0.9] (unknown [172.18.0.240]) by postal.iol.unh.edu (Postfix) with ESMTP id D46176052471; Mon, 24 Feb 2025 23:43:52 -0500 (EST) Subject: |SUCCESS| pw151978-151982 [PATCH] [6/6] member: make compatible with From: dpdklab@iol.unh.edu To: Test Report Cc: dpdk-test-reports@iol.unh.edu In-Reply-To: <1740430879-17874-7-git-send-email-andremue@linux.microsoft.com> References: <1740430879-17874-7-git-send-email-andremue@linux.microsoft.com> Content-Type: text/plain X-BeenThere: test-report@dpdk.org X-Mailman-Version: 2.1.29 Precedence: list List-Id: automatic DPDK test reports List-Unsubscribe: , List-Archive: List-Post: List-Help: List-Subscribe: , Errors-To: test-report-bounces@dpdk.org Test-Label: iol-unit-arm64-testing Test-Status: SUCCESS http://dpdk.org/patch/151982 _Testing PASS_ Submitter: Andre Muezerie Date: Monday, February 24 2025 21:01:19 DPDK git baseline: Repo:dpdk Branch: master CommitID:fab31a03ba98e7457284df95dd9eef2223a4ccaa 151978-151982 --> testing pass Upstream job id: Generic-Unit-Test-DPDK#318131 Test environment and result as below: +-----------------------------+----------------+------------------------------+--------------+---------------------------+ | Environment | dpdk_unit_test | cryptodev_sw_snow3g_autotest | lpm_autotest | cryptodev_sw_zuc_autotest | +=============================+================+==============================+==============+===========================+ | 32-bit Ubuntu 22.04.4 (ARM) | PASS | SKIPPED | SKIPPED | SKIPPED | +-----------------------------+----------------+------------------------------+--------------+---------------------------+ | CentOS Stream 9 (ARM) | PASS | SKIPPED | SKIPPED | SKIPPED | +-----------------------------+----------------+------------------------------+--------------+---------------------------+ | Debian 11 (Buster) (ARM) | PASS | SKIPPED | SKIPPED | SKIPPED | +-----------------------------+----------------+------------------------------+--------------+---------------------------+ | CentOS Stream 10 (ARM) | PASS | SKIPPED | SKIPPED | SKIPPED | +-----------------------------+----------------+------------------------------+--------------+---------------------------+ | Fedora 40 (ARM) | PASS | SKIPPED | SKIPPED | SKIPPED | +-----------------------------+----------------+------------------------------+--------------+---------------------------+ | Fedora 40 (ARM Clang) | PASS | SKIPPED | SKIPPED | SKIPPED | +-----------------------------+----------------+------------------------------+--------------+---------------------------+ | Debian 12 (arm) | PASS | PASS | SKIPPED | PASS | +-----------------------------+----------------+------------------------------+--------------+---------------------------+ | Fedora 41 (ARM) | PASS | SKIPPED | SKIPPED | SKIPPED | +-----------------------------+----------------+------------------------------+--------------+---------------------------+ | Fedora 41 (ARM Clang) | PASS | SKIPPED | SKIPPED | SKIPPED | +-----------------------------+----------------+------------------------------+--------------+---------------------------+ | Ubuntu 20.04 (ARM) | PASS | SKIPPED | SKIPPED | SKIPPED | +-----------------------------+----------------+------------------------------+--------------+---------------------------+ | RHEL9 (ARM) | PASS | SKIPPED | SKIPPED | SKIPPED | +-----------------------------+----------------+------------------------------+--------------+---------------------------+ | Ubuntu 22.04 (ARM) | PASS | SKIPPED | SKIPPED | SKIPPED | +-----------------------------+----------------+------------------------------+--------------+---------------------------+ | Ubuntu 24.04 (ARM) | PASS | SKIPPED | SKIPPED | SKIPPED | +-----------------------------+----------------+------------------------------+--------------+---------------------------+ | Ubuntu 20.04 ARM SVE | SKIPPED | SKIPPED | PASS | SKIPPED | +-----------------------------+----------------+------------------------------+--------------+---------------------------+ 32-bit Ubuntu 22.04.4 (ARM) Kernel: 5.15.83+ aarch64 Compiler: gcc (Ubuntu 11.4.0-1ubuntu1~22.04) 11.4.0 CentOS Stream 9 (ARM) Kernel: Depends on container host Compiler: gcc 11.5.0 20240719 (Red Hat 11.5.0-2) Debian 11 (Buster) (ARM) Kernel: Depends on container host Compiler: gcc (Debian 10.2.1-6) 10.2.1 20210110 CentOS Stream 10 (ARM) Kernel: Depends on container host Compiler: gcc 14.2.1 20241104 (Red Hat 14.2.1-6) Fedora 40 (ARM) Kernel: Depends on container host Compiler: gcc 14.2.1 20240912 (Red Hat 14.2.1-3) Fedora 40 (ARM Clang) Kernel: Depends on container host Compiler: clang 18.1.8 (Fedora 18.1.8-1.fc40) Debian 12 (arm) Kernel: Depends on container host Compiler: gcc (Debian 12.2.0-14) 12.2.0 Fedora 41 (ARM) Kernel: Depends on container host Compiler: gcc 14.2.1 20240912 (Red Hat 14.2.1-3) Fedora 41 (ARM Clang) Kernel: Depends on container host Compiler: clang 19.1.5 (Fedora 19.1.5-1.fc41) Ubuntu 20.04 (ARM) Kernel: Depends on container host Compiler: gcc (Ubuntu 9.4.0-1ubuntu1~20.04.2) 9.4.0 RHEL9 (ARM) Kernel: Depends on container host Compiler: gcc 11.5.0 20240719 (Red Hat 11.5.0-2) Ubuntu 22.04 (ARM) Kernel: Depends on container host Compiler: gcc (Ubuntu 11.4.0-1ubuntu1~22.04) 11.4.0 Ubuntu 24.04 (ARM) Kernel: Depends on container host Compiler: gcc (Ubuntu 13.3.0-6ubuntu2~24.04) 13.3.0 Ubuntu 20.04 ARM SVE Kernel: Depends on container host Compiler: gcc (Ubuntu 10.5.0-1ubuntu1~20.04) 10.5.0 To view detailed results, visit: https://lab.dpdk.org/results/dashboard/patchsets/32671/ UNH-IOL DPDK Community Lab To manage your email subscriptions, visit: https://lab.dpdk.org/results/dashboard/preferences/subscriptions/