From mboxrd@z Thu Jan 1 00:00:00 1970 Return-Path: Received: from mails.dpdk.org (mails.dpdk.org [217.70.189.124]) by inbox.dpdk.org (Postfix) with ESMTP id E237A462B4 for ; Tue, 25 Feb 2025 05:51:00 +0100 (CET) Received: from mails.dpdk.org (localhost [127.0.0.1]) by mails.dpdk.org (Postfix) with ESMTP id B772440662; Tue, 25 Feb 2025 05:51:00 +0100 (CET) Received: from mail-yb1-f228.google.com (mail-yb1-f228.google.com [209.85.219.228]) by mails.dpdk.org (Postfix) with ESMTP id 12D2D402B1 for ; Tue, 25 Feb 2025 05:50:59 +0100 (CET) Received: by mail-yb1-f228.google.com with SMTP id 3f1490d57ef6-e46ebe19489so3695066276.2 for ; Mon, 24 Feb 2025 20:50:58 -0800 (PST) DKIM-Signature: v=1; a=rsa-sha256; c=relaxed/relaxed; d=iol.unh.edu; s=unh-iol; t=1740459058; x=1741063858; darn=dpdk.org; h=references:in-reply-to:cc:to:from:subject:message-id:date:from:to :cc:subject:date:message-id:reply-to; bh=sqCn08zGeVBQ8ip74FZhYd2W5WMCiuH8YCdceL7NB7g=; b=C2/QQJ4dyYJ7ZeQHu4KLgGhwIdAyErFFL1wxdEr2g6iUIe2NhdW1g9mPdN44zCmUz0 UYS3K+9VZzZ6IkFZz2lxp1uSs3tBFwo0LLCujbRUqdmM3HkpyfEwwSxcrCTNSmAEF3CJ hjNaOzUJYhf/JrEIJ1s5MZ1GO/vZrBbSbCzVQ= X-Google-DKIM-Signature: v=1; a=rsa-sha256; c=relaxed/relaxed; d=1e100.net; s=20230601; t=1740459058; x=1741063858; h=references:in-reply-to:cc:to:from:subject:message-id:date :x-gm-message-state:from:to:cc:subject:date:message-id:reply-to; bh=sqCn08zGeVBQ8ip74FZhYd2W5WMCiuH8YCdceL7NB7g=; b=m4gkp+ZxM7Qk3L9mRAf2WlqpXwK+jMfbCeQUgaHQO1tavjJ8kn0rmOD4UBCj8fsA2k HWkij9cJOaKRlEL4LArMEgX2uiQytLC4oct1FiIG0zpysVzP6mfOIDvuz35VdbbqqQ1d Hh1tTvPLBTJpC14043xJhVp7a5XnDkOwohmNkpoH5oYTDsMKEkFwK6OPmWurseoFcvSz fiNWDjlNEysCcaOVhuzHMGRtT6J7KsjlNQw6o1ggfMN4mxIwANogaHumMdbv2AGQ2CZH b88zeM9jDO8LaR3BEVWb8HIAgJXYhwi2xECbJdMqwTVNZh5+9pGWqtAzrVD2Pi0B/BBp JmtA== X-Gm-Message-State: AOJu0Yy3k3g6GW8EkzjJTLIK+lqB2g35QR1VFvdG8ggwdvbmDuTD82jE tzROgzUla6lj/6HFMJk9oY8jUB74eDIWYIW8XQb2cIQwQuINXEQq5xpnhPjch7TFPJ2NFzr0tjJ EGAirnKaqqlFSp1aEXSNlmp++R2mTYlntd2/1Wezjt5mVrvuXJ2GEaZOV X-Gm-Gg: ASbGncvvgKZKB4A+9O797XNaEbMUn3/Cad/XIXLQ3Y1c5eFBBQFlQT1wU6IvBL+6CZR R3ckeFt1bOoVSB9+ywTMeRFsxwPkIyoamWBHL3wh/88U8P78IawyRjajNDr6XKS/A+liMBFbcmu tTiBI7/yv/BKzFUXmpHJPA8X/ckXSi1V4cDJHefBbkk0+vKZiu6+Vb718IO5oiDGgRGwC0JHO7d o9tBCAd7wughW2LiP4PTSLQ1/CMbhJ//y4y315SqvTHi9wHG9xEzqg9zk//FvyboUvp9bWiGScm AeJBZF9sQdJvCTOrFltpXK1bjmarQU9jbDYRi9lj6ElSSGPO0mVU X-Google-Smtp-Source: AGHT+IHlAKs6/CttjQWeoszEz8TBNMEu6bZjDt85C5NhyMOBQf70kAJ5eWJYPz6A5xGL6qgqIoefkrQGOM5a X-Received: by 2002:a05:6902:2290:b0:e5b:18ff:8cf4 with SMTP id 3f1490d57ef6-e5e245b5359mr11864142276.5.1740459058366; Mon, 24 Feb 2025 20:50:58 -0800 (PST) Received: from postal.iol.unh.edu (postal.iol.unh.edu. [2606:4100:3880:1234::84]) by smtp-relay.gmail.com with ESMTPS id 3f1490d57ef6-e607b4a02c8sm12708276.23.2025.02.24.20.50.58 (version=TLS1_2 cipher=ECDHE-ECDSA-AES128-GCM-SHA256 bits=128/128); Mon, 24 Feb 2025 20:50:58 -0800 (PST) X-Relaying-Domain: iol.unh.edu Date: Mon, 24 Feb 2025 20:50:58 -0800 (PST) Message-ID: <67bd4c32.050a0220.3d6e54.0d16SMTPIN_ADDED_MISSING@mx.google.com> Received: from [172.21.0.7] (unknown [172.18.0.240]) by postal.iol.unh.edu (Postfix) with ESMTP id E82736052471; Mon, 24 Feb 2025 23:50:57 -0500 (EST) Subject: |SUCCESS| pw151953-151958 [PATCH] [6/6] dts: restore TG setup and te From: dpdklab@iol.unh.edu To: Test Report Cc: dpdk-test-reports@iol.unh.edu In-Reply-To: <20250224132823.196509-7-luca.vizzarro@arm.com> References: <20250224132823.196509-7-luca.vizzarro@arm.com> Content-Type: text/plain X-BeenThere: test-report@dpdk.org X-Mailman-Version: 2.1.29 Precedence: list List-Id: automatic DPDK test reports List-Unsubscribe: , List-Archive: List-Post: List-Help: List-Subscribe: , Errors-To: test-report-bounces@dpdk.org Test-Label: iol-compile-amd64-testing Test-Status: SUCCESS http://dpdk.org/patch/151958 _Testing PASS_ Submitter: Luca Vizzarro Date: Monday, February 24 2025 13:28:23 DPDK git baseline: Repo:dpdk Branch: master CommitID:bdc023381a2c719fa6cb0e1c60aebd9c8c4afa21 151953-151958 --> testing pass Upstream job id: Windows-Compile-DPDK-VS#5032 Test environment and result as below: +---------------------+--------------------+-------------------+------------------+-------------------------+----------------------+-------------------+ | Environment | dpdk_meson_compile | dpdk_compile_spdk | dpdk_compile_ovs | dpdk_llvm_clang_compile | dpdk_mingw64_compile | dpdk_msvc_compile | +=====================+====================+===================+==================+=========================+======================+===================+ | CentOS Stream 9 | PASS | PASS | SKIPPED | SKIPPED | SKIPPED | SKIPPED | +---------------------+--------------------+-------------------+------------------+-------------------------+----------------------+-------------------+ | CentOS Stream 10 | PASS | SKIPPED | SKIPPED | SKIPPED | SKIPPED | SKIPPED | +---------------------+--------------------+-------------------+------------------+-------------------------+----------------------+-------------------+ | Fedora 40 (Clang) | PASS | PASS | SKIPPED | SKIPPED | SKIPPED | SKIPPED | +---------------------+--------------------+-------------------+------------------+-------------------------+----------------------+-------------------+ | Fedora 40 | PASS | PASS | SKIPPED | SKIPPED | SKIPPED | SKIPPED | +---------------------+--------------------+-------------------+------------------+-------------------------+----------------------+-------------------+ | Debian 12 | PASS | PASS | SKIPPED | SKIPPED | SKIPPED | SKIPPED | +---------------------+--------------------+-------------------+------------------+-------------------------+----------------------+-------------------+ | Debian Bullseye | PASS | PASS | SKIPPED | SKIPPED | SKIPPED | SKIPPED | +---------------------+--------------------+-------------------+------------------+-------------------------+----------------------+-------------------+ | Fedora 41 (Clang) | PASS | PASS | PASS | SKIPPED | SKIPPED | SKIPPED | +---------------------+--------------------+-------------------+------------------+-------------------------+----------------------+-------------------+ | openSUSE Leap 15 | PASS | SKIPPED | SKIPPED | SKIPPED | SKIPPED | SKIPPED | +---------------------+--------------------+-------------------+------------------+-------------------------+----------------------+-------------------+ | RHEL9 | PASS | SKIPPED | SKIPPED | SKIPPED | SKIPPED | SKIPPED | +---------------------+--------------------+-------------------+------------------+-------------------------+----------------------+-------------------+ | Fedora 41 | PASS | PASS | PASS | SKIPPED | SKIPPED | SKIPPED | +---------------------+--------------------+-------------------+------------------+-------------------------+----------------------+-------------------+ | RHEL8 | PASS | SKIPPED | SKIPPED | SKIPPED | SKIPPED | SKIPPED | +---------------------+--------------------+-------------------+------------------+-------------------------+----------------------+-------------------+ | Ubuntu 20.04 | PASS | SKIPPED | SKIPPED | SKIPPED | SKIPPED | SKIPPED | +---------------------+--------------------+-------------------+------------------+-------------------------+----------------------+-------------------+ | Ubuntu 22.04 | PASS | PASS | SKIPPED | SKIPPED | SKIPPED | SKIPPED | +---------------------+--------------------+-------------------+------------------+-------------------------+----------------------+-------------------+ | Ubuntu 24.04 | PASS | PASS | PASS | SKIPPED | SKIPPED | SKIPPED | +---------------------+--------------------+-------------------+------------------+-------------------------+----------------------+-------------------+ | Alpine | PASS | SKIPPED | SKIPPED | SKIPPED | SKIPPED | SKIPPED | +---------------------+--------------------+-------------------+------------------+-------------------------+----------------------+-------------------+ | FreeBSD 13.4 | PASS | SKIPPED | SKIPPED | SKIPPED | SKIPPED | SKIPPED | +---------------------+--------------------+-------------------+------------------+-------------------------+----------------------+-------------------+ | FreeBSD 14.2 | PASS | SKIPPED | SKIPPED | SKIPPED | SKIPPED | SKIPPED | +---------------------+--------------------+-------------------+------------------+-------------------------+----------------------+-------------------+ | Windows Server 2022 | SKIPPED | SKIPPED | SKIPPED | PASS | PASS | PASS | +---------------------+--------------------+-------------------+------------------+-------------------------+----------------------+-------------------+ CentOS Stream 9 Kernel: Depends on container host Compiler: gcc 11.5.0 20240719 (Red Hat 11.5.0-2) CentOS Stream 10 Kernel: Depends on container host Compiler: gcc 14.2.1 20241104 (Red Hat 14.2.1-6) Fedora 40 (Clang) Kernel: Depends on container host Compiler: clang 18.1.8 (Fedora 18.1.8-1.fc40) Fedora 40 Kernel: Depends on container host Compiler: gcc 14.2.1 20240912 (Red Hat 14.2.1-3) Debian 12 Kernel: Depends on container host Compiler: gcc (Debian 12.2.0-14) 12.2.0 Debian Bullseye Kernel: Depends on container host Compiler: gcc (Debian 10.2.1-6) 10.2.1 20210110 Fedora 41 (Clang) Kernel: Depends on container host Compiler: clang 19.1.5 (Fedora 19.1.5-1.fc41) openSUSE Leap 15 Kernel: Depends on container host Compiler: gcc (SUSE Linux) 7.5.0 RHEL9 Kernel: Depends on container host Compiler: gcc 11.5.0 20240719 (Red Hat 11.5.0-2) Fedora 41 Kernel: Depends on container host Compiler: gcc 14.2.1 20240912 (Red Hat 14.2.1-3) RHEL8 Kernel: Depends on container host Compiler: gcc 8.5.0 20210514 (Red Hat 8.5.0-22) Ubuntu 20.04 Kernel: Depends on container host Compiler: gcc (Ubuntu 9.4.0-1ubuntu1~20.04.2) 9.4.0 Ubuntu 22.04 Kernel: Depends on container host Compiler: gcc (Ubuntu 11.4.0-1ubuntu1~22.04) 11.4.0 Ubuntu 24.04 Kernel: Depends on container host Compiler: gcc (Ubuntu 13.3.0-6ubuntu2~24.04) 13.3.0 Alpine Kernel: Depends on container host Compiler: gcc (Alpine 14.2.0) 14.2.0 FreeBSD 13.4 Kernel: 13.4-RELEASE-p1 Compiler: clang 18.1.6 FreeBSD 14.2 Kernel: 14.2-RELEASE Compiler: clang 18.1.6 Windows Server 2022 Kernel: 10.0.20348.2031 Compiler: clang 15.0.7, gcc 14.1.0 (MinGW), and MSVC VS 19.39.33521 To view detailed results, visit: https://lab.dpdk.org/results/dashboard/patchsets/32665/ UNH-IOL DPDK Community Lab To manage your email subscriptions, visit: https://lab.dpdk.org/results/dashboard/preferences/subscriptions/