From mboxrd@z Thu Jan 1 00:00:00 1970 Return-Path: Received: from mails.dpdk.org (mails.dpdk.org [217.70.189.124]) by inbox.dpdk.org (Postfix) with ESMTP id 2136D462B5 for ; Tue, 25 Feb 2025 07:32:55 +0100 (CET) Received: from mails.dpdk.org (localhost [127.0.0.1]) by mails.dpdk.org (Postfix) with ESMTP id 25E7340662; Tue, 25 Feb 2025 07:32:54 +0100 (CET) Received: from mail-qt1-f225.google.com (mail-qt1-f225.google.com [209.85.160.225]) by mails.dpdk.org (Postfix) with ESMTP id 16E5B402B1 for ; Tue, 25 Feb 2025 07:32:53 +0100 (CET) Received: by mail-qt1-f225.google.com with SMTP id d75a77b69052e-47201625705so60539381cf.0 for ; Mon, 24 Feb 2025 22:32:53 -0800 (PST) DKIM-Signature: v=1; a=rsa-sha256; c=relaxed/relaxed; d=iol.unh.edu; s=unh-iol; t=1740465172; x=1741069972; darn=dpdk.org; h=references:in-reply-to:cc:to:from:subject:message-id:date:from:to :cc:subject:date:message-id:reply-to; bh=sJHUCRUYEhTYQQmASIjYSJiBtxiSZnyC6hWG7VobCog=; b=Um8tQ83xxoAVQLlCEYOyjd7eSY2t9p5spXR1i9rWpPzTiVhWEafuYgUAX70wmWYzly ENAsA2MDCbHgNmIe6VQPL71X7E8jWl510i4DutQCbxktcrImP97UxtUmkS3h7ydWSE5H rZ/kaFBw1xkSGg5eX5RUX5slU2L3vC4hNYArE= X-Google-DKIM-Signature: v=1; a=rsa-sha256; c=relaxed/relaxed; d=1e100.net; s=20230601; t=1740465172; x=1741069972; h=references:in-reply-to:cc:to:from:subject:message-id:date :x-gm-message-state:from:to:cc:subject:date:message-id:reply-to; bh=sJHUCRUYEhTYQQmASIjYSJiBtxiSZnyC6hWG7VobCog=; b=liaPsaDoPD3qg8ZNs8Q9444MqKrTc+KD9SsUug/R3VdPCHN4X4INvNKu9+5w7dtSjh eK46X97AplRHcmPseaW9WcobOgjHGFdKuQv2Ufo/oy8XagLViXFKzAcuZDZYw8PnErpK +xDyVTgurvxct/Uan9G+1bJiUGeqa7lZRFkOFjt3euD81Fuc5B/6JShQnPAO2PyoO19B g5NCRf6cZ6X7b17IBOCY8uWsxIeb7SIV1LNQhcCNELQAjhkOt3jX2xJJnMKsOPgs9n7r 64do0tSOvlfUQLpLUoPZsrcdjLf+CqAu5s/lQSYjOWoFfY74TeGIa6oOt5JPZP3YoZ/p zlRw== X-Gm-Message-State: AOJu0YyKewmq13A7M7i+ao/fSrPsdhepqFynWOF8oh/jugYKnUk89o9O 9/E7mwqvcOVAl61dfIDvF6CotxMQyRGm/RRPUAX09losrDFN2E0NdvGKuqvL5yU7YdFYVjl5IGO wBYTBMA7aynB4DDAxgCaL4qGR56JF5AYzHvM60XDp X-Gm-Gg: ASbGncv7C7CHIbYLUoaZGCY7qgb4RaSdKn/JjMe3r/n4gKp1OANRAmV3FRC6jVm1LVh faHtz1BnBknadqtaTHpJn1i2Si8pjMnnT7TsJD9LQ72URk2Y//k0j7Pvg9TAyi82P2DftMfPwya VF2kvHGMFFT6JHtk+jI3/iwuyL5YCtMzJ5T/6eHhTnbaEMTf111Uh+jk3spg0Uh3tLJSyZqnuMd KgYcfJHRBWIjWbwpUOArpJtm9uuTDMcabhAfInO0aqOpjFweM5Qf63jLT5XY3jk70bwLO9WALI1 4zOXAOcxZgdU9gdsDvdj+j9QRFsyiOWSHFqzPvNt X-Google-Smtp-Source: AGHT+IG4rIshKDUuARuPEJ7ea81Yp2MKr3BBgVDYkuZeVunfkWk8hQRGZpJB35Y8YUgAXv6gqoNckKMVFzU2 X-Received: by 2002:ac8:5ace:0:b0:467:72c1:7084 with SMTP id d75a77b69052e-47214e957efmr305223901cf.0.1740465172415; Mon, 24 Feb 2025 22:32:52 -0800 (PST) Received: from postal.iol.unh.edu (postal.iol.unh.edu. [132.177.123.84]) by smtp-relay.gmail.com with ESMTPS id d75a77b69052e-47377e16cfasm462831cf.7.2025.02.24.22.32.52 (version=TLS1_2 cipher=ECDHE-ECDSA-AES128-GCM-SHA256 bits=128/128); Mon, 24 Feb 2025 22:32:52 -0800 (PST) X-Relaying-Domain: iol.unh.edu Date: Mon, 24 Feb 2025 22:32:52 -0800 (PST) Message-ID: <67bd6414.c80a0220.3d5cc0.2bf9SMTPIN_ADDED_MISSING@mx.google.com> Received: from [172.17.0.3] (unknown [172.18.0.217]) by postal.iol.unh.edu (Postfix) with ESMTP id 014986052471; Tue, 25 Feb 2025 01:32:51 -0500 (EST) Subject: |WARNING| pw151973 [PATCH] [v3,1/1] pcapng: fix null dereference in From: dpdklab@iol.unh.edu To: Test Report Cc: dpdk-test-reports@iol.unh.edu In-Reply-To: <20250224164031.587829-2-ariel.otilibili@6wind.com> References: <20250224164031.587829-2-ariel.otilibili@6wind.com> Content-Type: text/plain X-BeenThere: test-report@dpdk.org X-Mailman-Version: 2.1.29 Precedence: list List-Id: automatic DPDK test reports List-Unsubscribe: , List-Archive: List-Post: List-Help: List-Subscribe: , Errors-To: test-report-bounces@dpdk.org Test-Label: iol-sample-apps-testing Test-Status: WARNING http://dpdk.org/patch/151973 _Testing issues_ Submitter: Ariel Otilibili Date: Monday, February 24 2025 16:40:31 DPDK git baseline: Repo:dpdk Branch: master CommitID:fab31a03ba98e7457284df95dd9eef2223a4ccaa 151973 --> testing issues Upstream job id: ACVP-FIPS-testing#9035 Test environment and result as below: +--------------------+----------------------+----------------------+ | Environment | compressdev_zlib_pmd | dpdk_fips_validation | +====================+======================+======================+ | Ubuntu 22.04 (ARM) | PASS | SKIPPED | +--------------------+----------------------+----------------------+ | Ubuntu 22.04 | PASS | SKIPPED | +--------------------+----------------------+----------------------+ | Ubuntu 20.04 | SKIPPED | WARN | +--------------------+----------------------+----------------------+ ==== 20 line log output for Ubuntu 20.04 (dpdk_fips_validation): ==== INFO:root:Fetching verdict... INFO:root:Downloading verdict for vector set 2933466 INFO:root:Vector set verdict not ready, waiting 30 seconds... INFO:root:Vector set verdict not ready, waiting 30 seconds... INFO:root:Done INFO:root:Using response file... INFO:root:Uploading response file... INFO:root:Fetching verdict... INFO:root:Downloading verdict for vector set 2933512 INFO:root:Vector set verdict not ready, waiting 30 seconds... INFO:root:Vector set verdict not ready, waiting 30 seconds... INFO:root:Done INFO:root:Using response file... INFO:root:Uploading response file... INFO:root:Fetching verdict... INFO:root:Downloading verdict for vector set 2933513 INFO:root:Vector set verdict not ready, waiting 30 seconds... INFO:root:Vector set verdict not ready, waiting 30 seconds... INFO:root:Vector set verdict not ready, waiting 30 seconds... INFO:root:Done ==== End log output ==== Ubuntu 22.04 (ARM) Kernel: 5.15.0-97-generic Compiler: gcc gcc (Ubuntu 11.4.0-1ubuntu1~22.04) 11.4.0 Ubuntu 22.04 Kernel: 5.15.0-100-generic Compiler: gcc gcc (Ubuntu 11.4.0-1ubuntu1~22.04) 11.4.0 Ubuntu 20.04 Kernel: Depends on container host Compiler: gcc (Ubuntu 9.4.0-1ubuntu1~20.04.2) 9.4.0 To view detailed results, visit: https://lab.dpdk.org/results/dashboard/patchsets/32669/ UNH-IOL DPDK Community Lab To manage your email subscriptions, visit: https://lab.dpdk.org/results/dashboard/preferences/subscriptions/